BEGIN:VCALENDAR
VERSION:2.0
PRODID:-//85.13.129.106//NONSGML kigkonsult.se iCalcreator 2.10.23//
BEGIN:VEVENT
UID:20260422T113317CEST-4928ak7cZa@85.13.129.106
DTSTAMP:20260422T093317Z
DESCRIPTION:
DTSTART;TZID=Europe/Berlin:20141002T173000
DTEND;TZID=Europe/Berlin:20141002T191500
LOCATION:
SUMMARY:14/15 D1-Jun. TFV-Pokal: FSV Sömmerda D - FC Union Mühlhausen D
END:VEVENT
BEGIN:VEVENT
UID:20260422T113317CEST-49334PpvRx@85.13.129.106
DTSTAMP:20260422T093317Z
DESCRIPTION:
DTSTART;TZID=Europe/Berlin:20141115T103000
DTEND;TZID=Europe/Berlin:20141115T121500
LOCATION:
SUMMARY:14/15 D1-Jun. TFV-Pokal: SG SV Germania Ilmenau D - FSV Sömmerda D
END:VEVENT
BEGIN:VEVENT
UID:20260422T113317CEST-49370M1lOk@85.13.129.106
DTSTAMP:20260422T093317Z
DESCRIPTION:
DTSTART;TZID=Europe/Berlin:20150328T103000
DTEND;TZID=Europe/Berlin:20150328T121500
LOCATION:
SUMMARY:14/15 D1-Jun. TFV-Pokal: FSV Sömmerda D - TSV 1928 Kromsdorf D
END:VEVENT
BEGIN:VEVENT
UID:20260422T113317CEST-4942xCBMe7@85.13.129.106
DTSTAMP:20260422T093317Z
DESCRIPTION:
DTSTART;TZID=Europe/Berlin:20150501T140000
DTEND;TZID=Europe/Berlin:20150501T154500
LOCATION:
SUMMARY:14/15 D1-Jun. TFV-Pokal: FSV Sömmerda D - FC Rot-Weiß Erfurt D
END:VEVENT
END:VCALENDAR
