BEGIN:VCALENDAR
VERSION:2.0
PRODID:-//85.13.129.106//NONSGML kigkonsult.se iCalcreator 2.10.23//
BEGIN:VEVENT
UID:20260422T214937CEST-7967napI6T@85.13.129.106
DTSTAMP:20260422T194937Z
DESCRIPTION:
DTSTART;TZID=Europe/Berlin:20130817T173000
DTEND;TZID=Europe/Berlin:20130817T191500
LOCATION:
SUMMARY:13/14 Herren 2.KK-O: SG 1951 Sonneberg II - FC Heinersdorf
END:VEVENT
BEGIN:VEVENT
UID:20260422T214937CEST-79723auZg5@85.13.129.106
DTSTAMP:20260422T194937Z
DESCRIPTION:
DTSTART;TZID=Europe/Berlin:20130825T140000
DTEND;TZID=Europe/Berlin:20130825T154500
LOCATION:
SUMMARY:13/14 Herren 2.KK-O: FC Heinersdorf - SG Haselbach/ Hasenthal
END:VEVENT
BEGIN:VEVENT
UID:20260422T214937CEST-7976jvEO6V@85.13.129.106
DTSTAMP:20260422T194937Z
DESCRIPTION:
DTSTART;TZID=Europe/Berlin:20130901T140000
DTEND;TZID=Europe/Berlin:20130901T154500
LOCATION:
SUMMARY:13/14 Herren 2.KK-O: SV Rottmar/Gefell - FC Heinersdorf
END:VEVENT
BEGIN:VEVENT
UID:20260422T214937CEST-7981ojm5Tc@85.13.129.106
DTSTAMP:20260422T194937Z
DESCRIPTION:
DTSTART;TZID=Europe/Berlin:20130915T150000
DTEND;TZID=Europe/Berlin:20130915T164500
LOCATION:
SUMMARY:13/14 Herren 2.KK-O: VfR Jagdshof 1931 - FC Heinersdorf
END:VEVENT
BEGIN:VEVENT
UID:20260422T214937CEST-7985rGsuEH@85.13.129.106
DTSTAMP:20260422T194937Z
DESCRIPTION:
DTSTART;TZID=Europe/Berlin:20130922T140000
DTEND;TZID=Europe/Berlin:20130922T154500
LOCATION:
SUMMARY:13/14 Herren 2.KK-O: FC Heinersdorf - SV Rennsteig Ernstthal
END:VEVENT
BEGIN:VEVENT
UID:20260422T214937CEST-799045nR82@85.13.129.106
DTSTAMP:20260422T194937Z
DESCRIPTION:
DTSTART;TZID=Europe/Berlin:20130929T160000
DTEND;TZID=Europe/Berlin:20130929T174500
LOCATION:
SUMMARY:13/14 Herren 2.KK-O: FSV 06 Rauenstein II - FC Heinersdorf
END:VEVENT
BEGIN:VEVENT
UID:20260422T214937CEST-7994HbRUKG@85.13.129.106
DTSTAMP:20260422T194937Z
DESCRIPTION:
DTSTART;TZID=Europe/Berlin:20131006T140000
DTEND;TZID=Europe/Berlin:20131006T154500
LOCATION:
SUMMARY:13/14 Herren 2.KK-O: FC Heinersdorf - FC-BW Schalkau II
END:VEVENT
BEGIN:VEVENT
UID:20260422T214937CEST-7998jADgo8@85.13.129.106
DTSTAMP:20260422T194937Z
DESCRIPTION:
DTSTART;TZID=Europe/Berlin:20131012T150000
DTEND;TZID=Europe/Berlin:20131012T164500
LOCATION:
SUMMARY:13/14 Herren 2.KK-O: FC Heinersdorf - SC 09 Effelder II
END:VEVENT
BEGIN:VEVENT
UID:20260422T214937CEST-8003azSnlh@85.13.129.106
DTSTAMP:20260422T194937Z
DESCRIPTION:
DTSTART;TZID=Europe/Berlin:20131027T140000
DTEND;TZID=Europe/Berlin:20131027T154500
LOCATION:
SUMMARY:13/14 Herren 2.KK-O: FC Heinersdorf - SG 1951 Sonneberg II
END:VEVENT
BEGIN:VEVENT
UID:20260422T214937CEST-8007sGXVOe@85.13.129.106
DTSTAMP:20260422T194937Z
DESCRIPTION:
DTSTART;TZID=Europe/Berlin:20131103T140000
DTEND;TZID=Europe/Berlin:20131103T154500
LOCATION:
SUMMARY:13/14 Herren 2.KK-O: SG Haselbach/ Hasenthal - FC Heinersdorf
END:VEVENT
BEGIN:VEVENT
UID:20260422T214937CEST-80126F2KjE@85.13.129.106
DTSTAMP:20260422T194937Z
DESCRIPTION:
DTSTART;TZID=Europe/Berlin:20140330T140000
DTEND;TZID=Europe/Berlin:20140330T154500
LOCATION:
SUMMARY:13/14 Herren 2.KK-O: FC Heinersdorf - SV Rottmar/Gefell
END:VEVENT
BEGIN:VEVENT
UID:20260422T214937CEST-8016zv7jx4@85.13.129.106
DTSTAMP:20260422T194937Z
DESCRIPTION:
DTSTART;TZID=Europe/Berlin:20140413T140000
DTEND;TZID=Europe/Berlin:20140413T154500
LOCATION:
SUMMARY:13/14 Herren 2.KK-O: FC Heinersdorf - VfR Jagdshof 1931
END:VEVENT
BEGIN:VEVENT
UID:20260422T214937CEST-8020a6cIpI@85.13.129.106
DTSTAMP:20260422T194937Z
DESCRIPTION:
DTSTART;TZID=Europe/Berlin:20140427T130000
DTEND;TZID=Europe/Berlin:20140427T144500
LOCATION:
SUMMARY:13/14 Herren 2.KK-O: SV Rennsteig Ernstthal - FC Heinersdorf
END:VEVENT
BEGIN:VEVENT
UID:20260422T214937CEST-8025kX9B95@85.13.129.106
DTSTAMP:20260422T194937Z
DESCRIPTION:
DTSTART;TZID=Europe/Berlin:20140504T140000
DTEND;TZID=Europe/Berlin:20140504T154500
LOCATION:
SUMMARY:13/14 Herren 2.KK-O: FC Heinersdorf - FSV 06 Rauenstein II
END:VEVENT
BEGIN:VEVENT
UID:20260422T214937CEST-8029KkfhVh@85.13.129.106
DTSTAMP:20260422T194937Z
DESCRIPTION:Schalkau
DTSTART;TZID=Europe/Berlin:20140511T130000
DTEND;TZID=Europe/Berlin:20140511T144500
LOCATION:Katzberger Straße 6\n96528 Schalkau\, 96528 Schalkau
SUMMARY:13/14 Herren 2.KK-O: FC-BW Schalkau II - FC Heinersdorf
END:VEVENT
BEGIN:VEVENT
UID:20260422T214937CEST-8033rcHNZk@85.13.129.106
DTSTAMP:20260422T194937Z
DESCRIPTION:Schalkau
DTSTART;TZID=Europe/Berlin:20140517T140000
DTEND;TZID=Europe/Berlin:20140517T154500
LOCATION:Katzberger Straße 6\n96528 Schalkau\, 96528 Schalkau
SUMMARY:13/14 Herren 2.KK-O: SC 09 Effelder II - FC Heinersdorf
END:VEVENT
END:VCALENDAR
