BEGIN:VCALENDAR
VERSION:2.0
PRODID:-//85.13.129.106//NONSGML kigkonsult.se iCalcreator 2.10.23//
BEGIN:VEVENT
UID:20260420T225423CEST-9394khpVZX@85.13.129.106
DTSTAMP:20260420T205423Z
DESCRIPTION:
DTSTART;TZID=Europe/Berlin:20180812T103000
DTEND;TZID=Europe/Berlin:20180812T111500
LOCATION:
SUMMARY:18/19 D-Jun. Landespokal: TSV Bad Blankenburg D - Bodelwitzer SV D
END:VEVENT
BEGIN:VEVENT
UID:20260420T225423CEST-9399gdTKBs@85.13.129.106
DTSTAMP:20260420T205423Z
DESCRIPTION:
DTSTART;TZID=Europe/Berlin:20180915T103000
DTEND;TZID=Europe/Berlin:20180915T111500
LOCATION:
SUMMARY:18/19 D-Jun. Landespokal: Bodelwitzer SV D - FC Thüringen Jena D
END:VEVENT
BEGIN:VEVENT
UID:20260420T225423CEST-9403iOBEbG@85.13.129.106
DTSTAMP:20260420T205423Z
DESCRIPTION:
DTSTART;TZID=Europe/Berlin:20181031T110000
DTEND;TZID=Europe/Berlin:20181031T114500
LOCATION:
SUMMARY:18/19 D-Jun. Landespokal: Bodelwitzer SV D - SV Empor Erfurt D
END:VEVENT
BEGIN:VEVENT
UID:20260420T225423CEST-9408X6eJ5p@85.13.129.106
DTSTAMP:20260420T205423Z
DESCRIPTION:
DTSTART;TZID=Europe/Berlin:20190323T110000
DTEND;TZID=Europe/Berlin:20190323T114500
LOCATION:
SUMMARY:18/19 D-Jun. Landespokal: ZFC Meuselwitz D - Bodelwitzer SV D
END:VEVENT
END:VCALENDAR
