BEGIN:VCALENDAR
VERSION:2.0
PRODID:-//85.13.129.106//NONSGML kigkonsult.se iCalcreator 2.10.23//
BEGIN:VEVENT
UID:20260422T114751CEST-6794KMlJnT@85.13.129.106
DTSTAMP:20260422T094751Z
DESCRIPTION:
DTSTART;TZID=Europe/Berlin:20180815T173000
DTEND;TZID=Europe/Berlin:20180815T181500
LOCATION:
SUMMARY:18/19 D-Jun. Landespokal: Freilos - FC Carl Zeiss Jena D
END:VEVENT
BEGIN:VEVENT
UID:20260422T114751CEST-6803m5NeVW@85.13.129.106
DTSTAMP:20260422T094751Z
DESCRIPTION:
DTSTART;TZID=Europe/Berlin:20180815T173000
DTEND;TZID=Europe/Berlin:20180815T181500
LOCATION:
SUMMARY:18/19 D-Jun. Landespokal: Freilos - JFV Eichsfeld Mitte D
END:VEVENT
BEGIN:VEVENT
UID:20260422T114751CEST-6810iiL7WU@85.13.129.106
DTSTAMP:20260422T094751Z
DESCRIPTION:
DTSTART;TZID=Europe/Berlin:20180815T173000
DTEND;TZID=Europe/Berlin:20180815T181500
LOCATION:
SUMMARY:18/19 D-Jun. Landespokal: Freilos - ZFC Meuselwitz D
END:VEVENT
BEGIN:VEVENT
UID:20260422T114751CEST-6818TJ1ZE6@85.13.129.106
DTSTAMP:20260422T094751Z
DESCRIPTION:
DTSTART;TZID=Europe/Berlin:20180815T173000
DTEND;TZID=Europe/Berlin:20180815T181500
LOCATION:
SUMMARY:18/19 D-Jun. Landespokal: Freilos - FC Rot-Weiß Erfurt D
END:VEVENT
BEGIN:VEVENT
UID:20260422T114751CEST-6826ZEb9km@85.13.129.106
DTSTAMP:20260422T094751Z
DESCRIPTION:
DTSTART;TZID=Europe/Berlin:20180815T173000
DTEND;TZID=Europe/Berlin:20180815T181500
LOCATION:
SUMMARY:18/19 D-Jun. Landespokal: Freilos - 1. SC 1911 Heiligenstadt D
END:VEVENT
BEGIN:VEVENT
UID:20260422T114751CEST-6834NpenUZ@85.13.129.106
DTSTAMP:20260422T094751Z
DESCRIPTION:
DTSTART;TZID=Europe/Berlin:20180815T173000
DTEND;TZID=Europe/Berlin:20180815T181500
LOCATION:
SUMMARY:18/19 D-Jun. Landespokal: Freilos - JFV Süd Eichsfeld D
END:VEVENT
BEGIN:VEVENT
UID:20260422T114751CEST-6843w09dHC@85.13.129.106
DTSTAMP:20260422T094751Z
DESCRIPTION:
DTSTART;TZID=Europe/Berlin:20180815T173000
DTEND;TZID=Europe/Berlin:20180815T181500
LOCATION:
SUMMARY:18/19 D-Jun. Landespokal: Freilos - SV Wacker 04 Bad Salzungen D
END:VEVENT
BEGIN:VEVENT
UID:20260422T114751CEST-6851HpLuFR@85.13.129.106
DTSTAMP:20260422T094751Z
DESCRIPTION:
DTSTART;TZID=Europe/Berlin:20180815T173000
DTEND;TZID=Europe/Berlin:20180815T181500
LOCATION:
SUMMARY:18/19 D-Jun. Landespokal: Freilos - SSV 07 Schlotheim D
END:VEVENT
BEGIN:VEVENT
UID:20260422T114751CEST-6859Ndmu81@85.13.129.106
DTSTAMP:20260422T094751Z
DESCRIPTION:
DTSTART;TZID=Europe/Berlin:20180815T173000
DTEND;TZID=Europe/Berlin:20180815T181500
LOCATION:
SUMMARY:18/19 D-Jun. Landespokal: Freilos - FSV Wacker 90 Nordhausen D
END:VEVENT
BEGIN:VEVENT
UID:20260422T114751CEST-6866PCMBS6@85.13.129.106
DTSTAMP:20260422T094751Z
DESCRIPTION:
DTSTART;TZID=Europe/Berlin:20180815T173000
DTEND;TZID=Europe/Berlin:20180815T181500
LOCATION:
SUMMARY:18/19 D-Jun. Landespokal: Freilos - JFC Gera D
END:VEVENT
BEGIN:VEVENT
UID:20260422T114751CEST-6874w7xV17@85.13.129.106
DTSTAMP:20260422T094751Z
DESCRIPTION:
DTSTART;TZID=Europe/Berlin:20180815T173000
DTEND;TZID=Europe/Berlin:20180815T181500
LOCATION:
SUMMARY:18/19 D-Jun. Landespokal: Freilos - FSV Wacker 03 Gotha D
END:VEVENT
BEGIN:VEVENT
UID:20260422T114751CEST-6882nTNdHN@85.13.129.106
DTSTAMP:20260422T094751Z
DESCRIPTION:
DTSTART;TZID=Europe/Berlin:20180815T173000
DTEND;TZID=Europe/Berlin:20180815T181500
LOCATION:
SUMMARY:18/19 D-Jun. Landespokal: Freilos - FSV Martinroda D
END:VEVENT
BEGIN:VEVENT
UID:20260422T114751CEST-6891AAdmts@85.13.129.106
DTSTAMP:20260422T094751Z
DESCRIPTION:
DTSTART;TZID=Europe/Berlin:20180815T173000
DTEND;TZID=Europe/Berlin:20180815T181500
LOCATION:
SUMMARY:18/19 D-Jun. Landespokal: Freilos - FF USV Jena D
END:VEVENT
BEGIN:VEVENT
UID:20260422T114751CEST-6899DlR2ex@85.13.129.106
DTSTAMP:20260422T094751Z
DESCRIPTION:
DTSTART;TZID=Europe/Berlin:20180815T173000
DTEND;TZID=Europe/Berlin:20180815T181500
LOCATION:
SUMMARY:18/19 D-Jun. Landespokal: Freilos - SG FC Einheit Rudolstadt D
END:VEVENT
BEGIN:VEVENT
UID:20260422T114751CEST-6907vtB8bd@85.13.129.106
DTSTAMP:20260422T094751Z
DESCRIPTION:
DTSTART;TZID=Europe/Berlin:20180815T173000
DTEND;TZID=Europe/Berlin:20180815T181500
LOCATION:
SUMMARY:18/19 D-Jun. Landespokal: Freilos - SV Germania Ilmenau D
END:VEVENT
BEGIN:VEVENT
UID:20260422T114751CEST-6913iVWF6u@85.13.129.106
DTSTAMP:20260422T094751Z
DESCRIPTION:
DTSTART;TZID=Europe/Berlin:20180815T173000
DTEND;TZID=Europe/Berlin:20180815T181500
LOCATION:
SUMMARY:18/19 D-Jun. Landespokal: Freilos - FC Thüringen Jena D
END:VEVENT
BEGIN:VEVENT
UID:20260422T114751CEST-6919KWVL7t@85.13.129.106
DTSTAMP:20260422T094751Z
DESCRIPTION:
DTSTART;TZID=Europe/Berlin:20180815T173000
DTEND;TZID=Europe/Berlin:20180815T181500
LOCATION:
SUMMARY:18/19 D-Jun. Landespokal: Freilos - SG SpG Helba D
END:VEVENT
END:VCALENDAR
