BEGIN:VCALENDAR
VERSION:2.0
PRODID:-//85.13.129.106//NONSGML kigkonsult.se iCalcreator 2.10.23//
BEGIN:VEVENT
UID:20260423T184010CEST-9540pJjLkh@85.13.129.106
DTSTAMP:20260423T164010Z
DESCRIPTION:
DTSTART;TZID=Europe/Berlin:20170910T093000
DTEND;TZID=Europe/Berlin:20170910T111500
LOCATION:
SUMMARY:17/18 F-Jun. KL Mitte: SG Effelder/Schalkau F - SV Empor 90 Eishaus
 en F
END:VEVENT
BEGIN:VEVENT
UID:20260423T184010CEST-9545NHxZFu@85.13.129.106
DTSTAMP:20260423T164010Z
DESCRIPTION:
DTSTART;TZID=Europe/Berlin:20170910T110000
DTEND;TZID=Europe/Berlin:20170910T124500
LOCATION:
SUMMARY:17/18 F-Jun. KL Mitte: SV Empor 90 Eishausen F - SG Effelder/Schalk
 au F2
END:VEVENT
BEGIN:VEVENT
UID:20260423T184010CEST-9549vZkLN9@85.13.129.106
DTSTAMP:20260423T164010Z
DESCRIPTION:
DTSTART;TZID=Europe/Berlin:20170924T100000
DTEND;TZID=Europe/Berlin:20170924T114500
LOCATION:
SUMMARY:17/18 F-Jun. KL Mitte: SV Empor 90 Eishausen F - SG SV 07 Häselriet
 h/Reurieth F
END:VEVENT
BEGIN:VEVENT
UID:20260423T184010CEST-9554Vu6JuZ@85.13.129.106
DTSTAMP:20260423T164010Z
DESCRIPTION:
DTSTART;TZID=Europe/Berlin:20170924T113000
DTEND;TZID=Europe/Berlin:20170924T131500
LOCATION:
SUMMARY:17/18 F-Jun. KL Mitte: SV 03 Eisfeld F - SV Empor 90 Eishausen F
END:VEVENT
BEGIN:VEVENT
UID:20260423T184010CEST-9558g3kxxw@85.13.129.106
DTSTAMP:20260423T164010Z
DESCRIPTION:
DTSTART;TZID=Europe/Berlin:20171029T093000
DTEND;TZID=Europe/Berlin:20171029T111500
LOCATION:
SUMMARY:17/18 F-Jun. KL Mitte: SV Falke Sachsenbrunn F - SV Empor 90 Eishau
 sen F
END:VEVENT
BEGIN:VEVENT
UID:20260423T184010CEST-9562O3ppkP@85.13.129.106
DTSTAMP:20260423T164010Z
DESCRIPTION:
DTSTART;TZID=Europe/Berlin:20171029T110000
DTEND;TZID=Europe/Berlin:20171029T124500
LOCATION:
SUMMARY:17/18 F-Jun. KL Mitte: SV Empor 90 Eishausen F - SG Effelder/Schalk
 au F
END:VEVENT
BEGIN:VEVENT
UID:20260423T184010CEST-9567f8KWug@85.13.129.106
DTSTAMP:20260423T164010Z
DESCRIPTION:
DTSTART;TZID=Europe/Berlin:20180415T103000
DTEND;TZID=Europe/Berlin:20180415T121500
LOCATION:
SUMMARY:17/18 F-Jun. KL Mitte: SG Effelder/Schalkau F2 - SV Empor 90 Eishau
 sen F
END:VEVENT
BEGIN:VEVENT
UID:20260423T184010CEST-9571VvmCML@85.13.129.106
DTSTAMP:20260423T164010Z
DESCRIPTION:
DTSTART;TZID=Europe/Berlin:20180415T120000
DTEND;TZID=Europe/Berlin:20180415T134500
LOCATION:
SUMMARY:17/18 F-Jun. KL Mitte: SG SV 07 Häselrieth/Reurieth F - SV Empor 90
  Eishausen F
END:VEVENT
BEGIN:VEVENT
UID:20260423T184010CEST-9575ZSVimp@85.13.129.106
DTSTAMP:20260423T164010Z
DESCRIPTION:
DTSTART;TZID=Europe/Berlin:20180506T100000
DTEND;TZID=Europe/Berlin:20180506T114500
LOCATION:
SUMMARY:17/18 F-Jun. KL Mitte: SV Empor 90 Eishausen F - SV 03 Eisfeld F
END:VEVENT
BEGIN:VEVENT
UID:20260423T184010CEST-9580WMHjW1@85.13.129.106
DTSTAMP:20260423T164010Z
DESCRIPTION:
DTSTART;TZID=Europe/Berlin:20180506T120000
DTEND;TZID=Europe/Berlin:20180506T134500
LOCATION:
SUMMARY:17/18 F-Jun. KL Mitte: SV Empor 90 Eishausen F - SV Falke Sachsenbr
 unn F
END:VEVENT
END:VCALENDAR
