BEGIN:VCALENDAR
VERSION:2.0
PRODID:-//85.13.129.106//NONSGML kigkonsult.se iCalcreator 2.10.23//
BEGIN:VEVENT
UID:20260420T013421CEST-8807twZv8T@85.13.129.106
DTSTAMP:20260419T233421Z
DESCRIPTION:
DTSTART;TZID=Europe/Berlin:20170812T140000
DTEND;TZID=Europe/Berlin:20170812T154500
LOCATION:
SUMMARY:17/18 Herren 2.KK-O: SG Lauscha/Neuhaus II - SG SV 08 Steinach III
END:VEVENT
BEGIN:VEVENT
UID:20260420T013421CEST-8815MhfFCT@85.13.129.106
DTSTAMP:20260419T233421Z
DESCRIPTION:
DTSTART;TZID=Europe/Berlin:20170826T150000
DTEND;TZID=Europe/Berlin:20170826T164500
LOCATION:
SUMMARY:17/18 Herren 2.KK-O: SG Lauscha/Neuhaus II - SG Haselbach/ Hasentha
 l
END:VEVENT
BEGIN:VEVENT
UID:20260420T013421CEST-8824diRhVM@85.13.129.106
DTSTAMP:20260419T233421Z
DESCRIPTION:
DTSTART;TZID=Europe/Berlin:20170805T150000
DTEND;TZID=Europe/Berlin:20170805T164500
LOCATION:
SUMMARY:17/18 Herren 2.KK-O: SG Lauscha/Neuhaus II - SV Rottmar/Gefell
END:VEVENT
BEGIN:VEVENT
UID:20260420T013421CEST-8831RzenMd@85.13.129.106
DTSTAMP:20260419T233421Z
DESCRIPTION:
DTSTART;TZID=Europe/Berlin:20170909T160000
DTEND;TZID=Europe/Berlin:20170909T174500
LOCATION:
SUMMARY:17/18 Herren 2.KK-O: SG Lauscha/Neuhaus II - FC-BW Schalkau II
END:VEVENT
BEGIN:VEVENT
UID:20260420T013421CEST-8840i6VUTL@85.13.129.106
DTSTAMP:20260419T233421Z
DESCRIPTION:
DTSTART;TZID=Europe/Berlin:20170917T150000
DTEND;TZID=Europe/Berlin:20170917T164500
LOCATION:
SUMMARY:17/18 Herren 2.KK-O: SV Rennsteig Ernstthal - SG Lauscha/Neuhaus II
END:VEVENT
BEGIN:VEVENT
UID:20260420T013421CEST-8848F1UAUx@85.13.129.106
DTSTAMP:20260419T233421Z
DESCRIPTION:
DTSTART;TZID=Europe/Berlin:20170924T150000
DTEND;TZID=Europe/Berlin:20170924T164500
LOCATION:
SUMMARY:17/18 Herren 2.KK-O: SG Lauscha/Neuhaus II - SG Heinersdorf/Neuenba
 u
END:VEVENT
BEGIN:VEVENT
UID:20260420T013421CEST-8858bo7POv@85.13.129.106
DTSTAMP:20260419T233421Z
DESCRIPTION:
DTSTART;TZID=Europe/Berlin:20171015T130000
DTEND;TZID=Europe/Berlin:20171015T144500
LOCATION:
SUMMARY:17/18 Herren 2.KK-O: SV Iso. Neuhaus Schierschnitz II - SG Lauscha/
 Neuhaus II
END:VEVENT
BEGIN:VEVENT
UID:20260420T013421CEST-8866EzDif4@85.13.129.106
DTSTAMP:20260419T233421Z
DESCRIPTION:
DTSTART;TZID=Europe/Berlin:20171021T150000
DTEND;TZID=Europe/Berlin:20171021T164500
LOCATION:
SUMMARY:17/18 Herren 2.KK-O: SG Lauscha/Neuhaus II - 1. FC Köppelsdorf II
END:VEVENT
BEGIN:VEVENT
UID:20260420T013421CEST-88754zOKUw@85.13.129.106
DTSTAMP:20260419T233421Z
DESCRIPTION:
DTSTART;TZID=Europe/Berlin:20171105T140000
DTEND;TZID=Europe/Berlin:20171105T154500
LOCATION:
SUMMARY:17/18 Herren 2.KK-O: SG SV 08 Steinach III - SG Lauscha/Neuhaus II
END:VEVENT
BEGIN:VEVENT
UID:20260420T013421CEST-8884Lt6NWD@85.13.129.106
DTSTAMP:20260419T233421Z
DESCRIPTION:
DTSTART;TZID=Europe/Berlin:20180521T150000
DTEND;TZID=Europe/Berlin:20180521T164500
LOCATION:
SUMMARY:17/18 Herren 2.KK-O: SG Haselbach/ Hasenthal - SG Lauscha/Neuhaus I
 I
END:VEVENT
BEGIN:VEVENT
UID:20260420T013421CEST-8892Ruh68A@85.13.129.106
DTSTAMP:20260419T233421Z
DESCRIPTION:
DTSTART;TZID=Europe/Berlin:20180429T150000
DTEND;TZID=Europe/Berlin:20180429T164500
LOCATION:
SUMMARY:17/18 Herren 2.KK-O: SV Rottmar/Gefell - SG Lauscha/Neuhaus II
END:VEVENT
BEGIN:VEVENT
UID:20260420T013421CEST-8901SWHhtb@85.13.129.106
DTSTAMP:20260419T233421Z
DESCRIPTION:Schalkau
DTSTART;TZID=Europe/Berlin:20180415T130000
DTEND;TZID=Europe/Berlin:20180415T144500
LOCATION:Katzberger Straße 6\n96528 Schalkau\, 96528 Schalkau
SUMMARY:17/18 Herren 2.KK-O: FC-BW Schalkau II - SG Lauscha/Neuhaus II
END:VEVENT
BEGIN:VEVENT
UID:20260420T013421CEST-8910BbPvpF@85.13.129.106
DTSTAMP:20260419T233421Z
DESCRIPTION:Schalkau
DTSTART;TZID=Europe/Berlin:20180422T150000
DTEND;TZID=Europe/Berlin:20180422T164500
LOCATION:Katzberger Straße 6\n96528 Schalkau\, 96528 Schalkau
SUMMARY:17/18 Herren 2.KK-O: SG Lauscha/Neuhaus II - SV Rennsteig Ernstthal
END:VEVENT
BEGIN:VEVENT
UID:20260420T013421CEST-8920vUhCp6@85.13.129.106
DTSTAMP:20260419T233421Z
DESCRIPTION:Schalkau
DTSTART;TZID=Europe/Berlin:20180506T150000
DTEND;TZID=Europe/Berlin:20180506T164500
LOCATION:Katzberger Straße 6\n96528 Schalkau\, 96528 Schalkau
SUMMARY:17/18 Herren 2.KK-O: SG Heinersdorf/Neuenbau - SG Lauscha/Neuhaus I
 I
END:VEVENT
BEGIN:VEVENT
UID:20260420T013421CEST-8928mTtt0t@85.13.129.106
DTSTAMP:20260419T233421Z
DESCRIPTION:Schalkau
DTSTART;TZID=Europe/Berlin:20180513T150000
DTEND;TZID=Europe/Berlin:20180513T164500
LOCATION:Katzberger Straße 6\n96528 Schalkau\, 96528 Schalkau
SUMMARY:17/18 Herren 2.KK-O: SG Lauscha/Neuhaus II - SV Iso. Neuhaus Schier
 schnitz II
END:VEVENT
BEGIN:VEVENT
UID:20260420T013421CEST-8936UDDirR@85.13.129.106
DTSTAMP:20260419T233421Z
DESCRIPTION:Schalkau
DTSTART;TZID=Europe/Berlin:20180527T123000
DTEND;TZID=Europe/Berlin:20180527T141500
LOCATION:Katzberger Straße 6\n96528 Schalkau\, 96528 Schalkau
SUMMARY:17/18 Herren 2.KK-O: 1. FC Köppelsdorf II - SG Lauscha/Neuhaus II
END:VEVENT
END:VCALENDAR
