BEGIN:VCALENDAR
VERSION:2.0
PRODID:-//85.13.129.106//NONSGML kigkonsult.se iCalcreator 2.10.23//
BEGIN:VEVENT
UID:20260422T061510CEST-5506JP6tv7@85.13.129.106
DTSTAMP:20260422T041510Z
DESCRIPTION:
DTSTART;TZID=Europe/Berlin:20170407T173000
DTEND;TZID=Europe/Berlin:20170407T181500
LOCATION:
SUMMARY:16/17 F-Jun. Kreispokal: SV 08 Steinach F - Freilos
END:VEVENT
BEGIN:VEVENT
UID:20260422T061510CEST-5511UaXop6@85.13.129.106
DTSTAMP:20260422T041510Z
DESCRIPTION:
DTSTART;TZID=Europe/Berlin:20170504T173000
DTEND;TZID=Europe/Berlin:20170504T181500
LOCATION:
SUMMARY:16/17 F-Jun. Kreispokal: SV 08 Steinach F - 1. FC Sonneberg 04 F
END:VEVENT
END:VCALENDAR
