BEGIN:VCALENDAR
VERSION:2.0
PRODID:-//85.13.129.106//NONSGML kigkonsult.se iCalcreator 2.10.23//
BEGIN:VEVENT
UID:20260421T132022CEST-089438IgLW@85.13.129.106
DTSTAMP:20260421T112022Z
DESCRIPTION:
DTSTART;TZID=Europe/Berlin:20180825T140000
DTEND;TZID=Europe/Berlin:20180825T153500
LOCATION:
SUMMARY:18/19 B-Jun. Pokal: Freilos - SG Lauscha/Neuhaus B
END:VEVENT
BEGIN:VEVENT
UID:20260421T132022CEST-0898PxHhmh@85.13.129.106
DTSTAMP:20260421T112022Z
DESCRIPTION:
DTSTART;TZID=Europe/Berlin:20181014T100000
DTEND;TZID=Europe/Berlin:20181014T113500
LOCATION:
SUMMARY:18/19 B-Jun. Pokal: SG Lauscha/Neuhaus B - SV Falke Sachsenbrunn B
END:VEVENT
BEGIN:VEVENT
UID:20260421T132022CEST-0902bJiwEa@85.13.129.106
DTSTAMP:20260421T112022Z
DESCRIPTION:
DTSTART;TZID=Europe/Berlin:20190413T150000
DTEND;TZID=Europe/Berlin:20190413T163500
LOCATION:
SUMMARY:18/19 B-Jun. Pokal: SV 03 Eisfeld/Schalkau B - SG Lauscha/Neuhaus B
END:VEVENT
END:VCALENDAR
