BEGIN:VCALENDAR
VERSION:2.0
PRODID:-//85.13.129.106//NONSGML kigkonsult.se iCalcreator 2.10.23//
BEGIN:VEVENT
UID:20260421T222302CEST-8008lgIvJF@85.13.129.106
DTSTAMP:20260421T202302Z
DESCRIPTION:
DTSTART;TZID=Europe/Berlin:20160417T100000
DTEND;TZID=Europe/Berlin:20160417T114500
LOCATION:
SUMMARY:15/16 F2-Jun. KL Gruppe Mitte: SV 03 Eisfeld F - SC 07 Schleusingen
  F2
END:VEVENT
BEGIN:VEVENT
UID:20260421T222302CEST-8012VU2GJn@85.13.129.106
DTSTAMP:20260421T202302Z
DESCRIPTION:
DTSTART;TZID=Europe/Berlin:20160417T120000
DTEND;TZID=Europe/Berlin:20160417T134500
LOCATION:
SUMMARY:15/16 F2-Jun. KL Gruppe Mitte: SV 03 Eisfeld F - SG Effelder/Schalk
 au F2
END:VEVENT
BEGIN:VEVENT
UID:20260421T222302CEST-8016hKj5FC@85.13.129.106
DTSTAMP:20260421T202302Z
DESCRIPTION:
DTSTART;TZID=Europe/Berlin:20160501T103000
DTEND;TZID=Europe/Berlin:20160501T121500
LOCATION:
SUMMARY:15/16 F2-Jun. KL Gruppe Mitte: SV Nahetal Hinternah F - SV 03 Eisfe
 ld F
END:VEVENT
BEGIN:VEVENT
UID:20260421T222302CEST-8021BcMTuT@85.13.129.106
DTSTAMP:20260421T202302Z
DESCRIPTION:
DTSTART;TZID=Europe/Berlin:20160501T113000
DTEND;TZID=Europe/Berlin:20160501T131500
LOCATION:
SUMMARY:15/16 F2-Jun. KL Gruppe Mitte: SV 03 Eisfeld F - SV Falke Sachsenbr
 unn F
END:VEVENT
BEGIN:VEVENT
UID:20260421T222302CEST-8025OD7Z24@85.13.129.106
DTSTAMP:20260421T202302Z
DESCRIPTION:
DTSTART;TZID=Europe/Berlin:20160522T100000
DTEND;TZID=Europe/Berlin:20160522T114500
LOCATION:
SUMMARY:15/16 F2-Jun. KL Gruppe Mitte: SV 03 Eisfeld F - SG Rauenstein/ Men
 g. Hämm. F
END:VEVENT
BEGIN:VEVENT
UID:20260421T222302CEST-80296xX97v@85.13.129.106
DTSTAMP:20260421T202302Z
DESCRIPTION:
DTSTART;TZID=Europe/Berlin:20160522T120000
DTEND;TZID=Europe/Berlin:20160522T134500
LOCATION:
SUMMARY:15/16 F2-Jun. KL Gruppe Mitte: SC 07 Schleusingen F2 - SV 03 Eisfel
 d F
END:VEVENT
BEGIN:VEVENT
UID:20260421T222302CEST-8033M0VRd1@85.13.129.106
DTSTAMP:20260421T202302Z
DESCRIPTION:
DTSTART;TZID=Europe/Berlin:20160605T103000
DTEND;TZID=Europe/Berlin:20160605T121500
LOCATION:
SUMMARY:15/16 F2-Jun. KL Gruppe Mitte: SG Effelder/Schalkau F2 - SV 03 Eisf
 eld F
END:VEVENT
BEGIN:VEVENT
UID:20260421T222302CEST-8038xfoBHV@85.13.129.106
DTSTAMP:20260421T202302Z
DESCRIPTION:
DTSTART;TZID=Europe/Berlin:20160605T113000
DTEND;TZID=Europe/Berlin:20160605T131500
LOCATION:
SUMMARY:15/16 F2-Jun. KL Gruppe Mitte: SV 03 Eisfeld F - SV Nahetal Hintern
 ah F
END:VEVENT
BEGIN:VEVENT
UID:20260421T222302CEST-8042MNdVis@85.13.129.106
DTSTAMP:20260421T202302Z
DESCRIPTION:
DTSTART;TZID=Europe/Berlin:20160612T103000
DTEND;TZID=Europe/Berlin:20160612T121500
LOCATION:
SUMMARY:15/16 F2-Jun. KL Gruppe Mitte: SV Falke Sachsenbrunn F - SV 03 Eisf
 eld F
END:VEVENT
BEGIN:VEVENT
UID:20260421T222302CEST-8046lHlV3o@85.13.129.106
DTSTAMP:20260421T202302Z
DESCRIPTION:
DTSTART;TZID=Europe/Berlin:20160612T113000
DTEND;TZID=Europe/Berlin:20160612T131500
LOCATION:
SUMMARY:15/16 F2-Jun. KL Gruppe Mitte: SG Rauenstein/ Meng. Hämm. F - SV 03
  Eisfeld F
END:VEVENT
END:VCALENDAR
