BEGIN:VCALENDAR
VERSION:2.0
PRODID:-//85.13.129.106//NONSGML kigkonsult.se iCalcreator 2.10.23//
BEGIN:VEVENT
UID:20260422T154512CEST-7386539k5G@85.13.129.106
DTSTAMP:20260422T134512Z
DESCRIPTION:
DTSTART;TZID=Europe/Berlin:20160109T092200
DTEND;TZID=Europe/Berlin:20160109T110700
LOCATION:
SUMMARY:15/16 D-Jun. HLM VR: 1. Suhler SV 06 D - SG SV 08 Steinach/FC Sonne
 berg D
END:VEVENT
BEGIN:VEVENT
UID:20260422T154512CEST-7390GVaW9K@85.13.129.106
DTSTAMP:20260422T134512Z
DESCRIPTION:
DTSTART;TZID=Europe/Berlin:20160109T094400
DTEND;TZID=Europe/Berlin:20160109T112900
LOCATION:
SUMMARY:15/16 D-Jun. HLM VR: SG SV 08 Steinach/FC Sonneberg D - SV Eintrach
 t Oberland D
END:VEVENT
BEGIN:VEVENT
UID:20260422T154512CEST-73953VUoNX@85.13.129.106
DTSTAMP:20260422T134512Z
DESCRIPTION:
DTSTART;TZID=Europe/Berlin:20160109T100600
DTEND;TZID=Europe/Berlin:20160109T115100
LOCATION:
SUMMARY:15/16 D-Jun. HLM VR: SG Sbg.-W./ Schalkau D - SG SV 08 Steinach/FC 
 Sonneberg D
END:VEVENT
BEGIN:VEVENT
UID:20260422T154512CEST-7399N7aSUM@85.13.129.106
DTSTAMP:20260422T134512Z
DESCRIPTION:
DTSTART;TZID=Europe/Berlin:20160109T105000
DTEND;TZID=Europe/Berlin:20160109T123500
LOCATION:
SUMMARY:15/16 D-Jun. HLM VR: SG SV Mäbendorf 85 D - SG SV 08 Steinach/FC So
 nneberg D
END:VEVENT
BEGIN:VEVENT
UID:20260422T154512CEST-7403gV8G9c@85.13.129.106
DTSTAMP:20260422T134512Z
DESCRIPTION:
DTSTART;TZID=Europe/Berlin:20160109T113400
DTEND;TZID=Europe/Berlin:20160109T131900
LOCATION:
SUMMARY:15/16 D-Jun. HLM VR: SG SV 08 Steinach/FC Sonneberg D - SG SpG Helb
 a D
END:VEVENT
END:VCALENDAR
