BEGIN:VCALENDAR
VERSION:2.0
PRODID:-//85.13.129.106//NONSGML kigkonsult.se iCalcreator 2.10.23//
BEGIN:VEVENT
UID:20260424T055644CEST-1430VBi8FI@85.13.129.106
DTSTAMP:20260424T035644Z
DESCRIPTION:
DTSTART;TZID=Europe/Berlin:20160116T143000
DTEND;TZID=Europe/Berlin:20160116T161500
LOCATION:
SUMMARY:15/16 Herren HKM VR: SG Streufdorf/Eishausen - SV 1897 Goßmannsrod
END:VEVENT
BEGIN:VEVENT
UID:20260424T055644CEST-1435KSWoD7@85.13.129.106
DTSTAMP:20260424T035644Z
DESCRIPTION:
DTSTART;TZID=Europe/Berlin:20160116T151500
DTEND;TZID=Europe/Berlin:20160116T170000
LOCATION:
SUMMARY:15/16 Herren HKM VR: SV 03 Eisfeld - SG Streufdorf/Eishausen
END:VEVENT
BEGIN:VEVENT
UID:20260424T055644CEST-1439Pc0z73@85.13.129.106
DTSTAMP:20260424T035644Z
DESCRIPTION:
DTSTART;TZID=Europe/Berlin:20160116T154500
DTEND;TZID=Europe/Berlin:20160116T173000
LOCATION:
SUMMARY:15/16 Herren HKM VR: SG Streufdorf/Eishausen - FSV 06 Eintr. Hildbu
 rghausen II
END:VEVENT
BEGIN:VEVENT
UID:20260424T055644CEST-1443iT8S2U@85.13.129.106
DTSTAMP:20260424T035644Z
DESCRIPTION:
DTSTART;TZID=Europe/Berlin:20160116T161500
DTEND;TZID=Europe/Berlin:20160116T180000
LOCATION:
SUMMARY:15/16 Herren HKM VR: SG Streufdorf/Eishausen - SV 08 Westhausen II
END:VEVENT
BEGIN:VEVENT
UID:20260424T055644CEST-1448ANfFsC@85.13.129.106
DTSTAMP:20260424T035644Z
DESCRIPTION:Schalkau
DTSTART;TZID=Europe/Berlin:20160116T171500
DTEND;TZID=Europe/Berlin:20160116T190000
LOCATION:Katzberger Straße 6\n96528 Schalkau\, 96528 Schalkau
SUMMARY:15/16 Herren HKM VR: FC-BW Schalkau - SG Streufdorf/Eishausen
END:VEVENT
END:VCALENDAR
