BEGIN:VCALENDAR
VERSION:2.0
PRODID:-//85.13.129.106//NONSGML kigkonsult.se iCalcreator 2.10.23//
BEGIN:VEVENT
UID:20260421T115113CEST-1612X9ume6@85.13.129.106
DTSTAMP:20260421T095113Z
DESCRIPTION:
DTSTART;TZID=Europe/Berlin:20160116T141500
DTEND;TZID=Europe/Berlin:20160116T160000
LOCATION:
SUMMARY:15/16 Herren HKM VR: FSV 06 Eintr. Hildburghausen II - SV 03 Eisfel
 d
END:VEVENT
BEGIN:VEVENT
UID:20260421T115113CEST-16164HUAJJ@85.13.129.106
DTSTAMP:20260421T095113Z
DESCRIPTION:
DTSTART;TZID=Europe/Berlin:20160116T144500
DTEND;TZID=Europe/Berlin:20160116T163000
LOCATION:
SUMMARY:15/16 Herren HKM VR: FSV 06 Eintr. Hildburghausen II - SV 08 Westha
 usen II
END:VEVENT
BEGIN:VEVENT
UID:20260421T115113CEST-1622nePsSi@85.13.129.106
DTSTAMP:20260421T095113Z
DESCRIPTION:
DTSTART;TZID=Europe/Berlin:20160116T154500
DTEND;TZID=Europe/Berlin:20160116T173000
LOCATION:
SUMMARY:15/16 Herren HKM VR: SG Streufdorf/Eishausen - FSV 06 Eintr. Hildbu
 rghausen II
END:VEVENT
BEGIN:VEVENT
UID:20260421T115113CEST-1627tLswVv@85.13.129.106
DTSTAMP:20260421T095113Z
DESCRIPTION:
DTSTART;TZID=Europe/Berlin:20160116T164500
DTEND;TZID=Europe/Berlin:20160116T183000
LOCATION:
SUMMARY:15/16 Herren HKM VR: FSV 06 Eintr. Hildburghausen II - FC-BW Schalk
 au
END:VEVENT
BEGIN:VEVENT
UID:20260421T115113CEST-1632AW9S8j@85.13.129.106
DTSTAMP:20260421T095113Z
DESCRIPTION:
DTSTART;TZID=Europe/Berlin:20160116T173000
DTEND;TZID=Europe/Berlin:20160116T191500
LOCATION:
SUMMARY:15/16 Herren HKM VR: SV 1897 Goßmannsrod - FSV 06 Eintr. Hildburgha
 usen II
END:VEVENT
END:VCALENDAR
