BEGIN:VCALENDAR
VERSION:2.0
PRODID:-//85.13.129.106//NONSGML kigkonsult.se iCalcreator 2.10.23//
BEGIN:VEVENT
UID:20260424T081945CEST-3891pTsReS@85.13.129.106
DTSTAMP:20260424T061945Z
DESCRIPTION:
DTSTART;TZID=Europe/Berlin:20150920T093000
DTEND;TZID=Europe/Berlin:20150920T095300
LOCATION:
SUMMARY:15/16 G-Jun. KL West: SV Nahetal Hinternah G - FC-BW Schalkau G
END:VEVENT
BEGIN:VEVENT
UID:20260424T081945CEST-3896uxstVg@85.13.129.106
DTSTAMP:20260424T061945Z
DESCRIPTION:
DTSTART;TZID=Europe/Berlin:20150920T095000
DTEND;TZID=Europe/Berlin:20150920T101300
LOCATION:
SUMMARY:15/16 G-Jun. KL West: SC 07 Schleusingen G - SV Nahetal Hinternah G
END:VEVENT
BEGIN:VEVENT
UID:20260424T081945CEST-39015Uv5hc@85.13.129.106
DTSTAMP:20260424T061945Z
DESCRIPTION:
DTSTART;TZID=Europe/Berlin:20151004T093000
DTEND;TZID=Europe/Berlin:20151004T095300
LOCATION:
SUMMARY:15/16 G-Jun. KL West: SC 07 Schleusingen G - SV Nahetal Hinternah G
END:VEVENT
BEGIN:VEVENT
UID:20260424T081945CEST-3905CpD4iw@85.13.129.106
DTSTAMP:20260424T061945Z
DESCRIPTION:
DTSTART;TZID=Europe/Berlin:20151004T095000
DTEND;TZID=Europe/Berlin:20151004T101300
LOCATION:
SUMMARY:15/16 G-Jun. KL West: SV Nahetal Hinternah G - FC-BW Schalkau G
END:VEVENT
BEGIN:VEVENT
UID:20260424T081945CEST-3910rttUJl@85.13.129.106
DTSTAMP:20260424T061945Z
DESCRIPTION:
DTSTART;TZID=Europe/Berlin:20151025T091000
DTEND;TZID=Europe/Berlin:20151025T093300
LOCATION:
SUMMARY:15/16 G-Jun. KL West: SV Nahetal Hinternah G - FC-BW Schalkau G
END:VEVENT
BEGIN:VEVENT
UID:20260424T081945CEST-3914p0vp1V@85.13.129.106
DTSTAMP:20260424T061945Z
DESCRIPTION:
DTSTART;TZID=Europe/Berlin:20151025T095000
DTEND;TZID=Europe/Berlin:20151025T101300
LOCATION:
SUMMARY:15/16 G-Jun. KL West: SC 07 Schleusingen G - SV Nahetal Hinternah G
END:VEVENT
BEGIN:VEVENT
UID:20260424T081945CEST-3919usczXT@85.13.129.106
DTSTAMP:20260424T061945Z
DESCRIPTION:
DTSTART;TZID=Europe/Berlin:20160514T094000
DTEND;TZID=Europe/Berlin:20160514T100300
LOCATION:
SUMMARY:15/16 G-Jun. KL West: SV Nahetal Hinternah G - FC-BW Schalkau G
END:VEVENT
BEGIN:VEVENT
UID:20260424T081945CEST-3923sVHhur@85.13.129.106
DTSTAMP:20260424T061945Z
DESCRIPTION:
DTSTART;TZID=Europe/Berlin:20160514T100000
DTEND;TZID=Europe/Berlin:20160514T102300
LOCATION:
SUMMARY:15/16 G-Jun. KL West: TSV 1911 Themar G - SV Nahetal Hinternah G
END:VEVENT
BEGIN:VEVENT
UID:20260424T081945CEST-39278rL72A@85.13.129.106
DTSTAMP:20260424T061945Z
DESCRIPTION:
DTSTART;TZID=Europe/Berlin:20160514T102000
DTEND;TZID=Europe/Berlin:20160514T104300
LOCATION:
SUMMARY:15/16 G-Jun. KL West: TSV 1911 Themar G2 - SV Nahetal Hinternah G
END:VEVENT
BEGIN:VEVENT
UID:20260424T081945CEST-3932mO7be3@85.13.129.106
DTSTAMP:20260424T061945Z
DESCRIPTION:
DTSTART;TZID=Europe/Berlin:20160514T105000
DTEND;TZID=Europe/Berlin:20160514T111300
LOCATION:
SUMMARY:15/16 G-Jun. KL West: SC 07 Schleusingen G - SV Nahetal Hinternah G
END:VEVENT
BEGIN:VEVENT
UID:20260424T081945CEST-3936hVrXrl@85.13.129.106
DTSTAMP:20260424T061945Z
DESCRIPTION:
DTSTART;TZID=Europe/Berlin:20160508T094000
DTEND;TZID=Europe/Berlin:20160508T100300
LOCATION:
SUMMARY:15/16 G-Jun. KL West: SV Nahetal Hinternah G - FC-BW Schalkau G
END:VEVENT
BEGIN:VEVENT
UID:20260424T081945CEST-3941BCUvnG@85.13.129.106
DTSTAMP:20260424T061945Z
DESCRIPTION:
DTSTART;TZID=Europe/Berlin:20160508T100000
DTEND;TZID=Europe/Berlin:20160508T102300
LOCATION:
SUMMARY:15/16 G-Jun. KL West: TSV 1911 Themar G - SV Nahetal Hinternah G
END:VEVENT
BEGIN:VEVENT
UID:20260424T081945CEST-3945DbDmOZ@85.13.129.106
DTSTAMP:20260424T061945Z
DESCRIPTION:
DTSTART;TZID=Europe/Berlin:20160508T102000
DTEND;TZID=Europe/Berlin:20160508T104300
LOCATION:
SUMMARY:15/16 G-Jun. KL West: TSV 1911 Themar G2 - SV Nahetal Hinternah G
END:VEVENT
BEGIN:VEVENT
UID:20260424T081945CEST-3950VN8Gcv@85.13.129.106
DTSTAMP:20260424T061945Z
DESCRIPTION:
DTSTART;TZID=Europe/Berlin:20160508T105000
DTEND;TZID=Europe/Berlin:20160508T111300
LOCATION:
SUMMARY:15/16 G-Jun. KL West: SC 07 Schleusingen G - SV Nahetal Hinternah G
END:VEVENT
BEGIN:VEVENT
UID:20260424T081945CEST-3954emh5IH@85.13.129.106
DTSTAMP:20260424T061945Z
DESCRIPTION:
DTSTART;TZID=Europe/Berlin:20160529T094000
DTEND;TZID=Europe/Berlin:20160529T100300
LOCATION:
SUMMARY:15/16 G-Jun. KL West: SV Nahetal Hinternah G - FC-BW Schalkau G
END:VEVENT
BEGIN:VEVENT
UID:20260424T081945CEST-39581z8GUB@85.13.129.106
DTSTAMP:20260424T061945Z
DESCRIPTION:
DTSTART;TZID=Europe/Berlin:20160529T100000
DTEND;TZID=Europe/Berlin:20160529T102300
LOCATION:
SUMMARY:15/16 G-Jun. KL West: TSV 1911 Themar G - SV Nahetal Hinternah G
END:VEVENT
BEGIN:VEVENT
UID:20260424T081945CEST-3963GHvuE2@85.13.129.106
DTSTAMP:20260424T061945Z
DESCRIPTION:
DTSTART;TZID=Europe/Berlin:20160529T102000
DTEND;TZID=Europe/Berlin:20160529T104300
LOCATION:
SUMMARY:15/16 G-Jun. KL West: TSV 1911 Themar G2 - SV Nahetal Hinternah G
END:VEVENT
BEGIN:VEVENT
UID:20260424T081945CEST-3967po9Xuk@85.13.129.106
DTSTAMP:20260424T061945Z
DESCRIPTION:
DTSTART;TZID=Europe/Berlin:20160529T105000
DTEND;TZID=Europe/Berlin:20160529T111300
LOCATION:
SUMMARY:15/16 G-Jun. KL West: SC 07 Schleusingen G - SV Nahetal Hinternah G
END:VEVENT
END:VCALENDAR
