BEGIN:VCALENDAR
VERSION:2.0
PRODID:-//85.13.129.106//NONSGML kigkonsult.se iCalcreator 2.10.23//
BEGIN:VEVENT
UID:20260422T093116CEST-1579MD5VAB@85.13.129.106
DTSTAMP:20260422T073116Z
DESCRIPTION:
DTSTART;TZID=Europe/Berlin:20150830T103000
DTEND;TZID=Europe/Berlin:20150830T111500
LOCATION:
SUMMARY:15/16 E-Pokal: SG Gleichamberg E - SV 07 Häselrieth E
END:VEVENT
END:VCALENDAR
