BEGIN:VCALENDAR
VERSION:2.0
PRODID:-//85.13.129.106//NONSGML kigkonsult.se iCalcreator 2.10.23//
BEGIN:VEVENT
UID:20260424T064938CEST-9302aBjr8z@85.13.129.106
DTSTAMP:20260424T044938Z
DESCRIPTION:
DTSTART;TZID=Europe/Berlin:20150830T103000
DTEND;TZID=Europe/Berlin:20150830T111500
LOCATION:
SUMMARY:15/16 E-Pokal: SG Lauscha/Neuhaus E - SG Effelder/Schalkau E
END:VEVENT
END:VCALENDAR
