BEGIN:VCALENDAR
VERSION:2.0
PRODID:-//85.13.129.106//NONSGML kigkonsult.se iCalcreator 2.10.23//
BEGIN:VEVENT
UID:20260419T195347CEST-5257xrHkuZ@85.13.129.106
DTSTAMP:20260419T175347Z
DESCRIPTION:
DTSTART;TZID=Europe/Berlin:20150902T120000
DTEND;TZID=Europe/Berlin:20150902T124500
LOCATION:
SUMMARY:15/16 D2-Pokal: SV Nahetal Hinternah D - Freilos
END:VEVENT
BEGIN:VEVENT
UID:20260419T195347CEST-5261ej6rBA@85.13.129.106
DTSTAMP:20260419T175347Z
DESCRIPTION:
DTSTART;TZID=Europe/Berlin:20150902T120000
DTEND;TZID=Europe/Berlin:20150902T124500
LOCATION:
SUMMARY:15/16 D2-Pokal: SV Iso. Neuhaus Schierschnitz - Freilos
END:VEVENT
BEGIN:VEVENT
UID:20260419T195347CEST-5265v7mrAo@85.13.129.106
DTSTAMP:20260419T175347Z
DESCRIPTION:
DTSTART;TZID=Europe/Berlin:20150902T120000
DTEND;TZID=Europe/Berlin:20150902T124500
LOCATION:
SUMMARY:15/16 D2-Pokal: SG Sbg.-W./ Schalkau D2 - Freilos
END:VEVENT
BEGIN:VEVENT
UID:20260419T195347CEST-52696AXSac@85.13.129.106
DTSTAMP:20260419T175347Z
DESCRIPTION:
DTSTART;TZID=Europe/Berlin:20150902T120000
DTEND;TZID=Europe/Berlin:20150902T124500
LOCATION:
SUMMARY:15/16 D2-Pokal: SV 03 Eisfeld D - Freilos
END:VEVENT
BEGIN:VEVENT
UID:20260419T195347CEST-5273cT2lJD@85.13.129.106
DTSTAMP:20260419T175347Z
DESCRIPTION:
DTSTART;TZID=Europe/Berlin:20150902T120000
DTEND;TZID=Europe/Berlin:20150902T124500
LOCATION:
SUMMARY:15/16 D2-Pokal: SG Waldau/Schleusingen D - Freilos
END:VEVENT
END:VCALENDAR
