BEGIN:VCALENDAR
VERSION:2.0
PRODID:-//85.13.129.106//NONSGML kigkonsult.se iCalcreator 2.10.23//
BEGIN:VEVENT
UID:20260419T150039CEST-87484oku3v@85.13.129.106
DTSTAMP:20260419T130039Z
DESCRIPTION:
DTSTART;TZID=Europe/Berlin:20150905T150000
DTEND;TZID=Europe/Berlin:20150905T163500
LOCATION:
SUMMARY:15/16 B-Jun. Pokal: SV 03 Eisfeld B - Freilos
END:VEVENT
BEGIN:VEVENT
UID:20260419T150039CEST-8752znb3UV@85.13.129.106
DTSTAMP:20260419T130039Z
DESCRIPTION:
DTSTART;TZID=Europe/Berlin:20151002T170000
DTEND;TZID=Europe/Berlin:20151002T183500
LOCATION:
SUMMARY:15/16 B-Jun. Pokal: SV 03 Eisfeld B - SV Grün-Weiß Waldau B
END:VEVENT
BEGIN:VEVENT
UID:20260419T150039CEST-87562awTgV@85.13.129.106
DTSTAMP:20260419T130039Z
DESCRIPTION:
DTSTART;TZID=Europe/Berlin:20150402T133000
DTEND;TZID=Europe/Berlin:20150402T150500
LOCATION:
SUMMARY:15/16 B-Jun. Pokal: SV 08 Steinach B - SV 03 Eisfeld B
END:VEVENT
END:VCALENDAR
