BEGIN:VCALENDAR
VERSION:2.0
PRODID:-//85.13.129.106//NONSGML kigkonsult.se iCalcreator 2.10.23//
BEGIN:VEVENT
UID:20260420T115041CEST-3280eaPUFs@85.13.129.106
DTSTAMP:20260420T095041Z
DESCRIPTION:Schalkau
DTSTART;TZID=Europe/Berlin:20150830T103000
DTEND;TZID=Europe/Berlin:20150830T120500
LOCATION:Katzberger Straße 6\n96528 Schalkau\, 96528 Schalkau
SUMMARY:15/16 B-Jun. Pokal: FC-BW Schalkau B - SV 08 Steinach B
END:VEVENT
BEGIN:VEVENT
UID:20260420T115041CEST-3285TveJZX@85.13.129.106
DTSTAMP:20260420T095041Z
DESCRIPTION:Schalkau
DTSTART;TZID=Europe/Berlin:20151003T113000
DTEND;TZID=Europe/Berlin:20151003T130500
LOCATION:Katzberger Straße 6\n96528 Schalkau\, 96528 Schalkau
SUMMARY:15/16 B-Jun. Pokal: SV 08 Steinach B - FSV 06 Eintr. Hildburghausen
  B
END:VEVENT
BEGIN:VEVENT
UID:20260420T115041CEST-328953BVVL@85.13.129.106
DTSTAMP:20260420T095041Z
DESCRIPTION:Schalkau
DTSTART;TZID=Europe/Berlin:20150402T133000
DTEND;TZID=Europe/Berlin:20150402T150500
LOCATION:Katzberger Straße 6\n96528 Schalkau\, 96528 Schalkau
SUMMARY:15/16 B-Jun. Pokal: SV 08 Steinach B - SV 03 Eisfeld B
END:VEVENT
BEGIN:VEVENT
UID:20260420T115041CEST-32932s12jo@85.13.129.106
DTSTAMP:20260420T095041Z
DESCRIPTION:Schalkau
DTSTART;TZID=Europe/Berlin:20160618T160000
DTEND;TZID=Europe/Berlin:20160618T173500
LOCATION:Katzberger Straße 6\n96528 Schalkau\, 96528 Schalkau
SUMMARY:15/16 B-Jun. Pokal: SC 07 Schleusingen B - SV 08 Steinach B
END:VEVENT
END:VCALENDAR
