BEGIN:VCALENDAR
VERSION:2.0
PRODID:-//85.13.129.106//NONSGML kigkonsult.se iCalcreator 2.10.23//
BEGIN:VEVENT
UID:20260423T165407CEST-3467Uebr9Z@85.13.129.106
DTSTAMP:20260423T145407Z
DESCRIPTION:
DTSTART;TZID=Europe/Berlin:20150920T103000
DTEND;TZID=Europe/Berlin:20150920T121500
LOCATION:
SUMMARY:15/16 D1-Jun. Landespokal: FSV Wacker 90 Nordhausen D - JFV Eichsfe
 ld Mitte D
END:VEVENT
BEGIN:VEVENT
UID:20260423T165407CEST-3471ea2R2T@85.13.129.106
DTSTAMP:20260423T145407Z
DESCRIPTION:
DTSTART;TZID=Europe/Berlin:20151114T103000
DTEND;TZID=Europe/Berlin:20151114T121500
LOCATION:
SUMMARY:15/16 D1-Jun. Landespokal: JFV Eichsfeld Mitte D - SG Steinach D
END:VEVENT
BEGIN:VEVENT
UID:20260423T165407CEST-3476ltOag9@85.13.129.106
DTSTAMP:20260423T145407Z
DESCRIPTION:
DTSTART;TZID=Europe/Berlin:20160402T150000
DTEND;TZID=Europe/Berlin:20160402T164500
LOCATION:
SUMMARY:15/16 D1-Jun. Landespokal: FSV Sömmerda D - JFV Eichsfeld Mitte D
END:VEVENT
BEGIN:VEVENT
UID:20260423T165407CEST-3480hC5TpA@85.13.129.106
DTSTAMP:20260423T145407Z
DESCRIPTION:
DTSTART;TZID=Europe/Berlin:20160506T103000
DTEND;TZID=Europe/Berlin:20160506T121500
LOCATION:
SUMMARY:15/16 D1-Jun. Landespokal: FC Carl Zeiss Jena D - JFV Eichsfeld Mit
 te D
END:VEVENT
END:VCALENDAR
