BEGIN:VCALENDAR
VERSION:2.0
PRODID:-//85.13.129.106//NONSGML kigkonsult.se iCalcreator 2.10.23//
BEGIN:VEVENT
UID:20260423T233816CEST-3862KcpupG@85.13.129.106
DTSTAMP:20260423T213816Z
DESCRIPTION:
DTSTART;TZID=Europe/Berlin:20150829T103000
DTEND;TZID=Europe/Berlin:20150829T121500
LOCATION:
SUMMARY:15/16 D1-Jun. VL: FSV Wacker 03 Gotha D - SV Germania Ilmenau D
END:VEVENT
BEGIN:VEVENT
UID:20260423T233816CEST-3866shMuVE@85.13.129.106
DTSTAMP:20260423T213816Z
DESCRIPTION:
DTSTART;TZID=Europe/Berlin:20150905T103000
DTEND;TZID=Europe/Berlin:20150905T121500
LOCATION:
SUMMARY:15/16 D1-Jun. VL: FSV Sömmerda D - FSV Wacker 03 Gotha D
END:VEVENT
BEGIN:VEVENT
UID:20260423T233816CEST-3871lmVUA7@85.13.129.106
DTSTAMP:20260423T213816Z
DESCRIPTION:
DTSTART;TZID=Europe/Berlin:20150912T093000
DTEND;TZID=Europe/Berlin:20150912T111500
LOCATION:
SUMMARY:15/16 D1-Jun. VL: SV Westring Gotha D - FSV Wacker 03 Gotha D
END:VEVENT
BEGIN:VEVENT
UID:20260423T233816CEST-3875Cnd7o9@85.13.129.106
DTSTAMP:20260423T213816Z
DESCRIPTION:
DTSTART;TZID=Europe/Berlin:20151002T173000
DTEND;TZID=Europe/Berlin:20151002T191500
LOCATION:
SUMMARY:15/16 D1-Jun. VL: FSV Wacker 03 Gotha D - FC Carl Zeiss Jena D2
END:VEVENT
BEGIN:VEVENT
UID:20260423T233816CEST-3879dtEd1T@85.13.129.106
DTSTAMP:20260423T213816Z
DESCRIPTION:
DTSTART;TZID=Europe/Berlin:20151024T093000
DTEND;TZID=Europe/Berlin:20151024T111500
LOCATION:
SUMMARY:15/16 D1-Jun. VL: FSV Wacker 03 Gotha D - SG Steinach D
END:VEVENT
BEGIN:VEVENT
UID:20260423T233816CEST-3884NEdUMt@85.13.129.106
DTSTAMP:20260423T213816Z
DESCRIPTION:
DTSTART;TZID=Europe/Berlin:20151031T103000
DTEND;TZID=Europe/Berlin:20151031T121500
LOCATION:
SUMMARY:15/16 D1-Jun. VL: SG Sbg.-W./ Schalkau D - FSV Wacker 03 Gotha D
END:VEVENT
BEGIN:VEVENT
UID:20260423T233816CEST-3888DN2VlX@85.13.129.106
DTSTAMP:20260423T213816Z
DESCRIPTION:
DTSTART;TZID=Europe/Berlin:20151107T103000
DTEND;TZID=Europe/Berlin:20151107T121500
LOCATION:
SUMMARY:15/16 D1-Jun. VL: SG VfB Apolda D - FSV Wacker 03 Gotha D
END:VEVENT
BEGIN:VEVENT
UID:20260423T233816CEST-3892VNW2D1@85.13.129.106
DTSTAMP:20260423T213816Z
DESCRIPTION:
DTSTART;TZID=Europe/Berlin:20151121T093000
DTEND;TZID=Europe/Berlin:20151121T111500
LOCATION:
SUMMARY:15/16 D1-Jun. VL: FSV Wacker 03 Gotha D - SG SpG Helba D
END:VEVENT
BEGIN:VEVENT
UID:20260423T233816CEST-3896KmTRUz@85.13.129.106
DTSTAMP:20260423T213816Z
DESCRIPTION:
DTSTART;TZID=Europe/Berlin:20151128T103000
DTEND;TZID=Europe/Berlin:20151128T121500
LOCATION:
SUMMARY:15/16 D1-Jun. VL: FC Rot-Weiß Erfurt D2 - FSV Wacker 03 Gotha D
END:VEVENT
BEGIN:VEVENT
UID:20260423T233816CEST-3901FMSRVU@85.13.129.106
DTSTAMP:20260423T213816Z
DESCRIPTION:
DTSTART;TZID=Europe/Berlin:20151205T093000
DTEND;TZID=Europe/Berlin:20151205T111500
LOCATION:
SUMMARY:15/16 D1-Jun. VL: FSV Wacker 03 Gotha D - 1. Suhler SV 06 D
END:VEVENT
BEGIN:VEVENT
UID:20260423T233816CEST-3905uJmVCz@85.13.129.106
DTSTAMP:20260423T213816Z
DESCRIPTION:
DTSTART;TZID=Europe/Berlin:20151212T103000
DTEND;TZID=Europe/Berlin:20151212T121500
LOCATION:
SUMMARY:15/16 D1-Jun. VL: VfB Oberweimar D - FSV Wacker 03 Gotha D
END:VEVENT
BEGIN:VEVENT
UID:20260423T233816CEST-3909Mixudk@85.13.129.106
DTSTAMP:20260423T213816Z
DESCRIPTION:
DTSTART;TZID=Europe/Berlin:20160227T103000
DTEND;TZID=Europe/Berlin:20160227T121500
LOCATION:
SUMMARY:15/16 D1-Jun. VL: SV Germania Ilmenau D - FSV Wacker 03 Gotha D
END:VEVENT
BEGIN:VEVENT
UID:20260423T233816CEST-3914xUV26w@85.13.129.106
DTSTAMP:20260423T213816Z
DESCRIPTION:
DTSTART;TZID=Europe/Berlin:20160305T093000
DTEND;TZID=Europe/Berlin:20160305T111500
LOCATION:
SUMMARY:15/16 D1-Jun. VL: FSV Wacker 03 Gotha D - FSV Sömmerda D
END:VEVENT
BEGIN:VEVENT
UID:20260423T233816CEST-3918kHAKHe@85.13.129.106
DTSTAMP:20260423T213816Z
DESCRIPTION:
DTSTART;TZID=Europe/Berlin:20160312T093000
DTEND;TZID=Europe/Berlin:20160312T111500
LOCATION:
SUMMARY:15/16 D1-Jun. VL: FSV Wacker 03 Gotha D - SV Westring Gotha D
END:VEVENT
BEGIN:VEVENT
UID:20260423T233816CEST-3922ZJB7sU@85.13.129.106
DTSTAMP:20260423T213816Z
DESCRIPTION:
DTSTART;TZID=Europe/Berlin:20160319T103000
DTEND;TZID=Europe/Berlin:20160319T121500
LOCATION:
SUMMARY:15/16 D1-Jun. VL: FC Carl Zeiss Jena D2 - FSV Wacker 03 Gotha D
END:VEVENT
BEGIN:VEVENT
UID:20260423T233816CEST-3926EsfnwK@85.13.129.106
DTSTAMP:20260423T213816Z
DESCRIPTION:
DTSTART;TZID=Europe/Berlin:20160402T103000
DTEND;TZID=Europe/Berlin:20160402T121500
LOCATION:
SUMMARY:15/16 D1-Jun. VL: SG Steinach D - FSV Wacker 03 Gotha D
END:VEVENT
BEGIN:VEVENT
UID:20260423T233816CEST-3931aPM92w@85.13.129.106
DTSTAMP:20260423T213816Z
DESCRIPTION:
DTSTART;TZID=Europe/Berlin:20160423T093000
DTEND;TZID=Europe/Berlin:20160423T111500
LOCATION:
SUMMARY:15/16 D1-Jun. VL: FSV Wacker 03 Gotha D - SG Sbg.-W./ Schalkau D
END:VEVENT
BEGIN:VEVENT
UID:20260423T233816CEST-3935zTM7KH@85.13.129.106
DTSTAMP:20260423T213816Z
DESCRIPTION:
DTSTART;TZID=Europe/Berlin:20160507T093000
DTEND;TZID=Europe/Berlin:20160507T111500
LOCATION:
SUMMARY:15/16 D1-Jun. VL: FSV Wacker 03 Gotha D - SG VfB Apolda D
END:VEVENT
BEGIN:VEVENT
UID:20260423T233816CEST-39395V7tv6@85.13.129.106
DTSTAMP:20260423T213816Z
DESCRIPTION:
DTSTART;TZID=Europe/Berlin:20160514T103000
DTEND;TZID=Europe/Berlin:20160514T121500
LOCATION:
SUMMARY:15/16 D1-Jun. VL: SG SpG Helba D - FSV Wacker 03 Gotha D
END:VEVENT
BEGIN:VEVENT
UID:20260423T233816CEST-39433U86ex@85.13.129.106
DTSTAMP:20260423T213816Z
DESCRIPTION:
DTSTART;TZID=Europe/Berlin:20160525T173000
DTEND;TZID=Europe/Berlin:20160525T191500
LOCATION:
SUMMARY:15/16 D1-Jun. VL: FSV Wacker 03 Gotha D - FC Rot-Weiß Erfurt D2
END:VEVENT
BEGIN:VEVENT
UID:20260423T233816CEST-3948spDLGB@85.13.129.106
DTSTAMP:20260423T213816Z
DESCRIPTION:
DTSTART;TZID=Europe/Berlin:20160528T110000
DTEND;TZID=Europe/Berlin:20160528T124500
LOCATION:
SUMMARY:15/16 D1-Jun. VL: 1. Suhler SV 06 D - FSV Wacker 03 Gotha D
END:VEVENT
BEGIN:VEVENT
UID:20260423T233816CEST-3952NI70fV@85.13.129.106
DTSTAMP:20260423T213816Z
DESCRIPTION:
DTSTART;TZID=Europe/Berlin:20160604T093000
DTEND;TZID=Europe/Berlin:20160604T111500
LOCATION:
SUMMARY:15/16 D1-Jun. VL: FSV Wacker 03 Gotha D - VfB Oberweimar D
END:VEVENT
END:VCALENDAR
