BEGIN:VCALENDAR
VERSION:2.0
PRODID:-//85.13.129.106//NONSGML kigkonsult.se iCalcreator 2.10.23//
BEGIN:VEVENT
UID:20260423T090101CEST-9904VS4Sh1@85.13.129.106
DTSTAMP:20260423T070101Z
DESCRIPTION:
DTSTART;TZID=Europe/Berlin:20150830T103000
DTEND;TZID=Europe/Berlin:20150830T121500
LOCATION:
SUMMARY:15/16 D1-Jun. VL: SG SpG Helba D - VfB Oberweimar D
END:VEVENT
BEGIN:VEVENT
UID:20260423T090101CEST-9909xXPdiG@85.13.129.106
DTSTAMP:20260423T070101Z
DESCRIPTION:
DTSTART;TZID=Europe/Berlin:20150906T103000
DTEND;TZID=Europe/Berlin:20150906T121500
LOCATION:
SUMMARY:15/16 D1-Jun. VL: VfB Oberweimar D - FC Rot-Weiß Erfurt D2
END:VEVENT
BEGIN:VEVENT
UID:20260423T090101CEST-9913ShzWVC@85.13.129.106
DTSTAMP:20260423T070101Z
DESCRIPTION:
DTSTART;TZID=Europe/Berlin:20150912T110000
DTEND;TZID=Europe/Berlin:20150912T124500
LOCATION:
SUMMARY:15/16 D1-Jun. VL: 1. Suhler SV 06 D - VfB Oberweimar D
END:VEVENT
BEGIN:VEVENT
UID:20260423T090101CEST-9918duUPe6@85.13.129.106
DTSTAMP:20260423T070101Z
DESCRIPTION:
DTSTART;TZID=Europe/Berlin:20151022T173000
DTEND;TZID=Europe/Berlin:20151022T191500
LOCATION:
SUMMARY:15/16 D1-Jun. VL: VfB Oberweimar D - SG VfB Apolda D
END:VEVENT
BEGIN:VEVENT
UID:20260423T090101CEST-99226uoMue@85.13.129.106
DTSTAMP:20260423T070101Z
DESCRIPTION:
DTSTART;TZID=Europe/Berlin:20151025T120000
DTEND;TZID=Europe/Berlin:20151025T134500
LOCATION:
SUMMARY:15/16 D1-Jun. VL: VfB Oberweimar D - SV Germania Ilmenau D
END:VEVENT
BEGIN:VEVENT
UID:20260423T090101CEST-9926VUGTPV@85.13.129.106
DTSTAMP:20260423T070101Z
DESCRIPTION:
DTSTART;TZID=Europe/Berlin:20151101T103000
DTEND;TZID=Europe/Berlin:20151101T121500
LOCATION:
SUMMARY:15/16 D1-Jun. VL: FSV Sömmerda D - VfB Oberweimar D
END:VEVENT
BEGIN:VEVENT
UID:20260423T090101CEST-9931JkjUc3@85.13.129.106
DTSTAMP:20260423T070101Z
DESCRIPTION:
DTSTART;TZID=Europe/Berlin:20151108T120000
DTEND;TZID=Europe/Berlin:20151108T134500
LOCATION:
SUMMARY:15/16 D1-Jun. VL: VfB Oberweimar D - SV Westring Gotha D
END:VEVENT
BEGIN:VEVENT
UID:20260423T090101CEST-9935KBXNVm@85.13.129.106
DTSTAMP:20260423T070101Z
DESCRIPTION:
DTSTART;TZID=Europe/Berlin:20151120T170000
DTEND;TZID=Europe/Berlin:20151120T184500
LOCATION:
SUMMARY:15/16 D1-Jun. VL: FC Carl Zeiss Jena D2 - VfB Oberweimar D
END:VEVENT
BEGIN:VEVENT
UID:20260423T090101CEST-9939IVU6lr@85.13.129.106
DTSTAMP:20260423T070101Z
DESCRIPTION:
DTSTART;TZID=Europe/Berlin:20160410T123000
DTEND;TZID=Europe/Berlin:20160410T141500
LOCATION:
SUMMARY:15/16 D1-Jun. VL: VfB Oberweimar D - SG Steinach D
END:VEVENT
BEGIN:VEVENT
UID:20260423T090101CEST-9944N6egjO@85.13.129.106
DTSTAMP:20260423T070101Z
DESCRIPTION:
DTSTART;TZID=Europe/Berlin:20151206T120000
DTEND;TZID=Europe/Berlin:20151206T134500
LOCATION:
SUMMARY:15/16 D1-Jun. VL: VfB Oberweimar D - SG Sbg.-W./ Schalkau D
END:VEVENT
BEGIN:VEVENT
UID:20260423T090101CEST-99481Ggvhb@85.13.129.106
DTSTAMP:20260423T070101Z
DESCRIPTION:
DTSTART;TZID=Europe/Berlin:20151212T103000
DTEND;TZID=Europe/Berlin:20151212T121500
LOCATION:
SUMMARY:15/16 D1-Jun. VL: VfB Oberweimar D - FSV Wacker 03 Gotha D
END:VEVENT
BEGIN:VEVENT
UID:20260423T090101CEST-9952E0LVei@85.13.129.106
DTSTAMP:20260423T070101Z
DESCRIPTION:
DTSTART;TZID=Europe/Berlin:20160228T123000
DTEND;TZID=Europe/Berlin:20160228T141500
LOCATION:
SUMMARY:15/16 D1-Jun. VL: VfB Oberweimar D - SG SpG Helba D
END:VEVENT
BEGIN:VEVENT
UID:20260423T090101CEST-9957bz4FHC@85.13.129.106
DTSTAMP:20260423T070101Z
DESCRIPTION:
DTSTART;TZID=Europe/Berlin:20160306T103000
DTEND;TZID=Europe/Berlin:20160306T121500
LOCATION:
SUMMARY:15/16 D1-Jun. VL: FC Rot-Weiß Erfurt D2 - VfB Oberweimar D
END:VEVENT
BEGIN:VEVENT
UID:20260423T090101CEST-9961SshVUI@85.13.129.106
DTSTAMP:20260423T070101Z
DESCRIPTION:
DTSTART;TZID=Europe/Berlin:20160313T103000
DTEND;TZID=Europe/Berlin:20160313T121500
LOCATION:
SUMMARY:15/16 D1-Jun. VL: VfB Oberweimar D - 1. Suhler SV 06 D
END:VEVENT
BEGIN:VEVENT
UID:20260423T090101CEST-9965m9twUs@85.13.129.106
DTSTAMP:20260423T070101Z
DESCRIPTION:
DTSTART;TZID=Europe/Berlin:20160320T103000
DTEND;TZID=Europe/Berlin:20160320T121500
LOCATION:
SUMMARY:15/16 D1-Jun. VL: SG VfB Apolda D - VfB Oberweimar D
END:VEVENT
BEGIN:VEVENT
UID:20260423T090101CEST-9970tKmJJF@85.13.129.106
DTSTAMP:20260423T070101Z
DESCRIPTION:
DTSTART;TZID=Europe/Berlin:20160417T103000
DTEND;TZID=Europe/Berlin:20160417T121500
LOCATION:
SUMMARY:15/16 D1-Jun. VL: SV Germania Ilmenau D - VfB Oberweimar D
END:VEVENT
BEGIN:VEVENT
UID:20260423T090101CEST-9974uIEvZ8@85.13.129.106
DTSTAMP:20260423T070101Z
DESCRIPTION:
DTSTART;TZID=Europe/Berlin:20160424T123000
DTEND;TZID=Europe/Berlin:20160424T141500
LOCATION:
SUMMARY:15/16 D1-Jun. VL: VfB Oberweimar D - FSV Sömmerda D
END:VEVENT
BEGIN:VEVENT
UID:20260423T090101CEST-9978apJhDv@85.13.129.106
DTSTAMP:20260423T070101Z
DESCRIPTION:
DTSTART;TZID=Europe/Berlin:20160504T180000
DTEND;TZID=Europe/Berlin:20160504T194500
LOCATION:
SUMMARY:15/16 D1-Jun. VL: SV Westring Gotha D - VfB Oberweimar D
END:VEVENT
BEGIN:VEVENT
UID:20260423T090101CEST-9983FMdpl0@85.13.129.106
DTSTAMP:20260423T070101Z
DESCRIPTION:
DTSTART;TZID=Europe/Berlin:20160513T180000
DTEND;TZID=Europe/Berlin:20160513T194500
LOCATION:
SUMMARY:15/16 D1-Jun. VL: VfB Oberweimar D - FC Carl Zeiss Jena D2
END:VEVENT
BEGIN:VEVENT
UID:20260423T090101CEST-9987SUF6Hd@85.13.129.106
DTSTAMP:20260423T070101Z
DESCRIPTION:
DTSTART;TZID=Europe/Berlin:20160522T103000
DTEND;TZID=Europe/Berlin:20160522T121500
LOCATION:
SUMMARY:15/16 D1-Jun. VL: SG Steinach D - VfB Oberweimar D
END:VEVENT
BEGIN:VEVENT
UID:20260423T090101CEST-99912vxEZO@85.13.129.106
DTSTAMP:20260423T070101Z
DESCRIPTION:
DTSTART;TZID=Europe/Berlin:20160529T103000
DTEND;TZID=Europe/Berlin:20160529T121500
LOCATION:
SUMMARY:15/16 D1-Jun. VL: SG Sbg.-W./ Schalkau D - VfB Oberweimar D
END:VEVENT
BEGIN:VEVENT
UID:20260423T090101CEST-9996LjJVm1@85.13.129.106
DTSTAMP:20260423T070101Z
DESCRIPTION:
DTSTART;TZID=Europe/Berlin:20160604T093000
DTEND;TZID=Europe/Berlin:20160604T111500
LOCATION:
SUMMARY:15/16 D1-Jun. VL: FSV Wacker 03 Gotha D - VfB Oberweimar D
END:VEVENT
END:VCALENDAR
