BEGIN:VCALENDAR
VERSION:2.0
PRODID:-//85.13.129.106//NONSGML kigkonsult.se iCalcreator 2.10.23//
BEGIN:VEVENT
UID:20260421T204826CEST-1337ihk0Ut@85.13.129.106
DTSTAMP:20260421T184826Z
DESCRIPTION:
DTSTART;TZID=Europe/Berlin:20150802T160000
DTEND;TZID=Europe/Berlin:20150802T174500
LOCATION:
SUMMARY:15/16 Herren 2.KK-O: TSV 1923 Neuenbau - SG SV 08 Steinach III
END:VEVENT
BEGIN:VEVENT
UID:20260421T204826CEST-1342xp98fB@85.13.129.106
DTSTAMP:20260421T184826Z
DESCRIPTION:
DTSTART;TZID=Europe/Berlin:20150808T130000
DTEND;TZID=Europe/Berlin:20150808T144500
LOCATION:
SUMMARY:15/16 Herren 2.KK-O: SG 1951 Sonneberg II - SG SV 08 Steinach III
END:VEVENT
BEGIN:VEVENT
UID:20260421T204826CEST-13468RwXDs@85.13.129.106
DTSTAMP:20260421T184826Z
DESCRIPTION:
DTSTART;TZID=Europe/Berlin:20150814T180000
DTEND;TZID=Europe/Berlin:20150814T194500
LOCATION:
SUMMARY:15/16 Herren 2.KK-O: SG SV 08 Steinach III - 1. FC Sonneberg 04 II
END:VEVENT
BEGIN:VEVENT
UID:20260421T204826CEST-1351V1aGUl@85.13.129.106
DTSTAMP:20260421T184826Z
DESCRIPTION:
DTSTART;TZID=Europe/Berlin:20150823T123000
DTEND;TZID=Europe/Berlin:20150823T141500
LOCATION:
SUMMARY:15/16 Herren 2.KK-O: 1. FC Köppelsdorf II - SG SV 08 Steinach III
END:VEVENT
BEGIN:VEVENT
UID:20260421T204826CEST-1355w3lfNe@85.13.129.106
DTSTAMP:20260421T184826Z
DESCRIPTION:
DTSTART;TZID=Europe/Berlin:20150829T130000
DTEND;TZID=Europe/Berlin:20150829T144500
LOCATION:
SUMMARY:15/16 Herren 2.KK-O: SG SV 08 Steinach III - SV Rottmar/Gefell
END:VEVENT
BEGIN:VEVENT
UID:20260421T204826CEST-1360WupuRA@85.13.129.106
DTSTAMP:20260421T184826Z
DESCRIPTION:Schalkau
DTSTART;TZID=Europe/Berlin:20150906T130000
DTEND;TZID=Europe/Berlin:20150906T144500
LOCATION:Katzberger Straße 6\n96528 Schalkau\, 96528 Schalkau
SUMMARY:15/16 Herren 2.KK-O: FC-BW Schalkau II - SG SV 08 Steinach III
END:VEVENT
BEGIN:VEVENT
UID:20260421T204826CEST-1364sonrkl@85.13.129.106
DTSTAMP:20260421T184826Z
DESCRIPTION:Schalkau
DTSTART;TZID=Europe/Berlin:20150919T130000
DTEND;TZID=Europe/Berlin:20150919T144500
LOCATION:Katzberger Straße 6\n96528 Schalkau\, 96528 Schalkau
SUMMARY:15/16 Herren 2.KK-O: SG Lauscha/Neuhaus II - SG SV 08 Steinach III
END:VEVENT
BEGIN:VEVENT
UID:20260421T204826CEST-1369fvvNnn@85.13.129.106
DTSTAMP:20260421T184826Z
DESCRIPTION:Schalkau
DTSTART;TZID=Europe/Berlin:20150927T150000
DTEND;TZID=Europe/Berlin:20150927T164500
LOCATION:Katzberger Straße 6\n96528 Schalkau\, 96528 Schalkau
SUMMARY:15/16 Herren 2.KK-O: SG SV 08 Steinach III - FC Heinersdorf
END:VEVENT
BEGIN:VEVENT
UID:20260421T204826CEST-1373oBnonn@85.13.129.106
DTSTAMP:20260421T184826Z
DESCRIPTION:Schalkau
DTSTART;TZID=Europe/Berlin:20151004T130000
DTEND;TZID=Europe/Berlin:20151004T144500
LOCATION:Katzberger Straße 6\n96528 Schalkau\, 96528 Schalkau
SUMMARY:15/16 Herren 2.KK-O: SC 06 Oberlind II - SG SV 08 Steinach III
END:VEVENT
BEGIN:VEVENT
UID:20260421T204826CEST-1377OjZvz7@85.13.129.106
DTSTAMP:20260421T184826Z
DESCRIPTION:Schalkau
DTSTART;TZID=Europe/Berlin:20151010T160000
DTEND;TZID=Europe/Berlin:20151010T174500
LOCATION:Katzberger Straße 6\n96528 Schalkau\, 96528 Schalkau
SUMMARY:15/16 Herren 2.KK-O: SG SV 08 Steinach III - SV Rennsteig Ernstthal
END:VEVENT
BEGIN:VEVENT
UID:20260421T204826CEST-1382uSfrTV@85.13.129.106
DTSTAMP:20260421T184826Z
DESCRIPTION:Schalkau
DTSTART;TZID=Europe/Berlin:20151018T150000
DTEND;TZID=Europe/Berlin:20151018T164500
LOCATION:Katzberger Straße 6\n96528 Schalkau\, 96528 Schalkau
SUMMARY:15/16 Herren 2.KK-O: SG Haselbach/ Hasenthal - SG SV 08 Steinach II
 I
END:VEVENT
BEGIN:VEVENT
UID:20260421T204826CEST-1386CP3jcB@85.13.129.106
DTSTAMP:20260421T184826Z
DESCRIPTION:Schalkau
DTSTART;TZID=Europe/Berlin:20151024T130000
DTEND;TZID=Europe/Berlin:20151024T144500
LOCATION:Katzberger Straße 6\n96528 Schalkau\, 96528 Schalkau
SUMMARY:15/16 Herren 2.KK-O: SG SV 08 Steinach III - SV Iso. Neuhaus Schier
 schnitz II
END:VEVENT
BEGIN:VEVENT
UID:20260421T204826CEST-1391OaI3Ri@85.13.129.106
DTSTAMP:20260421T184826Z
DESCRIPTION:Schalkau
DTSTART;TZID=Europe/Berlin:20151031T130000
DTEND;TZID=Europe/Berlin:20151031T144500
LOCATION:Katzberger Straße 6\n96528 Schalkau\, 96528 Schalkau
SUMMARY:15/16 Herren 2.KK-O: SG SV 08 Steinach III - TSV 1923 Neuenbau
END:VEVENT
BEGIN:VEVENT
UID:20260421T204826CEST-13950eo7x3@85.13.129.106
DTSTAMP:20260421T184826Z
DESCRIPTION:Schalkau
DTSTART;TZID=Europe/Berlin:20151107T160000
DTEND;TZID=Europe/Berlin:20151107T174500
LOCATION:Katzberger Straße 6\n96528 Schalkau\, 96528 Schalkau
SUMMARY:15/16 Herren 2.KK-O: SG SV 08 Steinach III - SG 1951 Sonneberg II
END:VEVENT
BEGIN:VEVENT
UID:20260421T204826CEST-1399LAUEDV@85.13.129.106
DTSTAMP:20260421T184826Z
DESCRIPTION:Schalkau
DTSTART;TZID=Europe/Berlin:20160313T130000
DTEND;TZID=Europe/Berlin:20160313T144500
LOCATION:Katzberger Straße 6\n96528 Schalkau\, 96528 Schalkau
SUMMARY:15/16 Herren 2.KK-O: 1. FC Sonneberg 04 II - SG SV 08 Steinach III
END:VEVENT
BEGIN:VEVENT
UID:20260421T204826CEST-14041kk4HA@85.13.129.106
DTSTAMP:20260421T184826Z
DESCRIPTION:Schalkau
DTSTART;TZID=Europe/Berlin:20160320T140000
DTEND;TZID=Europe/Berlin:20160320T154500
LOCATION:Katzberger Straße 6\n96528 Schalkau\, 96528 Schalkau
SUMMARY:15/16 Herren 2.KK-O: SG SV 08 Steinach III - 1. FC Köppelsdorf II
END:VEVENT
BEGIN:VEVENT
UID:20260421T204826CEST-1408lzSdNL@85.13.129.106
DTSTAMP:20260421T184826Z
DESCRIPTION:Schalkau
DTSTART;TZID=Europe/Berlin:20160403T150000
DTEND;TZID=Europe/Berlin:20160403T164500
LOCATION:Katzberger Straße 6\n96528 Schalkau\, 96528 Schalkau
SUMMARY:15/16 Herren 2.KK-O: SV Rottmar/Gefell - SG SV 08 Steinach III
END:VEVENT
BEGIN:VEVENT
UID:20260421T204826CEST-1412m49lFf@85.13.129.106
DTSTAMP:20260421T184826Z
DESCRIPTION:Schalkau
DTSTART;TZID=Europe/Berlin:20160410T130000
DTEND;TZID=Europe/Berlin:20160410T144500
LOCATION:Katzberger Straße 6\n96528 Schalkau\, 96528 Schalkau
SUMMARY:15/16 Herren 2.KK-O: SG SV 08 Steinach III - FC-BW Schalkau II
END:VEVENT
BEGIN:VEVENT
UID:20260421T204826CEST-1416zJvNzv@85.13.129.106
DTSTAMP:20260421T184826Z
DESCRIPTION:Schalkau
DTSTART;TZID=Europe/Berlin:20160423T130000
DTEND;TZID=Europe/Berlin:20160423T144500
LOCATION:Katzberger Straße 6\n96528 Schalkau\, 96528 Schalkau
SUMMARY:15/16 Herren 2.KK-O: SG SV 08 Steinach III - SG Lauscha/Neuhaus II
END:VEVENT
BEGIN:VEVENT
UID:20260421T204826CEST-1421XEkEOu@85.13.129.106
DTSTAMP:20260421T184826Z
DESCRIPTION:Schalkau
DTSTART;TZID=Europe/Berlin:20160501T150000
DTEND;TZID=Europe/Berlin:20160501T164500
LOCATION:Katzberger Straße 6\n96528 Schalkau\, 96528 Schalkau
SUMMARY:15/16 Herren 2.KK-O: FC Heinersdorf - SG SV 08 Steinach III
END:VEVENT
BEGIN:VEVENT
UID:20260421T204826CEST-1425cXnE4V@85.13.129.106
DTSTAMP:20260421T184826Z
DESCRIPTION:Schalkau
DTSTART;TZID=Europe/Berlin:20160507T130000
DTEND;TZID=Europe/Berlin:20160507T144500
LOCATION:Katzberger Straße 6\n96528 Schalkau\, 96528 Schalkau
SUMMARY:15/16 Herren 2.KK-O: SG SV 08 Steinach III - SC 06 Oberlind II
END:VEVENT
BEGIN:VEVENT
UID:20260421T204826CEST-1429z25f9b@85.13.129.106
DTSTAMP:20260421T184826Z
DESCRIPTION:Schalkau
DTSTART;TZID=Europe/Berlin:20160522T150000
DTEND;TZID=Europe/Berlin:20160522T164500
LOCATION:Katzberger Straße 6\n96528 Schalkau\, 96528 Schalkau
SUMMARY:15/16 Herren 2.KK-O: SV Rennsteig Ernstthal - SG SV 08 Steinach III
END:VEVENT
BEGIN:VEVENT
UID:20260421T204826CEST-143472doGX@85.13.129.106
DTSTAMP:20260421T184826Z
DESCRIPTION:Schalkau
DTSTART;TZID=Europe/Berlin:20160528T130000
DTEND;TZID=Europe/Berlin:20160528T144500
LOCATION:Katzberger Straße 6\n96528 Schalkau\, 96528 Schalkau
SUMMARY:15/16 Herren 2.KK-O: SG SV 08 Steinach III - SG Haselbach/ Hasentha
 l
END:VEVENT
BEGIN:VEVENT
UID:20260421T204826CEST-143890OxGn@85.13.129.106
DTSTAMP:20260421T184826Z
DESCRIPTION:Schalkau
DTSTART;TZID=Europe/Berlin:20160604T140000
DTEND;TZID=Europe/Berlin:20160604T154500
LOCATION:Katzberger Straße 6\n96528 Schalkau\, 96528 Schalkau
SUMMARY:15/16 Herren 2.KK-O: SV Iso. Neuhaus Schierschnitz II - SG SV 08 St
 einach III
END:VEVENT
END:VCALENDAR
