BEGIN:VCALENDAR
VERSION:2.0
PRODID:-//85.13.129.106//NONSGML kigkonsult.se iCalcreator 2.10.23//
BEGIN:VEVENT
UID:20260421T115430CEST-4433LeUJAo@85.13.129.106
DTSTAMP:20260421T095430Z
DESCRIPTION:
DTSTART;TZID=Europe/Berlin:20150802T150000
DTEND;TZID=Europe/Berlin:20150802T164500
LOCATION:
SUMMARY:15/16 Herren 2.KK-O: SG Haselbach/ Hasenthal - SG 1951 Sonneberg II
END:VEVENT
BEGIN:VEVENT
UID:20260421T115430CEST-4438n68Gem@85.13.129.106
DTSTAMP:20260421T095430Z
DESCRIPTION:
DTSTART;TZID=Europe/Berlin:20150814T180000
DTEND;TZID=Europe/Berlin:20150814T194500
LOCATION:
SUMMARY:15/16 Herren 2.KK-O: 1. FC Sonneberg 04 II - SG Haselbach/ Hasentha
 l
END:VEVENT
BEGIN:VEVENT
UID:20260421T115430CEST-44431OIU6s@85.13.129.106
DTSTAMP:20260421T095430Z
DESCRIPTION:
DTSTART;TZID=Europe/Berlin:20150816T150000
DTEND;TZID=Europe/Berlin:20150816T164500
LOCATION:
SUMMARY:15/16 Herren 2.KK-O: SG Haselbach/ Hasenthal - 1. FC Köppelsdorf II
END:VEVENT
BEGIN:VEVENT
UID:20260421T115430CEST-4447VxU551@85.13.129.106
DTSTAMP:20260421T095430Z
DESCRIPTION:
DTSTART;TZID=Europe/Berlin:20150823T150000
DTEND;TZID=Europe/Berlin:20150823T164500
LOCATION:
SUMMARY:15/16 Herren 2.KK-O: SV Rottmar/Gefell - SG Haselbach/ Hasenthal
END:VEVENT
BEGIN:VEVENT
UID:20260421T115430CEST-4452dwsH79@85.13.129.106
DTSTAMP:20260421T095430Z
DESCRIPTION:
DTSTART;TZID=Europe/Berlin:20150830T150000
DTEND;TZID=Europe/Berlin:20150830T164500
LOCATION:
SUMMARY:15/16 Herren 2.KK-O: SG Haselbach/ Hasenthal - FC-BW Schalkau II
END:VEVENT
BEGIN:VEVENT
UID:20260421T115430CEST-4456Vm1gUj@85.13.129.106
DTSTAMP:20260421T095430Z
DESCRIPTION:
DTSTART;TZID=Europe/Berlin:20150913T150000
DTEND;TZID=Europe/Berlin:20150913T164500
LOCATION:
SUMMARY:15/16 Herren 2.KK-O: SG Haselbach/ Hasenthal - SG Lauscha/Neuhaus I
 I
END:VEVENT
BEGIN:VEVENT
UID:20260421T115430CEST-4460DpBZgV@85.13.129.106
DTSTAMP:20260421T095430Z
DESCRIPTION:
DTSTART;TZID=Europe/Berlin:20150920T150000
DTEND;TZID=Europe/Berlin:20150920T164500
LOCATION:
SUMMARY:15/16 Herren 2.KK-O: FC Heinersdorf - SG Haselbach/ Hasenthal
END:VEVENT
BEGIN:VEVENT
UID:20260421T115430CEST-4465RnmkjV@85.13.129.106
DTSTAMP:20260421T095430Z
DESCRIPTION:
DTSTART;TZID=Europe/Berlin:20150927T150000
DTEND;TZID=Europe/Berlin:20150927T164500
LOCATION:
SUMMARY:15/16 Herren 2.KK-O: SG Haselbach/ Hasenthal - SC 06 Oberlind II
END:VEVENT
BEGIN:VEVENT
UID:20260421T115430CEST-4469xhxciC@85.13.129.106
DTSTAMP:20260421T095430Z
DESCRIPTION:
DTSTART;TZID=Europe/Berlin:20151004T150000
DTEND;TZID=Europe/Berlin:20151004T164500
LOCATION:
SUMMARY:15/16 Herren 2.KK-O: SV Rennsteig Ernstthal - SG Haselbach/ Hasenth
 al
END:VEVENT
BEGIN:VEVENT
UID:20260421T115430CEST-4474sxWzBl@85.13.129.106
DTSTAMP:20260421T095430Z
DESCRIPTION:
DTSTART;TZID=Europe/Berlin:20151122T140000
DTEND;TZID=Europe/Berlin:20151122T154500
LOCATION:
SUMMARY:15/16 Herren 2.KK-O: SV Iso. Neuhaus Schierschnitz II - SG Haselbac
 h/ Hasenthal
END:VEVENT
BEGIN:VEVENT
UID:20260421T115430CEST-4478JiBEcV@85.13.129.106
DTSTAMP:20260421T095430Z
DESCRIPTION:
DTSTART;TZID=Europe/Berlin:20151018T150000
DTEND;TZID=Europe/Berlin:20151018T164500
LOCATION:
SUMMARY:15/16 Herren 2.KK-O: SG Haselbach/ Hasenthal - SG SV 08 Steinach II
 I
END:VEVENT
BEGIN:VEVENT
UID:20260421T115430CEST-4483Hg99vE@85.13.129.106
DTSTAMP:20260421T095430Z
DESCRIPTION:
DTSTART;TZID=Europe/Berlin:20151025T150000
DTEND;TZID=Europe/Berlin:20151025T164500
LOCATION:
SUMMARY:15/16 Herren 2.KK-O: TSV 1923 Neuenbau - SG Haselbach/ Hasenthal
END:VEVENT
BEGIN:VEVENT
UID:20260421T115430CEST-4487uzbC0H@85.13.129.106
DTSTAMP:20260421T095430Z
DESCRIPTION:
DTSTART;TZID=Europe/Berlin:20151031T123000
DTEND;TZID=Europe/Berlin:20151031T141500
LOCATION:
SUMMARY:15/16 Herren 2.KK-O: SG 1951 Sonneberg II - SG Haselbach/ Hasenthal
END:VEVENT
BEGIN:VEVENT
UID:20260421T115430CEST-4491cLpcVC@85.13.129.106
DTSTAMP:20260421T095430Z
DESCRIPTION:
DTSTART;TZID=Europe/Berlin:20151108T140000
DTEND;TZID=Europe/Berlin:20151108T154500
LOCATION:
SUMMARY:15/16 Herren 2.KK-O: SG Haselbach/ Hasenthal - 1. FC Sonneberg 04 I
 I
END:VEVENT
BEGIN:VEVENT
UID:20260421T115430CEST-4496xJ8RWj@85.13.129.106
DTSTAMP:20260421T095430Z
DESCRIPTION:
DTSTART;TZID=Europe/Berlin:20160313T123000
DTEND;TZID=Europe/Berlin:20160313T141500
LOCATION:
SUMMARY:15/16 Herren 2.KK-O: 1. FC Köppelsdorf II - SG Haselbach/ Hasenthal
END:VEVENT
BEGIN:VEVENT
UID:20260421T115430CEST-4500i879Cc@85.13.129.106
DTSTAMP:20260421T095430Z
DESCRIPTION:
DTSTART;TZID=Europe/Berlin:20160320T150000
DTEND;TZID=Europe/Berlin:20160320T164500
LOCATION:
SUMMARY:15/16 Herren 2.KK-O: SG Haselbach/ Hasenthal - SV Rottmar/Gefell
END:VEVENT
BEGIN:VEVENT
UID:20260421T115430CEST-4505pKi3nk@85.13.129.106
DTSTAMP:20260421T095430Z
DESCRIPTION:Schalkau
DTSTART;TZID=Europe/Berlin:20160403T130000
DTEND;TZID=Europe/Berlin:20160403T144500
LOCATION:Katzberger Straße 6\n96528 Schalkau\, 96528 Schalkau
SUMMARY:15/16 Herren 2.KK-O: FC-BW Schalkau II - SG Haselbach/ Hasenthal
END:VEVENT
BEGIN:VEVENT
UID:20260421T115430CEST-4509idkCUL@85.13.129.106
DTSTAMP:20260421T095430Z
DESCRIPTION:Schalkau
DTSTART;TZID=Europe/Berlin:20160416T130000
DTEND;TZID=Europe/Berlin:20160416T144500
LOCATION:Katzberger Straße 6\n96528 Schalkau\, 96528 Schalkau
SUMMARY:15/16 Herren 2.KK-O: SG Lauscha/Neuhaus II - SG Haselbach/ Hasentha
 l
END:VEVENT
BEGIN:VEVENT
UID:20260421T115430CEST-4513NUHEUk@85.13.129.106
DTSTAMP:20260421T095430Z
DESCRIPTION:Schalkau
DTSTART;TZID=Europe/Berlin:20160424T150000
DTEND;TZID=Europe/Berlin:20160424T164500
LOCATION:Katzberger Straße 6\n96528 Schalkau\, 96528 Schalkau
SUMMARY:15/16 Herren 2.KK-O: SG Haselbach/ Hasenthal - FC Heinersdorf
END:VEVENT
BEGIN:VEVENT
UID:20260421T115430CEST-4518STbIU5@85.13.129.106
DTSTAMP:20260421T095430Z
DESCRIPTION:Schalkau
DTSTART;TZID=Europe/Berlin:20160501T130000
DTEND;TZID=Europe/Berlin:20160501T144500
LOCATION:Katzberger Straße 6\n96528 Schalkau\, 96528 Schalkau
SUMMARY:15/16 Herren 2.KK-O: SC 06 Oberlind II - SG Haselbach/ Hasenthal
END:VEVENT
BEGIN:VEVENT
UID:20260421T115430CEST-452215mPMC@85.13.129.106
DTSTAMP:20260421T095430Z
DESCRIPTION:Schalkau
DTSTART;TZID=Europe/Berlin:20160508T150000
DTEND;TZID=Europe/Berlin:20160508T164500
LOCATION:Katzberger Straße 6\n96528 Schalkau\, 96528 Schalkau
SUMMARY:15/16 Herren 2.KK-O: SG Haselbach/ Hasenthal - SV Rennsteig Ernstth
 al
END:VEVENT
BEGIN:VEVENT
UID:20260421T115430CEST-45278G9TwR@85.13.129.106
DTSTAMP:20260421T095430Z
DESCRIPTION:Schalkau
DTSTART;TZID=Europe/Berlin:20160522T150000
DTEND;TZID=Europe/Berlin:20160522T164500
LOCATION:Katzberger Straße 6\n96528 Schalkau\, 96528 Schalkau
SUMMARY:15/16 Herren 2.KK-O: SG Haselbach/ Hasenthal - SV Iso. Neuhaus Schi
 erschnitz II
END:VEVENT
BEGIN:VEVENT
UID:20260421T115430CEST-4531EIGnn4@85.13.129.106
DTSTAMP:20260421T095430Z
DESCRIPTION:Schalkau
DTSTART;TZID=Europe/Berlin:20160528T130000
DTEND;TZID=Europe/Berlin:20160528T144500
LOCATION:Katzberger Straße 6\n96528 Schalkau\, 96528 Schalkau
SUMMARY:15/16 Herren 2.KK-O: SG SV 08 Steinach III - SG Haselbach/ Hasentha
 l
END:VEVENT
BEGIN:VEVENT
UID:20260421T115430CEST-4535mNfVdv@85.13.129.106
DTSTAMP:20260421T095430Z
DESCRIPTION:Schalkau
DTSTART;TZID=Europe/Berlin:20160604T140000
DTEND;TZID=Europe/Berlin:20160604T154500
LOCATION:Katzberger Straße 6\n96528 Schalkau\, 96528 Schalkau
SUMMARY:15/16 Herren 2.KK-O: SG Haselbach/ Hasenthal - TSV 1923 Neuenbau
END:VEVENT
END:VCALENDAR
