BEGIN:VCALENDAR
VERSION:2.0
PRODID:-//85.13.129.106//NONSGML kigkonsult.se iCalcreator 2.10.23//
BEGIN:VEVENT
UID:20260423T003838CEST-3028Do11XU@85.13.129.106
DTSTAMP:20260422T223838Z
DESCRIPTION:
DTSTART;TZID=Europe/Berlin:20150712T150000
DTEND;TZID=Europe/Berlin:20150712T164500
LOCATION:
SUMMARY:15/16 Herren Kreispokal: SG SV 08 Steinach III - FC Heinersdorf
END:VEVENT
BEGIN:VEVENT
UID:20260423T003838CEST-3032E3Vdd8@85.13.129.106
DTSTAMP:20260422T223838Z
DESCRIPTION:
DTSTART;TZID=Europe/Berlin:20150719T150000
DTEND;TZID=Europe/Berlin:20150719T164500
LOCATION:
SUMMARY:15/16 Herren Kreispokal: SG SV 08 Steinach III - VfR Jagdshof 1931
END:VEVENT
BEGIN:VEVENT
UID:20260423T003838CEST-30364vSHf0@85.13.129.106
DTSTAMP:20260422T223838Z
DESCRIPTION:
DTSTART;TZID=Europe/Berlin:20150726T150000
DTEND;TZID=Europe/Berlin:20150726T164500
LOCATION:
SUMMARY:15/16 Herren Kreispokal: SG SV 08 Steinach III - SV Blau-Weiß Heubi
 sch
END:VEVENT
BEGIN:VEVENT
UID:20260423T003838CEST-30412In2u1@85.13.129.106
DTSTAMP:20260422T223838Z
DESCRIPTION:
DTSTART;TZID=Europe/Berlin:20151114T150000
DTEND;TZID=Europe/Berlin:20151114T164500
LOCATION:
SUMMARY:15/16 Herren Kreispokal: SG SV 08 Steinach III - SV Eintracht Heldb
 urg
END:VEVENT
END:VCALENDAR
