BEGIN:VCALENDAR
VERSION:2.0
PRODID:-//85.13.129.106//NONSGML kigkonsult.se iCalcreator 2.10.23//
BEGIN:VEVENT
UID:20260419T150050CEST-0898FUIo4u@85.13.129.106
DTSTAMP:20260419T130050Z
DESCRIPTION:
DTSTART;TZID=Europe/Berlin:20150717T190000
DTEND;TZID=Europe/Berlin:20150717T204500
LOCATION:
SUMMARY:15/16 Herren Kreispokal: SV 03 Eisfeld - SC 07 Schleusingen
END:VEVENT
BEGIN:VEVENT
UID:20260419T150050CEST-0902P5gUxt@85.13.129.106
DTSTAMP:20260419T130050Z
DESCRIPTION:
DTSTART;TZID=Europe/Berlin:20150925T190000
DTEND;TZID=Europe/Berlin:20150925T204500
LOCATION:
SUMMARY:15/16 Herren Kreispokal: SC 07 Schleusingen - SG Milz/Eicha
END:VEVENT
BEGIN:VEVENT
UID:20260419T150050CEST-090780wlzR@85.13.129.106
DTSTAMP:20260419T130050Z
DESCRIPTION:
DTSTART;TZID=Europe/Berlin:20151114T150000
DTEND;TZID=Europe/Berlin:20151114T164500
LOCATION:
SUMMARY:15/16 Herren Kreispokal: SC 07 Schleusingen - SV 1897 Goßmannsrod
END:VEVENT
END:VCALENDAR
