BEGIN:VCALENDAR
VERSION:2.0
PRODID:-//85.13.129.106//NONSGML kigkonsult.se iCalcreator 2.10.23//
BEGIN:VEVENT
UID:20260423T074407CEST-63721WR0aL@85.13.129.106
DTSTAMP:20260423T054407Z
DESCRIPTION:
DTSTART;TZID=Europe/Berlin:20140907T103000
DTEND;TZID=Europe/Berlin:20140907T121500
LOCATION:
SUMMARY:14/15 D1-Jun. VL: TSV Germ. Sonneberg West D - SG 1. FC Sonneberg 0
 4 D
END:VEVENT
BEGIN:VEVENT
UID:20260423T074407CEST-6377W7JDJI@85.13.129.106
DTSTAMP:20260423T054407Z
DESCRIPTION:
DTSTART;TZID=Europe/Berlin:20140913T103000
DTEND;TZID=Europe/Berlin:20140913T121500
LOCATION:
SUMMARY:14/15 D1-Jun. VL: FC Carl Zeiss Jena D2 - TSV Germ. Sonneberg West 
 D
END:VEVENT
BEGIN:VEVENT
UID:20260423T074407CEST-6381JTlZDn@85.13.129.106
DTSTAMP:20260423T054407Z
DESCRIPTION:
DTSTART;TZID=Europe/Berlin:20140921T103000
DTEND;TZID=Europe/Berlin:20140921T121500
LOCATION:
SUMMARY:14/15 D1-Jun. VL: TSV Germ. Sonneberg West D - SG Herpfer SV 07 D
END:VEVENT
BEGIN:VEVENT
UID:20260423T074407CEST-6385OPJdSU@85.13.129.106
DTSTAMP:20260423T054407Z
DESCRIPTION:
DTSTART;TZID=Europe/Berlin:20141004T110000
DTEND;TZID=Europe/Berlin:20141004T124500
LOCATION:
SUMMARY:14/15 D1-Jun. VL: FSV Sömmerda D - TSV Germ. Sonneberg West D
END:VEVENT
BEGIN:VEVENT
UID:20260423T074407CEST-6390p0puUn@85.13.129.106
DTSTAMP:20260423T054407Z
DESCRIPTION:
DTSTART;TZID=Europe/Berlin:20141019T103000
DTEND;TZID=Europe/Berlin:20141019T121500
LOCATION:
SUMMARY:14/15 D1-Jun. VL: FC Rot-Weiß Erfurt D2 - TSV Germ. Sonneberg West 
 D
END:VEVENT
BEGIN:VEVENT
UID:20260423T074407CEST-6394V6hbZs@85.13.129.106
DTSTAMP:20260423T054407Z
DESCRIPTION:
DTSTART;TZID=Europe/Berlin:20141213T103000
DTEND;TZID=Europe/Berlin:20141213T121500
LOCATION:
SUMMARY:14/15 D1-Jun. VL: TSV Germ. Sonneberg West D - SG SV Germania Ilmen
 au D
END:VEVENT
BEGIN:VEVENT
UID:20260423T074407CEST-6399CuBao0@85.13.129.106
DTSTAMP:20260423T054407Z
DESCRIPTION:
DTSTART;TZID=Europe/Berlin:20141101T110000
DTEND;TZID=Europe/Berlin:20141101T124500
LOCATION:
SUMMARY:14/15 D1-Jun. VL: SG 1. Suhler SV 06 D - TSV Germ. Sonneberg West D
END:VEVENT
BEGIN:VEVENT
UID:20260423T074407CEST-6403evfZo8@85.13.129.106
DTSTAMP:20260423T054407Z
DESCRIPTION:
DTSTART;TZID=Europe/Berlin:20141109T110000
DTEND;TZID=Europe/Berlin:20141109T124500
LOCATION:
SUMMARY:14/15 D1-Jun. VL: TSV Germ. Sonneberg West D - SG FSV BW 90 Stadtil
 m D
END:VEVENT
BEGIN:VEVENT
UID:20260423T074407CEST-6407iieW4s@85.13.129.106
DTSTAMP:20260423T054407Z
DESCRIPTION:Schalkau
DTSTART;TZID=Europe/Berlin:20141122T103000
DTEND;TZID=Europe/Berlin:20141122T121500
LOCATION:Katzberger Straße 6\n96528 Schalkau\, 96528 Schalkau
SUMMARY:14/15 D1-Jun. VL: FC-BW Schalkau D - TSV Germ. Sonneberg West D
END:VEVENT
BEGIN:VEVENT
UID:20260423T074407CEST-6412sx7zHa@85.13.129.106
DTSTAMP:20260423T054407Z
DESCRIPTION:Schalkau
DTSTART;TZID=Europe/Berlin:20141130T103000
DTEND;TZID=Europe/Berlin:20141130T121500
LOCATION:Katzberger Straße 6\n96528 Schalkau\, 96528 Schalkau
SUMMARY:14/15 D1-Jun. VL: TSV Germ. Sonneberg West D - VfB Oberweimar D
END:VEVENT
BEGIN:VEVENT
UID:20260423T074407CEST-6416XiBuK1@85.13.129.106
DTSTAMP:20260423T054407Z
DESCRIPTION:Schalkau
DTSTART;TZID=Europe/Berlin:20141206T103000
DTEND;TZID=Europe/Berlin:20141206T121500
LOCATION:Katzberger Straße 6\n96528 Schalkau\, 96528 Schalkau
SUMMARY:14/15 D1-Jun. VL: SC 1903 Weimar D - TSV Germ. Sonneberg West D
END:VEVENT
BEGIN:VEVENT
UID:20260423T074407CEST-6420VhDVil@85.13.129.106
DTSTAMP:20260423T054407Z
DESCRIPTION:Schalkau
DTSTART;TZID=Europe/Berlin:20150326T173000
DTEND;TZID=Europe/Berlin:20150326T191500
LOCATION:Katzberger Straße 6\n96528 Schalkau\, 96528 Schalkau
SUMMARY:14/15 D1-Jun. VL: SG 1. FC Sonneberg 04 D - TSV Germ. Sonneberg Wes
 t D
END:VEVENT
BEGIN:VEVENT
UID:20260423T074407CEST-6425vBFRhv@85.13.129.106
DTSTAMP:20260423T054407Z
DESCRIPTION:Schalkau
DTSTART;TZID=Europe/Berlin:20150322T110000
DTEND;TZID=Europe/Berlin:20150322T124500
LOCATION:Katzberger Straße 6\n96528 Schalkau\, 96528 Schalkau
SUMMARY:14/15 D1-Jun. VL: TSV Germ. Sonneberg West D - FC Carl Zeiss Jena D
 2
END:VEVENT
BEGIN:VEVENT
UID:20260423T074407CEST-64290Ac7ro@85.13.129.106
DTSTAMP:20260423T054407Z
DESCRIPTION:Schalkau
DTSTART;TZID=Europe/Berlin:20150314T103000
DTEND;TZID=Europe/Berlin:20150314T121500
LOCATION:Katzberger Straße 6\n96528 Schalkau\, 96528 Schalkau
SUMMARY:14/15 D1-Jun. VL: SG Herpfer SV 07 D - TSV Germ. Sonneberg West D
END:VEVENT
BEGIN:VEVENT
UID:20260423T074407CEST-6434o9WmaA@85.13.129.106
DTSTAMP:20260423T054407Z
DESCRIPTION:Schalkau
DTSTART;TZID=Europe/Berlin:20150419T110000
DTEND;TZID=Europe/Berlin:20150419T124500
LOCATION:Katzberger Straße 6\n96528 Schalkau\, 96528 Schalkau
SUMMARY:14/15 D1-Jun. VL: TSV Germ. Sonneberg West D - FSV Sömmerda D
END:VEVENT
BEGIN:VEVENT
UID:20260423T074407CEST-6438Tlk5vV@85.13.129.106
DTSTAMP:20260423T054407Z
DESCRIPTION:Schalkau
DTSTART;TZID=Europe/Berlin:20150426T103000
DTEND;TZID=Europe/Berlin:20150426T121500
LOCATION:Katzberger Straße 6\n96528 Schalkau\, 96528 Schalkau
SUMMARY:14/15 D1-Jun. VL: TSV Germ. Sonneberg West D - FC Rot-Weiß Erfurt D
 2
END:VEVENT
BEGIN:VEVENT
UID:20260423T074407CEST-6443vmelhs@85.13.129.106
DTSTAMP:20260423T054407Z
DESCRIPTION:Schalkau
DTSTART;TZID=Europe/Berlin:20150502T103000
DTEND;TZID=Europe/Berlin:20150502T121500
LOCATION:Katzberger Straße 6\n96528 Schalkau\, 96528 Schalkau
SUMMARY:14/15 D1-Jun. VL: SG SV Germania Ilmenau D - TSV Germ. Sonneberg We
 st D
END:VEVENT
BEGIN:VEVENT
UID:20260423T074407CEST-6447GM8aF7@85.13.129.106
DTSTAMP:20260423T054407Z
DESCRIPTION:Schalkau
DTSTART;TZID=Europe/Berlin:20150517T103000
DTEND;TZID=Europe/Berlin:20150517T121500
LOCATION:Katzberger Straße 6\n96528 Schalkau\, 96528 Schalkau
SUMMARY:14/15 D1-Jun. VL: TSV Germ. Sonneberg West D - SG 1. Suhler SV 06 D
END:VEVENT
BEGIN:VEVENT
UID:20260423T074407CEST-64529PSxJC@85.13.129.106
DTSTAMP:20260423T054407Z
DESCRIPTION:Schalkau
DTSTART;TZID=Europe/Berlin:20150531T110000
DTEND;TZID=Europe/Berlin:20150531T124500
LOCATION:Katzberger Straße 6\n96528 Schalkau\, 96528 Schalkau
SUMMARY:14/15 D1-Jun. VL: SG FSV BW 90 Stadtilm D - TSV Germ. Sonneberg Wes
 t D
END:VEVENT
BEGIN:VEVENT
UID:20260423T074407CEST-6456sU5aeR@85.13.129.106
DTSTAMP:20260423T054407Z
DESCRIPTION:Schalkau
DTSTART;TZID=Europe/Berlin:20150607T103000
DTEND;TZID=Europe/Berlin:20150607T121500
LOCATION:Katzberger Straße 6\n96528 Schalkau\, 96528 Schalkau
SUMMARY:14/15 D1-Jun. VL: TSV Germ. Sonneberg West D - FC-BW Schalkau D
END:VEVENT
BEGIN:VEVENT
UID:20260423T074407CEST-6461v4VTEG@85.13.129.106
DTSTAMP:20260423T054407Z
DESCRIPTION:Schalkau
DTSTART;TZID=Europe/Berlin:20150613T103000
DTEND;TZID=Europe/Berlin:20150613T121500
LOCATION:Katzberger Straße 6\n96528 Schalkau\, 96528 Schalkau
SUMMARY:14/15 D1-Jun. VL: VfB Oberweimar D - TSV Germ. Sonneberg West D
END:VEVENT
BEGIN:VEVENT
UID:20260423T074407CEST-6465iEgTEU@85.13.129.106
DTSTAMP:20260423T054407Z
DESCRIPTION:Schalkau
DTSTART;TZID=Europe/Berlin:20150620T103000
DTEND;TZID=Europe/Berlin:20150620T121500
LOCATION:Katzberger Straße 6\n96528 Schalkau\, 96528 Schalkau
SUMMARY:14/15 D1-Jun. VL: TSV Germ. Sonneberg West D - SC 1903 Weimar D
END:VEVENT
END:VCALENDAR
