BEGIN:VCALENDAR
VERSION:2.0
PRODID:-//85.13.129.106//NONSGML kigkonsult.se iCalcreator 2.10.23//
BEGIN:VEVENT
UID:20260423T112430CEST-7271k27NAj@85.13.129.106
DTSTAMP:20260423T092430Z
DESCRIPTION:
DTSTART;TZID=Europe/Berlin:20140906T110000
DTEND;TZID=Europe/Berlin:20140906T124500
LOCATION:
SUMMARY:14/15 D1-Jun. VL: SG 1. Suhler SV 06 D - VfB Oberweimar D
END:VEVENT
BEGIN:VEVENT
UID:20260423T112430CEST-7276zjRijJ@85.13.129.106
DTSTAMP:20260423T092430Z
DESCRIPTION:
DTSTART;TZID=Europe/Berlin:20140913T103000
DTEND;TZID=Europe/Berlin:20140913T121500
LOCATION:
SUMMARY:14/15 D1-Jun. VL: VfB Oberweimar D - SG FSV BW 90 Stadtilm D
END:VEVENT
BEGIN:VEVENT
UID:20260423T112430CEST-7280JsI0Ti@85.13.129.106
DTSTAMP:20260423T092430Z
DESCRIPTION:Schalkau
DTSTART;TZID=Europe/Berlin:20140921T103000
DTEND;TZID=Europe/Berlin:20140921T121500
LOCATION:Katzberger Straße 6\n96528 Schalkau\, 96528 Schalkau
SUMMARY:14/15 D1-Jun. VL: FC-BW Schalkau D - VfB Oberweimar D
END:VEVENT
BEGIN:VEVENT
UID:20260423T112430CEST-7284DPVaP2@85.13.129.106
DTSTAMP:20260423T092430Z
DESCRIPTION:Schalkau
DTSTART;TZID=Europe/Berlin:20141004T103000
DTEND;TZID=Europe/Berlin:20141004T121500
LOCATION:Katzberger Straße 6\n96528 Schalkau\, 96528 Schalkau
SUMMARY:14/15 D1-Jun. VL: FC Rot-Weiß Erfurt D2 - VfB Oberweimar D
END:VEVENT
BEGIN:VEVENT
UID:20260423T112430CEST-7289JGd8Uh@85.13.129.106
DTSTAMP:20260423T092430Z
DESCRIPTION:Schalkau
DTSTART;TZID=Europe/Berlin:20141019T090000
DTEND;TZID=Europe/Berlin:20141019T104500
LOCATION:Katzberger Straße 6\n96528 Schalkau\, 96528 Schalkau
SUMMARY:14/15 D1-Jun. VL: VfB Oberweimar D - SC 1903 Weimar D
END:VEVENT
BEGIN:VEVENT
UID:20260423T112430CEST-7293uswTwr@85.13.129.106
DTSTAMP:20260423T092430Z
DESCRIPTION:Schalkau
DTSTART;TZID=Europe/Berlin:20141025T103000
DTEND;TZID=Europe/Berlin:20141025T121500
LOCATION:Katzberger Straße 6\n96528 Schalkau\, 96528 Schalkau
SUMMARY:14/15 D1-Jun. VL: SG 1. FC Sonneberg 04 D - VfB Oberweimar D
END:VEVENT
BEGIN:VEVENT
UID:20260423T112430CEST-7298rt49FF@85.13.129.106
DTSTAMP:20260423T092430Z
DESCRIPTION:Schalkau
DTSTART;TZID=Europe/Berlin:20141101T103000
DTEND;TZID=Europe/Berlin:20141101T121500
LOCATION:Katzberger Straße 6\n96528 Schalkau\, 96528 Schalkau
SUMMARY:14/15 D1-Jun. VL: VfB Oberweimar D - FC Carl Zeiss Jena D2
END:VEVENT
BEGIN:VEVENT
UID:20260423T112430CEST-7302tbMxDZ@85.13.129.106
DTSTAMP:20260423T092430Z
DESCRIPTION:Schalkau
DTSTART;TZID=Europe/Berlin:20141108T103000
DTEND;TZID=Europe/Berlin:20141108T121500
LOCATION:Katzberger Straße 6\n96528 Schalkau\, 96528 Schalkau
SUMMARY:14/15 D1-Jun. VL: SG Herpfer SV 07 D - VfB Oberweimar D
END:VEVENT
BEGIN:VEVENT
UID:20260423T112430CEST-7306FcMlu2@85.13.129.106
DTSTAMP:20260423T092430Z
DESCRIPTION:Schalkau
DTSTART;TZID=Europe/Berlin:20141122T103000
DTEND;TZID=Europe/Berlin:20141122T121500
LOCATION:Katzberger Straße 6\n96528 Schalkau\, 96528 Schalkau
SUMMARY:14/15 D1-Jun. VL: VfB Oberweimar D - FSV Sömmerda D
END:VEVENT
BEGIN:VEVENT
UID:20260423T112430CEST-7311lDgtb3@85.13.129.106
DTSTAMP:20260423T092430Z
DESCRIPTION:Schalkau
DTSTART;TZID=Europe/Berlin:20141130T103000
DTEND;TZID=Europe/Berlin:20141130T121500
LOCATION:Katzberger Straße 6\n96528 Schalkau\, 96528 Schalkau
SUMMARY:14/15 D1-Jun. VL: TSV Germ. Sonneberg West D - VfB Oberweimar D
END:VEVENT
BEGIN:VEVENT
UID:20260423T112430CEST-7315KX5uGR@85.13.129.106
DTSTAMP:20260423T092430Z
DESCRIPTION:Schalkau
DTSTART;TZID=Europe/Berlin:20141206T103000
DTEND;TZID=Europe/Berlin:20141206T121500
LOCATION:Katzberger Straße 6\n96528 Schalkau\, 96528 Schalkau
SUMMARY:14/15 D1-Jun. VL: VfB Oberweimar D - SG SV Germania Ilmenau D
END:VEVENT
BEGIN:VEVENT
UID:20260423T112430CEST-7319Bz2Z48@85.13.129.106
DTSTAMP:20260423T092430Z
DESCRIPTION:Schalkau
DTSTART;TZID=Europe/Berlin:20150301T121500
DTEND;TZID=Europe/Berlin:20150301T140000
LOCATION:Katzberger Straße 6\n96528 Schalkau\, 96528 Schalkau
SUMMARY:14/15 D1-Jun. VL: VfB Oberweimar D - SG 1. Suhler SV 06 D
END:VEVENT
BEGIN:VEVENT
UID:20260423T112430CEST-7324gj1o7v@85.13.129.106
DTSTAMP:20260423T092430Z
DESCRIPTION:Schalkau
DTSTART;TZID=Europe/Berlin:20150307T110000
DTEND;TZID=Europe/Berlin:20150307T124500
LOCATION:Katzberger Straße 6\n96528 Schalkau\, 96528 Schalkau
SUMMARY:14/15 D1-Jun. VL: SG FSV BW 90 Stadtilm D - VfB Oberweimar D
END:VEVENT
BEGIN:VEVENT
UID:20260423T112430CEST-7328tU7VTW@85.13.129.106
DTSTAMP:20260423T092430Z
DESCRIPTION:Schalkau
DTSTART;TZID=Europe/Berlin:20150315T130000
DTEND;TZID=Europe/Berlin:20150315T144500
LOCATION:Katzberger Straße 6\n96528 Schalkau\, 96528 Schalkau
SUMMARY:14/15 D1-Jun. VL: VfB Oberweimar D - FC-BW Schalkau D
END:VEVENT
BEGIN:VEVENT
UID:20260423T112430CEST-7332Lge6Om@85.13.129.106
DTSTAMP:20260423T092430Z
DESCRIPTION:Schalkau
DTSTART;TZID=Europe/Berlin:20150417T173000
DTEND;TZID=Europe/Berlin:20150417T191500
LOCATION:Katzberger Straße 6\n96528 Schalkau\, 96528 Schalkau
SUMMARY:14/15 D1-Jun. VL: VfB Oberweimar D - FC Rot-Weiß Erfurt D2
END:VEVENT
BEGIN:VEVENT
UID:20260423T112430CEST-7337jv5x96@85.13.129.106
DTSTAMP:20260423T092430Z
DESCRIPTION:Schalkau
DTSTART;TZID=Europe/Berlin:20150425T090000
DTEND;TZID=Europe/Berlin:20150425T104500
LOCATION:Katzberger Straße 6\n96528 Schalkau\, 96528 Schalkau
SUMMARY:14/15 D1-Jun. VL: SC 1903 Weimar D - VfB Oberweimar D
END:VEVENT
BEGIN:VEVENT
UID:20260423T112430CEST-7341CkmNoO@85.13.129.106
DTSTAMP:20260423T092430Z
DESCRIPTION:Schalkau
DTSTART;TZID=Europe/Berlin:20150503T103000
DTEND;TZID=Europe/Berlin:20150503T121500
LOCATION:Katzberger Straße 6\n96528 Schalkau\, 96528 Schalkau
SUMMARY:14/15 D1-Jun. VL: VfB Oberweimar D - SG 1. FC Sonneberg 04 D
END:VEVENT
BEGIN:VEVENT
UID:20260423T112430CEST-7345BWbLSS@85.13.129.106
DTSTAMP:20260423T092430Z
DESCRIPTION:Schalkau
DTSTART;TZID=Europe/Berlin:20150516T103000
DTEND;TZID=Europe/Berlin:20150516T121500
LOCATION:Katzberger Straße 6\n96528 Schalkau\, 96528 Schalkau
SUMMARY:14/15 D1-Jun. VL: FC Carl Zeiss Jena D2 - VfB Oberweimar D
END:VEVENT
BEGIN:VEVENT
UID:20260423T112430CEST-7350M4iuUJ@85.13.129.106
DTSTAMP:20260423T092430Z
DESCRIPTION:Schalkau
DTSTART;TZID=Europe/Berlin:20150530T103000
DTEND;TZID=Europe/Berlin:20150530T121500
LOCATION:Katzberger Straße 6\n96528 Schalkau\, 96528 Schalkau
SUMMARY:14/15 D1-Jun. VL: VfB Oberweimar D - SG Herpfer SV 07 D
END:VEVENT
BEGIN:VEVENT
UID:20260423T112430CEST-7354KGBp54@85.13.129.106
DTSTAMP:20260423T092430Z
DESCRIPTION:Schalkau
DTSTART;TZID=Europe/Berlin:20150606T103000
DTEND;TZID=Europe/Berlin:20150606T121500
LOCATION:Katzberger Straße 6\n96528 Schalkau\, 96528 Schalkau
SUMMARY:14/15 D1-Jun. VL: FSV Sömmerda D - VfB Oberweimar D
END:VEVENT
BEGIN:VEVENT
UID:20260423T112430CEST-73596lWozK@85.13.129.106
DTSTAMP:20260423T092430Z
DESCRIPTION:Schalkau
DTSTART;TZID=Europe/Berlin:20150613T103000
DTEND;TZID=Europe/Berlin:20150613T121500
LOCATION:Katzberger Straße 6\n96528 Schalkau\, 96528 Schalkau
SUMMARY:14/15 D1-Jun. VL: VfB Oberweimar D - TSV Germ. Sonneberg West D
END:VEVENT
BEGIN:VEVENT
UID:20260423T112430CEST-7363jvuDsb@85.13.129.106
DTSTAMP:20260423T092430Z
DESCRIPTION:Schalkau
DTSTART;TZID=Europe/Berlin:20150620T103000
DTEND;TZID=Europe/Berlin:20150620T121500
LOCATION:Katzberger Straße 6\n96528 Schalkau\, 96528 Schalkau
SUMMARY:14/15 D1-Jun. VL: SG SV Germania Ilmenau D - VfB Oberweimar D
END:VEVENT
END:VCALENDAR
