BEGIN:VCALENDAR
VERSION:2.0
PRODID:-//85.13.129.106//NONSGML kigkonsult.se iCalcreator 2.10.23//
BEGIN:VEVENT
UID:20260421T093142CEST-2002gAE6P7@85.13.129.106
DTSTAMP:20260421T073142Z
DESCRIPTION:
DTSTART;TZID=Europe/Amsterdam:20130911T173000
DTEND;TZID=Europe/Amsterdam:20130911T191500
LOCATION:
SUMMARY:13/14 E-Jun. Pokal: SV Empor 90 Eishausen E - 1. FC Köppelsdorf E
END:VEVENT
BEGIN:VEVENT
UID:20260421T093142CEST-20074pHbHV@85.13.129.106
DTSTAMP:20260421T073142Z
DESCRIPTION:
DTSTART;TZID=Europe/Amsterdam:20131003T103000
DTEND;TZID=Europe/Amsterdam:20131003T121500
LOCATION:
SUMMARY:13/14 E-Jun. Pokal: SV Empor 90 Eishausen E - SV 1920 Gellershausen
  E
END:VEVENT
BEGIN:VEVENT
UID:20260421T093142CEST-2012NiL72o@85.13.129.106
DTSTAMP:20260421T073142Z
DESCRIPTION:
DTSTART;TZID=Europe/Amsterdam:20140416T180000
DTEND;TZID=Europe/Amsterdam:20140416T194500
LOCATION:
SUMMARY:13/14 E-Jun. Pokal: SG 1951 Sonneberg E - SV Empor 90 Eishausen E
END:VEVENT
END:VCALENDAR
