BEGIN:VCALENDAR
VERSION:2.0
PRODID:-//85.13.129.106//NONSGML kigkonsult.se iCalcreator 2.10.23//
BEGIN:VEVENT
UID:20260419T230849CEST-9781jBX2cl@85.13.129.106
DTSTAMP:20260419T210849Z
DESCRIPTION:
DTSTART;TZID=Europe/Amsterdam:20130918T180000
DTEND;TZID=Europe/Amsterdam:20130918T194500
LOCATION:
SUMMARY:13/14 D-Jun. Pokal: Freilos - SG 1951 Sonneberg D
END:VEVENT
BEGIN:VEVENT
UID:20260419T230849CEST-9785gEMkCx@85.13.129.106
DTSTAMP:20260419T210849Z
DESCRIPTION:
DTSTART;TZID=Europe/Amsterdam:20130918T180000
DTEND;TZID=Europe/Amsterdam:20130918T194500
LOCATION:
SUMMARY:13/14 D-Jun. Pokal: Freilos - FSV 06 Eintr. Hildburghausen D
END:VEVENT
BEGIN:VEVENT
UID:20260419T230849CEST-9789slUPSw@85.13.129.106
DTSTAMP:20260419T210849Z
DESCRIPTION:
DTSTART;TZID=Europe/Amsterdam:20130918T180000
DTEND;TZID=Europe/Amsterdam:20130918T194500
LOCATION:
SUMMARY:13/14 D-Jun. Pokal: Freilos - SV 03 Eisfeld D
END:VEVENT
BEGIN:VEVENT
UID:20260419T230849CEST-9793HcjZvi@85.13.129.106
DTSTAMP:20260419T210849Z
DESCRIPTION:
DTSTART;TZID=Europe/Amsterdam:20130918T180000
DTEND;TZID=Europe/Amsterdam:20130918T194500
LOCATION:
SUMMARY:13/14 D-Jun. Pokal: Freilos - TSV 1908 Gompertshausen D
END:VEVENT
BEGIN:VEVENT
UID:20260419T230849CEST-9796oEANcg@85.13.129.106
DTSTAMP:20260419T210849Z
DESCRIPTION:
DTSTART;TZID=Europe/Amsterdam:20130918T180000
DTEND;TZID=Europe/Amsterdam:20130918T194500
LOCATION:
SUMMARY:13/14 D-Jun. Pokal: Freilos - SG Neuhaus Schierschnitz D
END:VEVENT
BEGIN:VEVENT
UID:20260419T230849CEST-9800kkkROu@85.13.129.106
DTSTAMP:20260419T210849Z
DESCRIPTION:
DTSTART;TZID=Europe/Amsterdam:20130918T180000
DTEND;TZID=Europe/Amsterdam:20130918T194500
LOCATION:
SUMMARY:13/14 D-Jun. Pokal: Freilos - FC-BW Schalkau D
END:VEVENT
BEGIN:VEVENT
UID:20260419T230849CEST-98049k5n3C@85.13.129.106
DTSTAMP:20260419T210849Z
DESCRIPTION:
DTSTART;TZID=Europe/Amsterdam:20130918T180000
DTEND;TZID=Europe/Amsterdam:20130918T194500
LOCATION:
SUMMARY:13/14 D-Jun. Pokal: Freilos - SG Gleichamberg D
END:VEVENT
BEGIN:VEVENT
UID:20260419T230849CEST-9808HHVS1k@85.13.129.106
DTSTAMP:20260419T210849Z
DESCRIPTION:
DTSTART;TZID=Europe/Amsterdam:20130918T180000
DTEND;TZID=Europe/Amsterdam:20130918T194500
LOCATION:
SUMMARY:13/14 D-Jun. Pokal: Freilos - SV EK Veilsdorf D
END:VEVENT
BEGIN:VEVENT
UID:20260419T230849CEST-9812sxpcd5@85.13.129.106
DTSTAMP:20260419T210849Z
DESCRIPTION:
DTSTART;TZID=Europe/Amsterdam:20130918T180000
DTEND;TZID=Europe/Amsterdam:20130918T194500
LOCATION:
SUMMARY:13/14 D-Jun. Pokal: Freilos - Erlauer SV Grün-Weiß D
END:VEVENT
BEGIN:VEVENT
UID:20260419T230849CEST-9816J7ZKm6@85.13.129.106
DTSTAMP:20260419T210849Z
DESCRIPTION:
DTSTART;TZID=Europe/Amsterdam:20130918T180000
DTEND;TZID=Europe/Amsterdam:20130918T194500
LOCATION:
SUMMARY:13/14 D-Jun. Pokal: Freilos - SG Lauscha/Neuhaus D
END:VEVENT
BEGIN:VEVENT
UID:20260419T230849CEST-9820n7cL9H@85.13.129.106
DTSTAMP:20260419T210849Z
DESCRIPTION:
DTSTART;TZID=Europe/Amsterdam:20130918T180000
DTEND;TZID=Europe/Amsterdam:20130918T194500
LOCATION:
SUMMARY:13/14 D-Jun. Pokal: Freilos - TSV Germ. Sonneberg West D2
END:VEVENT
BEGIN:VEVENT
UID:20260419T230849CEST-98240a5d9r@85.13.129.106
DTSTAMP:20260419T210849Z
DESCRIPTION:
DTSTART;TZID=Europe/Amsterdam:20130918T180000
DTEND;TZID=Europe/Amsterdam:20130918T194500
LOCATION:
SUMMARY:13/14 D-Jun. Pokal: Freilos - SC 07 Schleusingen D
END:VEVENT
END:VCALENDAR
