BEGIN:VCALENDAR
VERSION:2.0
PRODID:-//85.13.129.106//NONSGML kigkonsult.se iCalcreator 2.10.23//
BEGIN:VEVENT
UID:20260422T154502CEST-465104gdkJ@85.13.129.106
DTSTAMP:20260422T134502Z
DESCRIPTION:
DTSTART;TZID=Europe/Amsterdam:20131019T150000
DTEND;TZID=Europe/Amsterdam:20131019T163500
LOCATION:
SUMMARY:13/14 B-Jun. Pokal: Freilos - SV 08 Steinach B
END:VEVENT
BEGIN:VEVENT
UID:20260422T154502CEST-4655300VS8@85.13.129.106
DTSTAMP:20260422T134502Z
DESCRIPTION:
DTSTART;TZID=Europe/Amsterdam:20130308T140000
DTEND;TZID=Europe/Amsterdam:20130308T153500
LOCATION:
SUMMARY:13/14 B-Jun. Pokal: SV 08 Steinach B - SV Grün-Weiß Waldau B
END:VEVENT
BEGIN:VEVENT
UID:20260422T154502CEST-4659GtPUGM@85.13.129.106
DTSTAMP:20260422T134502Z
DESCRIPTION:Schalkau
DTSTART;TZID=Europe/Amsterdam:20140501T110000
DTEND;TZID=Europe/Amsterdam:20140501T123500
LOCATION:Katzberger Straße 6\n96528 Schalkau\, 96528 Schalkau
SUMMARY:13/14 B-Jun. Pokal: FC-BW Schalkau B - SV 08 Steinach B
END:VEVENT
BEGIN:VEVENT
UID:20260422T154502CEST-4663fa4axp@85.13.129.106
DTSTAMP:20260422T134502Z
DESCRIPTION:Schalkau
DTSTART;TZID=Europe/Amsterdam:20140621T160000
DTEND;TZID=Europe/Amsterdam:20140621T173500
LOCATION:Katzberger Straße 6\n96528 Schalkau\, 96528 Schalkau
SUMMARY:13/14 B-Jun. Pokal: TSV Germ. Sonneberg West B - SV 08 Steinach B
END:VEVENT
END:VCALENDAR
