BEGIN:VCALENDAR
VERSION:2.0
PRODID:-//85.13.129.106//NONSGML kigkonsult.se iCalcreator 2.10.23//
BEGIN:VEVENT
UID:20260422T015713CEST-2234aBHh9U@85.13.129.106
DTSTAMP:20260421T235713Z
DESCRIPTION:
DTSTART;TZID=Europe/Amsterdam:20131003T150000
DTEND;TZID=Europe/Amsterdam:20131003T164500
LOCATION:
SUMMARY:13/14 Herren Kreispokal: SV 07 Häselrieth - SV 08 Westhausen
END:VEVENT
BEGIN:VEVENT
UID:20260422T015713CEST-22398keiXj@85.13.129.106
DTSTAMP:20260421T235713Z
DESCRIPTION:
DTSTART;TZID=Europe/Amsterdam:20140308T130000
DTEND;TZID=Europe/Amsterdam:20140308T144500
LOCATION:
SUMMARY:13/14 Herren Kreispokal: SV 07 Häselrieth - SC 09 Effelder
END:VEVENT
BEGIN:VEVENT
UID:20260422T015713CEST-2244oJr0dU@85.13.129.106
DTSTAMP:20260421T235713Z
DESCRIPTION:
DTSTART;TZID=Europe/Amsterdam:20140419T150000
DTEND;TZID=Europe/Amsterdam:20140419T164500
LOCATION:
SUMMARY:13/14 Herren Kreispokal: SV 07 Häselrieth - SV Eintracht Oberland
END:VEVENT
BEGIN:VEVENT
UID:20260422T015713CEST-2248lgMZrm@85.13.129.106
DTSTAMP:20260421T235713Z
DESCRIPTION:
DTSTART;TZID=Europe/Amsterdam:20140501T160000
DTEND;TZID=Europe/Amsterdam:20140501T174500
LOCATION:
SUMMARY:13/14 Herren Kreispokal: SV 07 Häselrieth - TSV Germ. Sonneberg Wes
 t
END:VEVENT
BEGIN:VEVENT
UID:20260422T015713CEST-2253veKSFJ@85.13.129.106
DTSTAMP:20260421T235713Z
DESCRIPTION:
DTSTART;TZID=Europe/Amsterdam:20140607T150000
DTEND;TZID=Europe/Amsterdam:20140607T164500
LOCATION:
SUMMARY:13/14 Herren Kreispokal: SV 07 Häselrieth - Hainaer SV
END:VEVENT
END:VCALENDAR
