BEGIN:VCALENDAR
VERSION:2.0
PRODID:-//85.13.129.106//NONSGML kigkonsult.se iCalcreator 2.10.23//
BEGIN:VEVENT
UID:20260422T155709CEST-6680kdO3Cj@85.13.129.106
DTSTAMP:20260422T135709Z
DESCRIPTION:
DTSTART;TZID=Europe/Berlin:20180815T173000
DTEND;TZID=Europe/Berlin:20180815T181500
LOCATION:
SUMMARY:18/19 D-Jun. Landespokal: Freilos - SG SpG Helba D
END:VEVENT
BEGIN:VEVENT
UID:20260422T155709CEST-6684Ad3i76@85.13.129.106
DTSTAMP:20260422T135709Z
DESCRIPTION:
DTSTART;TZID=Europe/Berlin:20180915T103000
DTEND;TZID=Europe/Berlin:20180915T111500
LOCATION:
SUMMARY:18/19 D-Jun. Landespokal: SG SV 08 Thur. Struth-Helmersdorf D - SG 
 SpG Helba D
END:VEVENT
BEGIN:VEVENT
UID:20260422T155709CEST-6689Vof86e@85.13.129.106
DTSTAMP:20260422T135709Z
DESCRIPTION:
DTSTART;TZID=Europe/Berlin:20181031T110000
DTEND;TZID=Europe/Berlin:20181031T114500
LOCATION:
SUMMARY:18/19 D-Jun. Landespokal: FSV Wacker 03 Gotha D - SG SpG Helba D
END:VEVENT
BEGIN:VEVENT
UID:20260422T155709CEST-6693TGBKFs@85.13.129.106
DTSTAMP:20260422T135709Z
DESCRIPTION:
DTSTART;TZID=Europe/Berlin:20190323T110000
DTEND;TZID=Europe/Berlin:20190323T114500
LOCATION:
SUMMARY:18/19 D-Jun. Landespokal: FC Rot-Weiß Erfurt D - SG SpG Helba D
END:VEVENT
END:VCALENDAR
