BEGIN:VCALENDAR
VERSION:2.0
PRODID:-//85.13.129.106//NONSGML kigkonsult.se iCalcreator 2.10.23//
BEGIN:VEVENT
UID:20260423T230317CEST-2868Vtuc3W@85.13.129.106
DTSTAMP:20260423T210317Z
DESCRIPTION:
DTSTART;TZID=Europe/Berlin:20180815T173000
DTEND;TZID=Europe/Berlin:20180815T181500
LOCATION:
SUMMARY:18/19 D-Jun. Landespokal: Freilos - JFC Gera D
END:VEVENT
BEGIN:VEVENT
UID:20260423T230317CEST-2873AkHRSv@85.13.129.106
DTSTAMP:20260423T210317Z
DESCRIPTION:
DTSTART;TZID=Europe/Berlin:20180915T103000
DTEND;TZID=Europe/Berlin:20180915T111500
LOCATION:
SUMMARY:18/19 D-Jun. Landespokal: FSV Schleiz D - JFC Gera D
END:VEVENT
BEGIN:VEVENT
UID:20260423T230317CEST-28770VmthM@85.13.129.106
DTSTAMP:20260423T210317Z
DESCRIPTION:
DTSTART;TZID=Europe/Berlin:20181031T110000
DTEND;TZID=Europe/Berlin:20181031T114500
LOCATION:
SUMMARY:18/19 D-Jun. Landespokal: JFC Gera D - JFV Eichsfeld Mitte D
END:VEVENT
BEGIN:VEVENT
UID:20260423T230317CEST-2882BHUSx9@85.13.129.106
DTSTAMP:20260423T210317Z
DESCRIPTION:
DTSTART;TZID=Europe/Berlin:20190323T110000
DTEND;TZID=Europe/Berlin:20190323T114500
LOCATION:
SUMMARY:18/19 D-Jun. Landespokal: FSV Sömmerda D - JFC Gera D
END:VEVENT
END:VCALENDAR
