BEGIN:VCALENDAR
VERSION:2.0
PRODID:-//85.13.129.106//NONSGML kigkonsult.se iCalcreator 2.10.23//
BEGIN:VEVENT
UID:20260424T020006CEST-7255tWbaEf@85.13.129.106
DTSTAMP:20260424T000006Z
DESCRIPTION:
DTSTART;TZID=Europe/Berlin:20180819T103000
DTEND;TZID=Europe/Berlin:20180819T121500
LOCATION:
SUMMARY:18/19 D-Jun. VL: SG SpG Helba D - spielfrei
END:VEVENT
BEGIN:VEVENT
UID:20260424T020006CEST-7262kk9d3M@85.13.129.106
DTSTAMP:20260424T000006Z
DESCRIPTION:
DTSTART;TZID=Europe/Berlin:20180826T113000
DTEND;TZID=Europe/Berlin:20180826T131500
LOCATION:
SUMMARY:18/19 D-Jun. VL: spielfrei - SV Wacker 04 Bad Salzungen D
END:VEVENT
BEGIN:VEVENT
UID:20260424T020006CEST-7270x86D7L@85.13.129.106
DTSTAMP:20260424T000006Z
DESCRIPTION:
DTSTART;TZID=Europe/Berlin:20180902T103000
DTEND;TZID=Europe/Berlin:20180902T121500
LOCATION:
SUMMARY:18/19 D-Jun. VL: 1. Suhler SV 06 D - spielfrei
END:VEVENT
BEGIN:VEVENT
UID:20260424T020006CEST-7278ArZcKv@85.13.129.106
DTSTAMP:20260424T000006Z
DESCRIPTION:
DTSTART;TZID=Europe/Berlin:20180909T103000
DTEND;TZID=Europe/Berlin:20180909T121500
LOCATION:
SUMMARY:18/19 D-Jun. VL: spielfrei - SG Effelder/Schalkau D
END:VEVENT
BEGIN:VEVENT
UID:20260424T020006CEST-7286cfAfwP@85.13.129.106
DTSTAMP:20260424T000006Z
DESCRIPTION:
DTSTART;TZID=Europe/Berlin:20180930T113000
DTEND;TZID=Europe/Berlin:20180930T131500
LOCATION:
SUMMARY:18/19 D-Jun. VL: spielfrei - FSV Ulstertal Geisa 1866 D
END:VEVENT
BEGIN:VEVENT
UID:20260424T020006CEST-72946lXPPC@85.13.129.106
DTSTAMP:20260424T000006Z
DESCRIPTION:
DTSTART;TZID=Europe/Berlin:20181021T103000
DTEND;TZID=Europe/Berlin:20181021T121500
LOCATION:
SUMMARY:18/19 D-Jun. VL: FSV Martinroda D - spielfrei
END:VEVENT
BEGIN:VEVENT
UID:20260424T020006CEST-7301ZP8aJC@85.13.129.106
DTSTAMP:20260424T000006Z
DESCRIPTION:
DTSTART;TZID=Europe/Berlin:20181028T113000
DTEND;TZID=Europe/Berlin:20181028T131500
LOCATION:
SUMMARY:18/19 D-Jun. VL: spielfrei - 1. FC Sonneberg 04 D
END:VEVENT
BEGIN:VEVENT
UID:20260424T020006CEST-7310uV3lZ8@85.13.129.106
DTSTAMP:20260424T000006Z
DESCRIPTION:
DTSTART;TZID=Europe/Berlin:20181104T103000
DTEND;TZID=Europe/Berlin:20181104T121500
LOCATION:
SUMMARY:18/19 D-Jun. VL: spielfrei - SG SpG Helba D
END:VEVENT
BEGIN:VEVENT
UID:20260424T020006CEST-73170SAcez@85.13.129.106
DTSTAMP:20260424T000006Z
DESCRIPTION:
DTSTART;TZID=Europe/Berlin:20181111T103000
DTEND;TZID=Europe/Berlin:20181111T121500
LOCATION:
SUMMARY:18/19 D-Jun. VL: SV Wacker 04 Bad Salzungen D - spielfrei
END:VEVENT
BEGIN:VEVENT
UID:20260424T020006CEST-7325SJXWE4@85.13.129.106
DTSTAMP:20260424T000006Z
DESCRIPTION:
DTSTART;TZID=Europe/Berlin:20181118T103000
DTEND;TZID=Europe/Berlin:20181118T121500
LOCATION:
SUMMARY:18/19 D-Jun. VL: spielfrei - 1. Suhler SV 06 D
END:VEVENT
BEGIN:VEVENT
UID:20260424T020006CEST-7333a7lUah@85.13.129.106
DTSTAMP:20260424T000006Z
DESCRIPTION:
DTSTART;TZID=Europe/Berlin:20181125T113000
DTEND;TZID=Europe/Berlin:20181125T131500
LOCATION:
SUMMARY:18/19 D-Jun. VL: SG Effelder/Schalkau D - spielfrei
END:VEVENT
BEGIN:VEVENT
UID:20260424T020006CEST-7341WJE7Ju@85.13.129.106
DTSTAMP:20260424T000006Z
DESCRIPTION:
DTSTART;TZID=Europe/Berlin:20190224T103000
DTEND;TZID=Europe/Berlin:20190224T121500
LOCATION:
SUMMARY:18/19 D-Jun. VL: FSV Ulstertal Geisa 1866 D - spielfrei
END:VEVENT
BEGIN:VEVENT
UID:20260424T020006CEST-7350pdbNJz@85.13.129.106
DTSTAMP:20260424T000006Z
DESCRIPTION:
DTSTART;TZID=Europe/Berlin:20190303T103000
DTEND;TZID=Europe/Berlin:20190303T121500
LOCATION:
SUMMARY:18/19 D-Jun. VL: spielfrei - FSV Martinroda D
END:VEVENT
BEGIN:VEVENT
UID:20260424T020006CEST-7358fkdutP@85.13.129.106
DTSTAMP:20260424T000006Z
DESCRIPTION:
DTSTART;TZID=Europe/Berlin:20190310T103000
DTEND;TZID=Europe/Berlin:20190310T121500
LOCATION:
SUMMARY:18/19 D-Jun. VL: 1. FC Sonneberg 04 D - spielfrei
END:VEVENT
BEGIN:VEVENT
UID:20260424T020006CEST-73633psVPB@85.13.129.106
DTSTAMP:20260424T000006Z
DESCRIPTION:
DTSTART;TZID=Europe/Berlin:20190317T113000
DTEND;TZID=Europe/Berlin:20190317T131500
LOCATION:
SUMMARY:18/19 D-Jun. VL: SG SpG Helba D - spielfrei
END:VEVENT
BEGIN:VEVENT
UID:20260424T020006CEST-7371NPFxdh@85.13.129.106
DTSTAMP:20260424T000006Z
DESCRIPTION:
DTSTART;TZID=Europe/Berlin:20190331T113000
DTEND;TZID=Europe/Berlin:20190331T131500
LOCATION:
SUMMARY:18/19 D-Jun. VL: spielfrei - SV Wacker 04 Bad Salzungen D
END:VEVENT
BEGIN:VEVENT
UID:20260424T020006CEST-7379hV29UG@85.13.129.106
DTSTAMP:20260424T000006Z
DESCRIPTION:
DTSTART;TZID=Europe/Berlin:20190407T103000
DTEND;TZID=Europe/Berlin:20190407T121500
LOCATION:
SUMMARY:18/19 D-Jun. VL: 1. Suhler SV 06 D - spielfrei
END:VEVENT
BEGIN:VEVENT
UID:20260424T020006CEST-7387bdPg6H@85.13.129.106
DTSTAMP:20260424T000006Z
DESCRIPTION:
DTSTART;TZID=Europe/Berlin:20190512T103000
DTEND;TZID=Europe/Berlin:20190512T121500
LOCATION:
SUMMARY:18/19 D-Jun. VL: spielfrei - SG Effelder/Schalkau D
END:VEVENT
BEGIN:VEVENT
UID:20260424T020006CEST-7394FwsWkw@85.13.129.106
DTSTAMP:20260424T000006Z
DESCRIPTION:
DTSTART;TZID=Europe/Berlin:20190519T113000
DTEND;TZID=Europe/Berlin:20190519T131500
LOCATION:
SUMMARY:18/19 D-Jun. VL: spielfrei - FSV Ulstertal Geisa 1866 D
END:VEVENT
BEGIN:VEVENT
UID:20260424T020006CEST-7402K4uKSs@85.13.129.106
DTSTAMP:20260424T000006Z
DESCRIPTION:
DTSTART;TZID=Europe/Berlin:20190526T103000
DTEND;TZID=Europe/Berlin:20190526T121500
LOCATION:
SUMMARY:18/19 D-Jun. VL: FSV Martinroda D - spielfrei
END:VEVENT
BEGIN:VEVENT
UID:20260424T020006CEST-741088scCN@85.13.129.106
DTSTAMP:20260424T000006Z
DESCRIPTION:
DTSTART;TZID=Europe/Berlin:20190602T103000
DTEND;TZID=Europe/Berlin:20190602T121500
LOCATION:
SUMMARY:18/19 D-Jun. VL: spielfrei - 1. FC Sonneberg 04 D
END:VEVENT
END:VCALENDAR
