BEGIN:VCALENDAR
VERSION:2.0
PRODID:-//85.13.129.106//NONSGML kigkonsult.se iCalcreator 2.10.23//
BEGIN:VEVENT
UID:20260426T035011CEST-7033uVVWEu@85.13.129.106
DTSTAMP:20260426T015011Z
DESCRIPTION:
DTSTART;TZID=Europe/Berlin:20180812T150000
DTEND;TZID=Europe/Berlin:20180812T164500
LOCATION:
SUMMARY:18/19 Herren 2.KK-O: SG Lauscha/Neuhaus II - SG Heinersdorf/Neuenba
 u
END:VEVENT
BEGIN:VEVENT
UID:20260426T035011CEST-7038wvbkWo@85.13.129.106
DTSTAMP:20260426T015011Z
DESCRIPTION:
DTSTART;TZID=Europe/Berlin:20180819T150000
DTEND;TZID=Europe/Berlin:20180819T164500
LOCATION:
SUMMARY:18/19 Herren 2.KK-O: SG Heinersdorf/Neuenbau - SC 06 Oberlind II
END:VEVENT
BEGIN:VEVENT
UID:20260426T035011CEST-7042KSziuP@85.13.129.106
DTSTAMP:20260426T015011Z
DESCRIPTION:
DTSTART;TZID=Europe/Berlin:20180826T130000
DTEND;TZID=Europe/Berlin:20180826T144500
LOCATION:
SUMMARY:18/19 Herren 2.KK-O: SV Iso. Neuhaus Schierschnitz II - SG Heinersd
 orf/Neuenbau
END:VEVENT
BEGIN:VEVENT
UID:20260426T035011CEST-70461FrUun@85.13.129.106
DTSTAMP:20260426T015011Z
DESCRIPTION:
DTSTART;TZID=Europe/Berlin:20180902T150000
DTEND;TZID=Europe/Berlin:20180902T164500
LOCATION:
SUMMARY:18/19 Herren 2.KK-O: SG Heinersdorf/Neuenbau - spielfrei
END:VEVENT
BEGIN:VEVENT
UID:20260426T035011CEST-7050Jbhwsw@85.13.129.106
DTSTAMP:20260426T015011Z
DESCRIPTION:
DTSTART;TZID=Europe/Berlin:20180908T160000
DTEND;TZID=Europe/Berlin:20180908T174500
LOCATION:
SUMMARY:18/19 Herren 2.KK-O: TSV Germ. Sonneberg-West II - SG Heinersdorf/N
 euenbau
END:VEVENT
BEGIN:VEVENT
UID:20260426T035011CEST-7055kvwfuB@85.13.129.106
DTSTAMP:20260426T015011Z
DESCRIPTION:
DTSTART;TZID=Europe/Berlin:20180916T170000
DTEND;TZID=Europe/Berlin:20180916T184500
LOCATION:
SUMMARY:18/19 Herren 2.KK-O: SG Heinersdorf/Neuenbau - spielfrei
END:VEVENT
BEGIN:VEVENT
UID:20260426T035011CEST-7059Lb6Xxu@85.13.129.106
DTSTAMP:20260426T015011Z
DESCRIPTION:
DTSTART;TZID=Europe/Berlin:20180923T150000
DTEND;TZID=Europe/Berlin:20180923T164500
LOCATION:
SUMMARY:18/19 Herren 2.KK-O: SG Heinersdorf/Neuenbau - VfR Jagdshof 1931
END:VEVENT
BEGIN:VEVENT
UID:20260426T035011CEST-7063mLhLkv@85.13.129.106
DTSTAMP:20260426T015011Z
DESCRIPTION:
DTSTART;TZID=Europe/Berlin:20180930T150000
DTEND;TZID=Europe/Berlin:20180930T164500
LOCATION:
SUMMARY:18/19 Herren 2.KK-O: SV Rottmar/Gefell - SG Heinersdorf/Neuenbau
END:VEVENT
BEGIN:VEVENT
UID:20260426T035011CEST-7067kMErbb@85.13.129.106
DTSTAMP:20260426T015011Z
DESCRIPTION:
DTSTART;TZID=Europe/Berlin:20181007T150000
DTEND;TZID=Europe/Berlin:20181007T164500
LOCATION:
SUMMARY:18/19 Herren 2.KK-O: SG Heinersdorf/Neuenbau - SG SV 08 Steinach II
 I
END:VEVENT
BEGIN:VEVENT
UID:20260426T035011CEST-7072dcsOL0@85.13.129.106
DTSTAMP:20260426T015011Z
DESCRIPTION:
DTSTART;TZID=Europe/Berlin:20181118T140000
DTEND;TZID=Europe/Berlin:20181118T154500
LOCATION:
SUMMARY:18/19 Herren 2.KK-O: 1. FC Köppelsdorf II - SG Heinersdorf/Neuenbau
END:VEVENT
BEGIN:VEVENT
UID:20260426T035011CEST-70763gUEPI@85.13.129.106
DTSTAMP:20260426T015011Z
DESCRIPTION:
DTSTART;TZID=Europe/Berlin:20181020T150000
DTEND;TZID=Europe/Berlin:20181020T164500
LOCATION:
SUMMARY:18/19 Herren 2.KK-O: SG Heinersdorf/Neuenbau - FC-BW Schalkau II
END:VEVENT
BEGIN:VEVENT
UID:20260426T035011CEST-7080wz4VSo@85.13.129.106
DTSTAMP:20260426T015011Z
DESCRIPTION:
DTSTART;TZID=Europe/Berlin:20181028T150000
DTEND;TZID=Europe/Berlin:20181028T164500
LOCATION:
SUMMARY:18/19 Herren 2.KK-O: SG Heinersdorf/Neuenbau - SG Lauscha/Neuhaus I
 I
END:VEVENT
BEGIN:VEVENT
UID:20260426T035011CEST-7085Skj695@85.13.129.106
DTSTAMP:20260426T015011Z
DESCRIPTION:
DTSTART;TZID=Europe/Berlin:20181103T140000
DTEND;TZID=Europe/Berlin:20181103T154500
LOCATION:
SUMMARY:18/19 Herren 2.KK-O: SC 06 Oberlind II - SG Heinersdorf/Neuenbau
END:VEVENT
BEGIN:VEVENT
UID:20260426T035011CEST-70893dJua2@85.13.129.106
DTSTAMP:20260426T015011Z
DESCRIPTION:
DTSTART;TZID=Europe/Berlin:20190602T150000
DTEND;TZID=Europe/Berlin:20190602T164500
LOCATION:
SUMMARY:18/19 Herren 2.KK-O: SG Heinersdorf/Neuenbau - SV Iso. Neuhaus Schi
 erschnitz II
END:VEVENT
BEGIN:VEVENT
UID:20260426T035011CEST-7093jurdH0@85.13.129.106
DTSTAMP:20260426T015011Z
DESCRIPTION:
DTSTART;TZID=Europe/Berlin:20190324T150000
DTEND;TZID=Europe/Berlin:20190324T164500
LOCATION:
SUMMARY:18/19 Herren 2.KK-O: spielfrei - SG Heinersdorf/Neuenbau
END:VEVENT
BEGIN:VEVENT
UID:20260426T035011CEST-7097x2AhHZ@85.13.129.106
DTSTAMP:20260426T015011Z
DESCRIPTION:
DTSTART;TZID=Europe/Berlin:20190331T150000
DTEND;TZID=Europe/Berlin:20190331T164500
LOCATION:
SUMMARY:18/19 Herren 2.KK-O: SG Heinersdorf/Neuenbau - TSV Germ. Sonneberg-
 West II
END:VEVENT
BEGIN:VEVENT
UID:20260426T035011CEST-7102ulFrXX@85.13.129.106
DTSTAMP:20260426T015011Z
DESCRIPTION:
DTSTART;TZID=Europe/Berlin:20190407T170000
DTEND;TZID=Europe/Berlin:20190407T184500
LOCATION:
SUMMARY:18/19 Herren 2.KK-O: spielfrei - SG Heinersdorf/Neuenbau
END:VEVENT
BEGIN:VEVENT
UID:20260426T035011CEST-7106KKUdou@85.13.129.106
DTSTAMP:20260426T015011Z
DESCRIPTION:
DTSTART;TZID=Europe/Berlin:20190414T150000
DTEND;TZID=Europe/Berlin:20190414T164500
LOCATION:
SUMMARY:18/19 Herren 2.KK-O: VfR Jagdshof 1931 - SG Heinersdorf/Neuenbau
END:VEVENT
BEGIN:VEVENT
UID:20260426T035011CEST-7110jDcTox@85.13.129.106
DTSTAMP:20260426T015011Z
DESCRIPTION:
DTSTART;TZID=Europe/Berlin:20190428T150000
DTEND;TZID=Europe/Berlin:20190428T164500
LOCATION:
SUMMARY:18/19 Herren 2.KK-O: SG Heinersdorf/Neuenbau - SV Rottmar/Gefell
END:VEVENT
BEGIN:VEVENT
UID:20260426T035011CEST-7115wVkv6V@85.13.129.106
DTSTAMP:20260426T015011Z
DESCRIPTION:
DTSTART;TZID=Europe/Berlin:20190512T130000
DTEND;TZID=Europe/Berlin:20190512T144500
LOCATION:
SUMMARY:18/19 Herren 2.KK-O: SG SV 08 Steinach III - SG Heinersdorf/Neuenba
 u
END:VEVENT
BEGIN:VEVENT
UID:20260426T035011CEST-7119rd3VuT@85.13.129.106
DTSTAMP:20260426T015011Z
DESCRIPTION:
DTSTART;TZID=Europe/Berlin:20190519T150000
DTEND;TZID=Europe/Berlin:20190519T164500
LOCATION:
SUMMARY:18/19 Herren 2.KK-O: SG Heinersdorf/Neuenbau - 1. FC Köppelsdorf II
END:VEVENT
BEGIN:VEVENT
UID:20260426T035011CEST-7123biUNuv@85.13.129.106
DTSTAMP:20260426T015011Z
DESCRIPTION:Schalkau
DTSTART;TZID=Europe/Berlin:20190526T130000
DTEND;TZID=Europe/Berlin:20190526T144500
LOCATION:Katzberger Straße 6\n96528 Schalkau\, 96528 Schalkau
SUMMARY:18/19 Herren 2.KK-O: FC-BW Schalkau II - SG Heinersdorf/Neuenbau
END:VEVENT
END:VCALENDAR
