BEGIN:VCALENDAR
VERSION:2.0
PRODID:-//85.13.129.106//NONSGML kigkonsult.se iCalcreator 2.10.23//
BEGIN:VEVENT
UID:20260421T172349CEST-82235UeKMs@85.13.129.106
DTSTAMP:20260421T152349Z
DESCRIPTION:
DTSTART;TZID=Europe/Berlin:20171020T163000
DTEND;TZID=Europe/Berlin:20171020T181500
LOCATION:
SUMMARY:17/18 E1-Jun. KOL: SV Eintracht Heldburg E - FSV 06 Eintr. Hildburg
 hausen E
END:VEVENT
BEGIN:VEVENT
UID:20260421T172349CEST-8232bZVuXV@85.13.129.106
DTSTAMP:20260421T152349Z
DESCRIPTION:
DTSTART;TZID=Europe/Berlin:20171028T103000
DTEND;TZID=Europe/Berlin:20171028T121500
LOCATION:
SUMMARY:17/18 E1-Jun. KOL: FSV 06 Eintr. Hildburghausen E - SG Lauscha/Neuh
 aus E
END:VEVENT
BEGIN:VEVENT
UID:20260421T172349CEST-8239aCGzKE@85.13.129.106
DTSTAMP:20260421T152349Z
DESCRIPTION:
DTSTART;TZID=Europe/Berlin:20171103T180000
DTEND;TZID=Europe/Berlin:20171103T194500
LOCATION:
SUMMARY:17/18 E1-Jun. KOL: FSV 06 Eintr. Hildburghausen E - 1. FC Sonneberg
  04 E
END:VEVENT
BEGIN:VEVENT
UID:20260421T172349CEST-8245DfvN9S@85.13.129.106
DTSTAMP:20260421T152349Z
DESCRIPTION:
DTSTART;TZID=Europe/Berlin:20180325T093000
DTEND;TZID=Europe/Berlin:20180325T111500
LOCATION:
SUMMARY:17/18 E1-Jun. KOL: TSV 1911 Themar E - FSV 06 Eintr. Hildburghausen
  E
END:VEVENT
BEGIN:VEVENT
UID:20260421T172349CEST-8251Dv0zo8@85.13.129.106
DTSTAMP:20260421T152349Z
DESCRIPTION:
DTSTART;TZID=Europe/Berlin:20180406T170000
DTEND;TZID=Europe/Berlin:20180406T184500
LOCATION:
SUMMARY:17/18 E1-Jun. KOL: FSV 06 Eintr. Hildburghausen E - SV 03 Eisfeld E
END:VEVENT
BEGIN:VEVENT
UID:20260421T172349CEST-8257nmfTtR@85.13.129.106
DTSTAMP:20260421T152349Z
DESCRIPTION:Schalkau
DTSTART;TZID=Europe/Berlin:20180414T103000
DTEND;TZID=Europe/Berlin:20180414T121500
LOCATION:Katzberger Straße 6\n96528 Schalkau\, 96528 Schalkau
SUMMARY:17/18 E1-Jun. KOL: SG Schalkau/Effelder E - FSV 06 Eintr. Hildburgh
 ausen E
END:VEVENT
BEGIN:VEVENT
UID:20260421T172349CEST-82628Bx4tr@85.13.129.106
DTSTAMP:20260421T152349Z
DESCRIPTION:Schalkau
DTSTART;TZID=Europe/Berlin:20180421T103000
DTEND;TZID=Europe/Berlin:20180421T121500
LOCATION:Katzberger Straße 6\n96528 Schalkau\, 96528 Schalkau
SUMMARY:17/18 E1-Jun. KOL: FSV 06 Eintr. Hildburghausen E - SV Empor 90 Eis
 hausen E
END:VEVENT
BEGIN:VEVENT
UID:20260421T172349CEST-8267DdJuOw@85.13.129.106
DTSTAMP:20260421T152349Z
DESCRIPTION:Schalkau
DTSTART;TZID=Europe/Berlin:20180428T103000
DTEND;TZID=Europe/Berlin:20180428T121500
LOCATION:Katzberger Straße 6\n96528 Schalkau\, 96528 Schalkau
SUMMARY:17/18 E1-Jun. KOL: FSV 06 Eintr. Hildburghausen E - SV Eintracht He
 ldburg E
END:VEVENT
BEGIN:VEVENT
UID:20260421T172349CEST-8271EnLBkB@85.13.129.106
DTSTAMP:20260421T152349Z
DESCRIPTION:Schalkau
DTSTART;TZID=Europe/Berlin:20180505T103000
DTEND;TZID=Europe/Berlin:20180505T121500
LOCATION:Katzberger Straße 6\n96528 Schalkau\, 96528 Schalkau
SUMMARY:17/18 E1-Jun. KOL: SG Lauscha/Neuhaus E - FSV 06 Eintr. Hildburghau
 sen E
END:VEVENT
BEGIN:VEVENT
UID:20260421T172349CEST-8276H7P0lH@85.13.129.106
DTSTAMP:20260421T152349Z
DESCRIPTION:Schalkau
DTSTART;TZID=Europe/Berlin:20180509T180000
DTEND;TZID=Europe/Berlin:20180509T194500
LOCATION:Katzberger Straße 6\n96528 Schalkau\, 96528 Schalkau
SUMMARY:17/18 E1-Jun. KOL: 1. FC Sonneberg 04 E - FSV 06 Eintr. Hildburghau
 sen E
END:VEVENT
BEGIN:VEVENT
UID:20260421T172349CEST-8280DkfeAe@85.13.129.106
DTSTAMP:20260421T152349Z
DESCRIPTION:Schalkau
DTSTART;TZID=Europe/Berlin:20180512T103000
DTEND;TZID=Europe/Berlin:20180512T121500
LOCATION:Katzberger Straße 6\n96528 Schalkau\, 96528 Schalkau
SUMMARY:17/18 E1-Jun. KOL: FSV 06 Eintr. Hildburghausen E - TSV 1911 Themar
  E
END:VEVENT
BEGIN:VEVENT
UID:20260421T172349CEST-8285F2FCeI@85.13.129.106
DTSTAMP:20260421T152349Z
DESCRIPTION:Schalkau
DTSTART;TZID=Europe/Berlin:20180526T103000
DTEND;TZID=Europe/Berlin:20180526T121500
LOCATION:Katzberger Straße 6\n96528 Schalkau\, 96528 Schalkau
SUMMARY:17/18 E1-Jun. KOL: SV 03 Eisfeld E - FSV 06 Eintr. Hildburghausen E
END:VEVENT
BEGIN:VEVENT
UID:20260421T172349CEST-8290uWTeU4@85.13.129.106
DTSTAMP:20260421T152349Z
DESCRIPTION:Schalkau
DTSTART;TZID=Europe/Berlin:20180609T103000
DTEND;TZID=Europe/Berlin:20180609T121500
LOCATION:Katzberger Straße 6\n96528 Schalkau\, 96528 Schalkau
SUMMARY:17/18 E1-Jun. KOL: FSV 06 Eintr. Hildburghausen E - SG Schalkau/Eff
 elder E
END:VEVENT
BEGIN:VEVENT
UID:20260421T172349CEST-8294Dh2iSh@85.13.129.106
DTSTAMP:20260421T152349Z
DESCRIPTION:Schalkau
DTSTART;TZID=Europe/Berlin:20180616T103000
DTEND;TZID=Europe/Berlin:20180616T121500
LOCATION:Katzberger Straße 6\n96528 Schalkau\, 96528 Schalkau
SUMMARY:17/18 E1-Jun. KOL: SV Empor 90 Eishausen E - FSV 06 Eintr. Hildburg
 hausen E
END:VEVENT
END:VCALENDAR
