BEGIN:VCALENDAR
VERSION:2.0
PRODID:-//85.13.129.106//NONSGML kigkonsult.se iCalcreator 2.10.23//
BEGIN:VEVENT
UID:20260420T094026CEST-15377ALOOa@85.13.129.106
DTSTAMP:20260420T074026Z
DESCRIPTION:
DTSTART;TZID=Europe/Berlin:20170910T103000
DTEND;TZID=Europe/Berlin:20170910T121500
LOCATION:
SUMMARY:17/18 F-Jun. KL Mitte: SG SV 07 Häselrieth/Reurieth F - SV 03 Eisfe
 ld F
END:VEVENT
BEGIN:VEVENT
UID:20260420T094026CEST-1542iR1JGX@85.13.129.106
DTSTAMP:20260420T074026Z
DESCRIPTION:
DTSTART;TZID=Europe/Berlin:20170910T113000
DTEND;TZID=Europe/Berlin:20170910T131500
LOCATION:
SUMMARY:17/18 F-Jun. KL Mitte: SV 03 Eisfeld F - SG Effelder/Schalkau F
END:VEVENT
BEGIN:VEVENT
UID:20260420T094026CEST-1546Pvvzn7@85.13.129.106
DTSTAMP:20260420T074026Z
DESCRIPTION:
DTSTART;TZID=Europe/Berlin:20170924T103000
DTEND;TZID=Europe/Berlin:20170924T121500
LOCATION:
SUMMARY:17/18 F-Jun. KL Mitte: SV 03 Eisfeld F - SV Falke Sachsenbrunn F
END:VEVENT
BEGIN:VEVENT
UID:20260420T094026CEST-15508E0g4G@85.13.129.106
DTSTAMP:20260420T074026Z
DESCRIPTION:
DTSTART;TZID=Europe/Berlin:20170924T113000
DTEND;TZID=Europe/Berlin:20170924T131500
LOCATION:
SUMMARY:17/18 F-Jun. KL Mitte: SV 03 Eisfeld F - SV Empor 90 Eishausen F
END:VEVENT
BEGIN:VEVENT
UID:20260420T094026CEST-1555D5CP3p@85.13.129.106
DTSTAMP:20260420T074026Z
DESCRIPTION:
DTSTART;TZID=Europe/Berlin:20171029T103000
DTEND;TZID=Europe/Berlin:20171029T121500
LOCATION:
SUMMARY:17/18 F-Jun. KL Mitte: SV 03 Eisfeld F - SG Effelder/Schalkau F2
END:VEVENT
BEGIN:VEVENT
UID:20260420T094026CEST-15593avUmk@85.13.129.106
DTSTAMP:20260420T074026Z
DESCRIPTION:
DTSTART;TZID=Europe/Berlin:20171029T120000
DTEND;TZID=Europe/Berlin:20171029T134500
LOCATION:
SUMMARY:17/18 F-Jun. KL Mitte: SV 03 Eisfeld F - SG SV 07 Häselrieth/Reurie
 th F
END:VEVENT
BEGIN:VEVENT
UID:20260420T094026CEST-1563zBmHUg@85.13.129.106
DTSTAMP:20260420T074026Z
DESCRIPTION:
DTSTART;TZID=Europe/Berlin:20180415T093000
DTEND;TZID=Europe/Berlin:20180415T111500
LOCATION:
SUMMARY:17/18 F-Jun. KL Mitte: SG Effelder/Schalkau F - SV 03 Eisfeld F
END:VEVENT
BEGIN:VEVENT
UID:20260420T094026CEST-1568cxHoGI@85.13.129.106
DTSTAMP:20260420T074026Z
DESCRIPTION:
DTSTART;TZID=Europe/Berlin:20180415T110000
DTEND;TZID=Europe/Berlin:20180415T124500
LOCATION:
SUMMARY:17/18 F-Jun. KL Mitte: SV Falke Sachsenbrunn F - SV 03 Eisfeld F
END:VEVENT
BEGIN:VEVENT
UID:20260420T094026CEST-1572MlvJ0e@85.13.129.106
DTSTAMP:20260420T074026Z
DESCRIPTION:
DTSTART;TZID=Europe/Berlin:20180506T100000
DTEND;TZID=Europe/Berlin:20180506T114500
LOCATION:
SUMMARY:17/18 F-Jun. KL Mitte: SV Empor 90 Eishausen F - SV 03 Eisfeld F
END:VEVENT
BEGIN:VEVENT
UID:20260420T094026CEST-1576VgVrgu@85.13.129.106
DTSTAMP:20260420T074026Z
DESCRIPTION:
DTSTART;TZID=Europe/Berlin:20180506T110000
DTEND;TZID=Europe/Berlin:20180506T124500
LOCATION:
SUMMARY:17/18 F-Jun. KL Mitte: SG Effelder/Schalkau F2 - SV 03 Eisfeld F
END:VEVENT
END:VCALENDAR
