BEGIN:VCALENDAR
VERSION:2.0
PRODID:-//85.13.129.106//NONSGML kigkonsult.se iCalcreator 2.10.23//
BEGIN:VEVENT
UID:20260422T174553CEST-8107cva8Ng@85.13.129.106
DTSTAMP:20260422T154553Z
DESCRIPTION:
DTSTART;TZID=Europe/Berlin:20170825T173000
DTEND;TZID=Europe/Berlin:20170825T191500
LOCATION:
SUMMARY:17/18 E2-Jun. KL Gruppe 5: SG Römhild E2 - 1. FC Sonneberg 04 E2
END:VEVENT
BEGIN:VEVENT
UID:20260422T174553CEST-81161BDssG@85.13.129.106
DTSTAMP:20260422T154553Z
DESCRIPTION:Schalkau
DTSTART;TZID=Europe/Berlin:20170903T103000
DTEND;TZID=Europe/Berlin:20170903T121500
LOCATION:Katzberger Straße 6\n96528 Schalkau\, 96528 Schalkau
SUMMARY:17/18 E2-Jun. KL Gruppe 5: SG Schalkau/Effelder E2 - SG Römhild E2
END:VEVENT
BEGIN:VEVENT
UID:20260422T174553CEST-8124LbDvJs@85.13.129.106
DTSTAMP:20260422T154553Z
DESCRIPTION:Schalkau
DTSTART;TZID=Europe/Berlin:20170909T103000
DTEND;TZID=Europe/Berlin:20170909T121500
LOCATION:Katzberger Straße 6\n96528 Schalkau\, 96528 Schalkau
SUMMARY:17/18 E2-Jun. KL Gruppe 5: SG Römhild E2 - SG Meng.-Hämmern/Rauenst
 ein E
END:VEVENT
BEGIN:VEVENT
UID:20260422T174553CEST-8132X8erND@85.13.129.106
DTSTAMP:20260422T154553Z
DESCRIPTION:Schalkau
DTSTART;TZID=Europe/Berlin:20170916T103000
DTEND;TZID=Europe/Berlin:20170916T121500
LOCATION:Katzberger Straße 6\n96528 Schalkau\, 96528 Schalkau
SUMMARY:17/18 E2-Jun. KL Gruppe 5: SG Römhild E2 - FSV 06 Eintr. Hildburgha
 usen E2
END:VEVENT
BEGIN:VEVENT
UID:20260422T174553CEST-81408MKOVW@85.13.129.106
DTSTAMP:20260422T154553Z
DESCRIPTION:Schalkau
DTSTART;TZID=Europe/Berlin:20170922T173000
DTEND;TZID=Europe/Berlin:20170922T191500
LOCATION:Katzberger Straße 6\n96528 Schalkau\, 96528 Schalkau
SUMMARY:17/18 E2-Jun. KL Gruppe 5: SV 03 Eisfeld E2 - SG Römhild E2
END:VEVENT
END:VCALENDAR
