BEGIN:VCALENDAR
VERSION:2.0
PRODID:-//85.13.129.106//NONSGML kigkonsult.se iCalcreator 2.10.23//
BEGIN:VEVENT
UID:20260420T175006CEST-4460TcrM4S@85.13.129.106
DTSTAMP:20260420T155006Z
DESCRIPTION:
DTSTART;TZID=Europe/Berlin:20170818T180000
DTEND;TZID=Europe/Berlin:20170818T194500
LOCATION:
SUMMARY:17/18 C-Jun. KOL: SG SV 08 Steinach/FC Sonneberg C - SG Lauscha/Neu
 haus C
END:VEVENT
BEGIN:VEVENT
UID:20260420T175006CEST-4464c1FkM2@85.13.129.106
DTSTAMP:20260420T155006Z
DESCRIPTION:
DTSTART;TZID=Europe/Berlin:20170905T180000
DTEND;TZID=Europe/Berlin:20170905T194500
LOCATION:
SUMMARY:17/18 C-Jun. KOL: SG Goßmannsrod/Oberland C - SG SV 08 Steinach/FC 
 Sonneberg C
END:VEVENT
BEGIN:VEVENT
UID:20260420T175006CEST-4469uMfUGu@85.13.129.106
DTSTAMP:20260420T155006Z
DESCRIPTION:
DTSTART;TZID=Europe/Berlin:20170914T173000
DTEND;TZID=Europe/Berlin:20170914T191500
LOCATION:
SUMMARY:17/18 C-Jun. KOL: SG SV 08 Steinach/FC Sonneberg C - SV EK Veilsdor
 f C
END:VEVENT
BEGIN:VEVENT
UID:20260420T175006CEST-44732STFVi@85.13.129.106
DTSTAMP:20260420T155006Z
DESCRIPTION:
DTSTART;TZID=Europe/Berlin:20170909T110000
DTEND;TZID=Europe/Berlin:20170909T124500
LOCATION:
SUMMARY:17/18 C-Jun. KOL: SG SV 08 Steinach/FC Sonneberg C - SG Römhild C
END:VEVENT
BEGIN:VEVENT
UID:20260420T175006CEST-4477Vnbguk@85.13.129.106
DTSTAMP:20260420T155006Z
DESCRIPTION:
DTSTART;TZID=Europe/Berlin:20171027T170000
DTEND;TZID=Europe/Berlin:20171027T184500
LOCATION:
SUMMARY:17/18 C-Jun. KOL: SG SV 08 Steinach/FC Sonneberg C - FC-BW Schalkau
  C
END:VEVENT
BEGIN:VEVENT
UID:20260420T175006CEST-4482eHJWi8@85.13.129.106
DTSTAMP:20260420T155006Z
DESCRIPTION:
DTSTART;TZID=Europe/Berlin:20170922T180000
DTEND;TZID=Europe/Berlin:20170922T194500
LOCATION:
SUMMARY:17/18 C-Jun. KOL: SG Meng.-Hämmern/Köpp./Rauenst. C - SG SV 08 Stei
 nach/FC Sonneberg C
END:VEVENT
BEGIN:VEVENT
UID:20260420T175006CEST-4486DG0wuH@85.13.129.106
DTSTAMP:20260420T155006Z
DESCRIPTION:
DTSTART;TZID=Europe/Berlin:20171022T103000
DTEND;TZID=Europe/Berlin:20171022T121500
LOCATION:
SUMMARY:17/18 C-Jun. KOL: FSV 06 Eintr. Hildburghausen C - SG SV 08 Steinac
 h/FC Sonneberg C
END:VEVENT
BEGIN:VEVENT
UID:20260420T175006CEST-4491uUB8uN@85.13.129.106
DTSTAMP:20260420T155006Z
DESCRIPTION:
DTSTART;TZID=Europe/Berlin:20171105T103000
DTEND;TZID=Europe/Berlin:20171105T121500
LOCATION:
SUMMARY:17/18 C-Jun. KOL: SV Iso. Neuhaus Schierschnitz C - SG SV 08 Steina
 ch/FC Sonneberg C
END:VEVENT
BEGIN:VEVENT
UID:20260420T175006CEST-4495vBFIUc@85.13.129.106
DTSTAMP:20260420T155006Z
DESCRIPTION:
DTSTART;TZID=Europe/Berlin:20180530T180000
DTEND;TZID=Europe/Berlin:20180530T194500
LOCATION:
SUMMARY:17/18 C-Jun. KOL: SG Lauscha/Neuhaus C - SG SV 08 Steinach/FC Sonne
 berg C
END:VEVENT
BEGIN:VEVENT
UID:20260420T175006CEST-4499mcS4uz@85.13.129.106
DTSTAMP:20260420T155006Z
DESCRIPTION:
DTSTART;TZID=Europe/Berlin:20180408T103000
DTEND;TZID=Europe/Berlin:20180408T121500
LOCATION:
SUMMARY:17/18 C-Jun. KOL: SG SV 08 Steinach/FC Sonneberg C - SG Goßmannsrod
 /Oberland C
END:VEVENT
BEGIN:VEVENT
UID:20260420T175006CEST-4504JgZmcp@85.13.129.106
DTSTAMP:20260420T155006Z
DESCRIPTION:
DTSTART;TZID=Europe/Berlin:20180413T180000
DTEND;TZID=Europe/Berlin:20180413T194500
LOCATION:
SUMMARY:17/18 C-Jun. KOL: SV EK Veilsdorf C - SG SV 08 Steinach/FC Sonneber
 g C
END:VEVENT
BEGIN:VEVENT
UID:20260420T175006CEST-4508G7aWbf@85.13.129.106
DTSTAMP:20260420T155006Z
DESCRIPTION:
DTSTART;TZID=Europe/Berlin:20180517T180000
DTEND;TZID=Europe/Berlin:20180517T194500
LOCATION:
SUMMARY:17/18 C-Jun. KOL: SG Römhild C - SG SV 08 Steinach/FC Sonneberg C
END:VEVENT
BEGIN:VEVENT
UID:20260420T175006CEST-4512CrEFOU@85.13.129.106
DTSTAMP:20260420T155006Z
DESCRIPTION:Schalkau
DTSTART;TZID=Europe/Berlin:20180427T190000
DTEND;TZID=Europe/Berlin:20180427T204500
LOCATION:Katzberger Straße 6\n96528 Schalkau\, 96528 Schalkau
SUMMARY:17/18 C-Jun. KOL: FC-BW Schalkau C - SG SV 08 Steinach/FC Sonneberg
  C
END:VEVENT
BEGIN:VEVENT
UID:20260420T175006CEST-4517klvFWl@85.13.129.106
DTSTAMP:20260420T155006Z
DESCRIPTION:Schalkau
DTSTART;TZID=Europe/Berlin:20180504T183000
DTEND;TZID=Europe/Berlin:20180504T201500
LOCATION:Katzberger Straße 6\n96528 Schalkau\, 96528 Schalkau
SUMMARY:17/18 C-Jun. KOL: SG SV 08 Steinach/FC Sonneberg C - SG Meng.-Hämme
 rn/Köpp./Rauenst. C
END:VEVENT
BEGIN:VEVENT
UID:20260420T175006CEST-4521ta7k20@85.13.129.106
DTSTAMP:20260420T155006Z
DESCRIPTION:Schalkau
DTSTART;TZID=Europe/Berlin:20180513T103000
DTEND;TZID=Europe/Berlin:20180513T121500
LOCATION:Katzberger Straße 6\n96528 Schalkau\, 96528 Schalkau
SUMMARY:17/18 C-Jun. KOL: SG SV 08 Steinach/FC Sonneberg C - FSV 06 Eintr. 
 Hildburghausen C
END:VEVENT
BEGIN:VEVENT
UID:20260420T175006CEST-4525b4hWZw@85.13.129.106
DTSTAMP:20260420T155006Z
DESCRIPTION:Schalkau
DTSTART;TZID=Europe/Berlin:20180601T183000
DTEND;TZID=Europe/Berlin:20180601T201500
LOCATION:Katzberger Straße 6\n96528 Schalkau\, 96528 Schalkau
SUMMARY:17/18 C-Jun. KOL: SG SV 08 Steinach/FC Sonneberg C - SV Iso. Neuhau
 s Schierschnitz C
END:VEVENT
END:VCALENDAR
