BEGIN:VCALENDAR
VERSION:2.0
PRODID:-//85.13.129.106//NONSGML kigkonsult.se iCalcreator 2.10.23//
BEGIN:VEVENT
UID:20260422T085936CEST-98426Uwt31@85.13.129.106
DTSTAMP:20260422T065936Z
DESCRIPTION:
DTSTART;TZID=Europe/Berlin:20170817T173000
DTEND;TZID=Europe/Berlin:20170817T191500
LOCATION:
SUMMARY:17/18 C-Jun. KOL: FSV 06 Eintr. Hildburghausen C - SG Römhild C
END:VEVENT
BEGIN:VEVENT
UID:20260422T085936CEST-9847pTjvhr@85.13.129.106
DTSTAMP:20260422T065936Z
DESCRIPTION:
DTSTART;TZID=Europe/Berlin:20170827T103000
DTEND;TZID=Europe/Berlin:20170827T121500
LOCATION:
SUMMARY:17/18 C-Jun. KOL: SG Römhild C - FC-BW Schalkau C
END:VEVENT
BEGIN:VEVENT
UID:20260422T085936CEST-98511uwnmb@85.13.129.106
DTSTAMP:20260422T065936Z
DESCRIPTION:
DTSTART;TZID=Europe/Berlin:20170903T110000
DTEND;TZID=Europe/Berlin:20170903T124500
LOCATION:
SUMMARY:17/18 C-Jun. KOL: SG Meng.-Hämmern/Köpp./Rauenst. C - SG Römhild C
END:VEVENT
BEGIN:VEVENT
UID:20260422T085936CEST-985685PVU9@85.13.129.106
DTSTAMP:20260422T065936Z
DESCRIPTION:
DTSTART;TZID=Europe/Berlin:20170909T110000
DTEND;TZID=Europe/Berlin:20170909T124500
LOCATION:
SUMMARY:17/18 C-Jun. KOL: SG SV 08 Steinach/FC Sonneberg C - SG Römhild C
END:VEVENT
BEGIN:VEVENT
UID:20260422T085936CEST-986002HDt0@85.13.129.106
DTSTAMP:20260422T065936Z
DESCRIPTION:
DTSTART;TZID=Europe/Berlin:20170923T140000
DTEND;TZID=Europe/Berlin:20170923T154500
LOCATION:
SUMMARY:17/18 C-Jun. KOL: SG Römhild C - SV Iso. Neuhaus Schierschnitz C
END:VEVENT
BEGIN:VEVENT
UID:20260422T085936CEST-9865hGo67t@85.13.129.106
DTSTAMP:20260422T065936Z
DESCRIPTION:
DTSTART;TZID=Europe/Berlin:20171022T103000
DTEND;TZID=Europe/Berlin:20171022T121500
LOCATION:
SUMMARY:17/18 C-Jun. KOL: SG Lauscha/Neuhaus C - SG Römhild C
END:VEVENT
BEGIN:VEVENT
UID:20260422T085936CEST-9869au4afU@85.13.129.106
DTSTAMP:20260422T065936Z
DESCRIPTION:
DTSTART;TZID=Europe/Berlin:20171027T170000
DTEND;TZID=Europe/Berlin:20171027T184500
LOCATION:
SUMMARY:17/18 C-Jun. KOL: SG Römhild C - SG Goßmannsrod/Oberland C
END:VEVENT
BEGIN:VEVENT
UID:20260422T085936CEST-9874HPJrV3@85.13.129.106
DTSTAMP:20260422T065936Z
DESCRIPTION:
DTSTART;TZID=Europe/Berlin:20171104T131500
DTEND;TZID=Europe/Berlin:20171104T150000
LOCATION:
SUMMARY:17/18 C-Jun. KOL: SV EK Veilsdorf C - SG Römhild C
END:VEVENT
BEGIN:VEVENT
UID:20260422T085936CEST-9878iVuGud@85.13.129.106
DTSTAMP:20260422T065936Z
DESCRIPTION:
DTSTART;TZID=Europe/Berlin:20180424T103000
DTEND;TZID=Europe/Berlin:20180424T121500
LOCATION:
SUMMARY:17/18 C-Jun. KOL: SG Römhild C - FSV 06 Eintr. Hildburghausen C
END:VEVENT
BEGIN:VEVENT
UID:20260422T085936CEST-9882cED15b@85.13.129.106
DTSTAMP:20260422T065936Z
DESCRIPTION:Schalkau
DTSTART;TZID=Europe/Berlin:20180408T103000
DTEND;TZID=Europe/Berlin:20180408T121500
LOCATION:Katzberger Straße 6\n96528 Schalkau\, 96528 Schalkau
SUMMARY:17/18 C-Jun. KOL: FC-BW Schalkau C - SG Römhild C
END:VEVENT
BEGIN:VEVENT
UID:20260422T085936CEST-9887FDdv3p@85.13.129.106
DTSTAMP:20260422T065936Z
DESCRIPTION:Schalkau
DTSTART;TZID=Europe/Berlin:20180414T110000
DTEND;TZID=Europe/Berlin:20180414T124500
LOCATION:Katzberger Straße 6\n96528 Schalkau\, 96528 Schalkau
SUMMARY:17/18 C-Jun. KOL: SG Römhild C - SG Meng.-Hämmern/Köpp./Rauenst. C
END:VEVENT
BEGIN:VEVENT
UID:20260422T085936CEST-9891CvfDW3@85.13.129.106
DTSTAMP:20260422T065936Z
DESCRIPTION:Schalkau
DTSTART;TZID=Europe/Berlin:20180517T180000
DTEND;TZID=Europe/Berlin:20180517T194500
LOCATION:Katzberger Straße 6\n96528 Schalkau\, 96528 Schalkau
SUMMARY:17/18 C-Jun. KOL: SG Römhild C - SG SV 08 Steinach/FC Sonneberg C
END:VEVENT
BEGIN:VEVENT
UID:20260422T085936CEST-98969btfiU@85.13.129.106
DTSTAMP:20260422T065936Z
DESCRIPTION:Schalkau
DTSTART;TZID=Europe/Berlin:20180505T140000
DTEND;TZID=Europe/Berlin:20180505T154500
LOCATION:Katzberger Straße 6\n96528 Schalkau\, 96528 Schalkau
SUMMARY:17/18 C-Jun. KOL: SV Iso. Neuhaus Schierschnitz C - SG Römhild C
END:VEVENT
BEGIN:VEVENT
UID:20260422T085936CEST-9900KvGLLn@85.13.129.106
DTSTAMP:20260422T065936Z
DESCRIPTION:Schalkau
DTSTART;TZID=Europe/Berlin:20180514T103000
DTEND;TZID=Europe/Berlin:20180514T121500
LOCATION:Katzberger Straße 6\n96528 Schalkau\, 96528 Schalkau
SUMMARY:17/18 C-Jun. KOL: SG Römhild C - SG Lauscha/Neuhaus C
END:VEVENT
BEGIN:VEVENT
UID:20260422T085936CEST-9905LuPx6f@85.13.129.106
DTSTAMP:20260422T065936Z
DESCRIPTION:Schalkau
DTSTART;TZID=Europe/Berlin:20180527T103000
DTEND;TZID=Europe/Berlin:20180527T121500
LOCATION:Katzberger Straße 6\n96528 Schalkau\, 96528 Schalkau
SUMMARY:17/18 C-Jun. KOL: SG Goßmannsrod/Oberland C - SG Römhild C
END:VEVENT
BEGIN:VEVENT
UID:20260422T085936CEST-9909PMa4Fu@85.13.129.106
DTSTAMP:20260422T065936Z
DESCRIPTION:Schalkau
DTSTART;TZID=Europe/Berlin:20180601T180000
DTEND;TZID=Europe/Berlin:20180601T194500
LOCATION:Katzberger Straße 6\n96528 Schalkau\, 96528 Schalkau
SUMMARY:17/18 C-Jun. KOL: SG Römhild C - SV EK Veilsdorf C
END:VEVENT
END:VCALENDAR
