BEGIN:VCALENDAR
VERSION:2.0
PRODID:-//85.13.129.106//NONSGML kigkonsult.se iCalcreator 2.10.23//
BEGIN:VEVENT
UID:20260420T035222CEST-276027ucod@85.13.129.106
DTSTAMP:20260420T015222Z
DESCRIPTION:
DTSTART;TZID=Europe/Berlin:20170423T100000
DTEND;TZID=Europe/Berlin:20170423T114500
LOCATION:
SUMMARY:16/17 F1-Jun. KOL: SC 07 Schleusingen F - SV Empor 90 Eishausen F
END:VEVENT
BEGIN:VEVENT
UID:20260420T035222CEST-27651SPtM5@85.13.129.106
DTSTAMP:20260420T015222Z
DESCRIPTION:
DTSTART;TZID=Europe/Berlin:20170423T120000
DTEND;TZID=Europe/Berlin:20170423T134500
LOCATION:
SUMMARY:16/17 F1-Jun. KOL: SC 07 Schleusingen F - SG Effelder/Schalkau F
END:VEVENT
BEGIN:VEVENT
UID:20260420T035222CEST-27698mpu4X@85.13.129.106
DTSTAMP:20260420T015222Z
DESCRIPTION:
DTSTART;TZID=Europe/Berlin:20170507T093000
DTEND;TZID=Europe/Berlin:20170507T111500
LOCATION:
SUMMARY:16/17 F1-Jun. KOL: SC 07 Schleusingen F - TSV 1911 Themar F
END:VEVENT
BEGIN:VEVENT
UID:20260420T035222CEST-2773EDUfKp@85.13.129.106
DTSTAMP:20260420T015222Z
DESCRIPTION:
DTSTART;TZID=Europe/Berlin:20170507T113000
DTEND;TZID=Europe/Berlin:20170507T131500
LOCATION:
SUMMARY:16/17 F1-Jun. KOL: SV Falke Sachsenbrunn F - SC 07 Schleusingen F
END:VEVENT
BEGIN:VEVENT
UID:20260420T035222CEST-2778fKWMrv@85.13.129.106
DTSTAMP:20260420T015222Z
DESCRIPTION:
DTSTART;TZID=Europe/Berlin:20170514T103000
DTEND;TZID=Europe/Berlin:20170514T121500
LOCATION:
SUMMARY:16/17 F1-Jun. KOL: SC 07 Schleusingen F - 1. FC Sonneberg 04 F
END:VEVENT
BEGIN:VEVENT
UID:20260420T035222CEST-2782Eu4om6@85.13.129.106
DTSTAMP:20260420T015222Z
DESCRIPTION:
DTSTART;TZID=Europe/Berlin:20170514T120000
DTEND;TZID=Europe/Berlin:20170514T134500
LOCATION:
SUMMARY:16/17 F1-Jun. KOL: SV Empor 90 Eishausen F - SC 07 Schleusingen F
END:VEVENT
BEGIN:VEVENT
UID:20260420T035222CEST-27866hNVNU@85.13.129.106
DTSTAMP:20260420T015222Z
DESCRIPTION:
DTSTART;TZID=Europe/Berlin:20170528T100000
DTEND;TZID=Europe/Berlin:20170528T114500
LOCATION:
SUMMARY:16/17 F1-Jun. KOL: SG Effelder/Schalkau F - SC 07 Schleusingen F
END:VEVENT
BEGIN:VEVENT
UID:20260420T035222CEST-2790UT1CZs@85.13.129.106
DTSTAMP:20260420T015222Z
DESCRIPTION:
DTSTART;TZID=Europe/Berlin:20170528T110000
DTEND;TZID=Europe/Berlin:20170528T124500
LOCATION:
SUMMARY:16/17 F1-Jun. KOL: TSV 1911 Themar F - SC 07 Schleusingen F
END:VEVENT
BEGIN:VEVENT
UID:20260420T035222CEST-2795Lzwjg3@85.13.129.106
DTSTAMP:20260420T015222Z
DESCRIPTION:
DTSTART;TZID=Europe/Berlin:20170611T103000
DTEND;TZID=Europe/Berlin:20170611T121500
LOCATION:
SUMMARY:16/17 F1-Jun. KOL: SC 07 Schleusingen F - SV Falke Sachsenbrunn F
END:VEVENT
BEGIN:VEVENT
UID:20260420T035222CEST-27997NuBrm@85.13.129.106
DTSTAMP:20260420T015222Z
DESCRIPTION:
DTSTART;TZID=Europe/Berlin:20170611T113000
DTEND;TZID=Europe/Berlin:20170611T131500
LOCATION:
SUMMARY:16/17 F1-Jun. KOL: 1. FC Sonneberg 04 F - SC 07 Schleusingen F
END:VEVENT
END:VCALENDAR
