BEGIN:VCALENDAR
VERSION:2.0
PRODID:-//85.13.129.106//NONSGML kigkonsult.se iCalcreator 2.10.23//
BEGIN:VEVENT
UID:20260422T073149CEST-2746GHvBEv@85.13.129.106
DTSTAMP:20260422T053149Z
DESCRIPTION:
DTSTART;TZID=Europe/Berlin:20161022T103000
DTEND;TZID=Europe/Berlin:20161022T121500
LOCATION:
SUMMARY:16/17 E-Jun. KOL: SC 07 Schleusingen E - SV 08 Steinach E
END:VEVENT
BEGIN:VEVENT
UID:20260422T073149CEST-2751LV8xBn@85.13.129.106
DTSTAMP:20260422T053149Z
DESCRIPTION:
DTSTART;TZID=Europe/Berlin:20170305T103000
DTEND;TZID=Europe/Berlin:20170305T121500
LOCATION:
SUMMARY:16/17 E-Jun. KOL: SV 08 Steinach E - SV Eintracht Oberland E
END:VEVENT
BEGIN:VEVENT
UID:20260422T073149CEST-2755B5w44R@85.13.129.106
DTSTAMP:20260422T053149Z
DESCRIPTION:Schalkau
DTSTART;TZID=Europe/Berlin:20161027T163000
DTEND;TZID=Europe/Berlin:20161027T181500
LOCATION:Katzberger Straße 6\n96528 Schalkau\, 96528 Schalkau
SUMMARY:16/17 E-Jun. KOL: SG Schalkau/Effelder E - SV 08 Steinach E
END:VEVENT
BEGIN:VEVENT
UID:20260422T073149CEST-2759vZROah@85.13.129.106
DTSTAMP:20260422T053149Z
DESCRIPTION:Schalkau
DTSTART;TZID=Europe/Berlin:20161105T140000
DTEND;TZID=Europe/Berlin:20161105T154500
LOCATION:Katzberger Straße 6\n96528 Schalkau\, 96528 Schalkau
SUMMARY:16/17 E-Jun. KOL: SV 08 Steinach E - 1. FC Sonneberg 04 E
END:VEVENT
BEGIN:VEVENT
UID:20260422T073149CEST-2763pNjThT@85.13.129.106
DTSTAMP:20260422T053149Z
DESCRIPTION:Schalkau
DTSTART;TZID=Europe/Berlin:20170326T100000
DTEND;TZID=Europe/Berlin:20170326T114500
LOCATION:Katzberger Straße 6\n96528 Schalkau\, 96528 Schalkau
SUMMARY:16/17 E-Jun. KOL: FSV 06 Eintr. Hildburghausen E - SV 08 Steinach E
END:VEVENT
BEGIN:VEVENT
UID:20260422T073149CEST-2767Ld0kXC@85.13.129.106
DTSTAMP:20260422T053149Z
DESCRIPTION:Schalkau
DTSTART;TZID=Europe/Berlin:20170401T143000
DTEND;TZID=Europe/Berlin:20170401T161500
LOCATION:Katzberger Straße 6\n96528 Schalkau\, 96528 Schalkau
SUMMARY:16/17 E-Jun. KOL: SV 08 Steinach E - SV Empor 90 Eishausen E
END:VEVENT
BEGIN:VEVENT
UID:20260422T073149CEST-2772hVdnUU@85.13.129.106
DTSTAMP:20260422T053149Z
DESCRIPTION:Schalkau
DTSTART;TZID=Europe/Berlin:20170503T180000
DTEND;TZID=Europe/Berlin:20170503T194500
LOCATION:Katzberger Straße 6\n96528 Schalkau\, 96528 Schalkau
SUMMARY:16/17 E-Jun. KOL: SV 08 Steinach E - SV Falke Sachsenbrunn E
END:VEVENT
BEGIN:VEVENT
UID:20260422T073149CEST-2776UFKrwn@85.13.129.106
DTSTAMP:20260422T053149Z
DESCRIPTION:Schalkau
DTSTART;TZID=Europe/Berlin:20170429T103000
DTEND;TZID=Europe/Berlin:20170429T121500
LOCATION:Katzberger Straße 6\n96528 Schalkau\, 96528 Schalkau
SUMMARY:16/17 E-Jun. KOL: SV 08 Steinach E - SC 07 Schleusingen E
END:VEVENT
BEGIN:VEVENT
UID:20260422T073149CEST-2780nsdjtR@85.13.129.106
DTSTAMP:20260422T053149Z
DESCRIPTION:Schalkau
DTSTART;TZID=Europe/Berlin:20170506T103000
DTEND;TZID=Europe/Berlin:20170506T121500
LOCATION:Katzberger Straße 6\n96528 Schalkau\, 96528 Schalkau
SUMMARY:16/17 E-Jun. KOL: SV Eintracht Oberland E - SV 08 Steinach E
END:VEVENT
BEGIN:VEVENT
UID:20260422T073149CEST-2784im80W3@85.13.129.106
DTSTAMP:20260422T053149Z
DESCRIPTION:Schalkau
DTSTART;TZID=Europe/Berlin:20170510T180000
DTEND;TZID=Europe/Berlin:20170510T194500
LOCATION:Katzberger Straße 6\n96528 Schalkau\, 96528 Schalkau
SUMMARY:16/17 E-Jun. KOL: SV 08 Steinach E - SG Schalkau/Effelder E
END:VEVENT
BEGIN:VEVENT
UID:20260422T073149CEST-27886GXu70@85.13.129.106
DTSTAMP:20260422T053149Z
DESCRIPTION:Schalkau
DTSTART;TZID=Europe/Berlin:20170513T133000
DTEND;TZID=Europe/Berlin:20170513T151500
LOCATION:Katzberger Straße 6\n96528 Schalkau\, 96528 Schalkau
SUMMARY:16/17 E-Jun. KOL: 1. FC Sonneberg 04 E - SV 08 Steinach E
END:VEVENT
BEGIN:VEVENT
UID:20260422T073149CEST-27936HJ3fr@85.13.129.106
DTSTAMP:20260422T053149Z
DESCRIPTION:Schalkau
DTSTART;TZID=Europe/Berlin:20170520T133000
DTEND;TZID=Europe/Berlin:20170520T151500
LOCATION:Katzberger Straße 6\n96528 Schalkau\, 96528 Schalkau
SUMMARY:16/17 E-Jun. KOL: SV 08 Steinach E - FSV 06 Eintr. Hildburghausen E
END:VEVENT
BEGIN:VEVENT
UID:20260422T073149CEST-2797NeFJ38@85.13.129.106
DTSTAMP:20260422T053149Z
DESCRIPTION:Schalkau
DTSTART;TZID=Europe/Berlin:20170527T103000
DTEND;TZID=Europe/Berlin:20170527T121500
LOCATION:Katzberger Straße 6\n96528 Schalkau\, 96528 Schalkau
SUMMARY:16/17 E-Jun. KOL: SV Empor 90 Eishausen E - SV 08 Steinach E
END:VEVENT
BEGIN:VEVENT
UID:20260422T073149CEST-2801K7IefT@85.13.129.106
DTSTAMP:20260422T053149Z
DESCRIPTION:Schalkau
DTSTART;TZID=Europe/Berlin:20170610T103000
DTEND;TZID=Europe/Berlin:20170610T121500
LOCATION:Katzberger Straße 6\n96528 Schalkau\, 96528 Schalkau
SUMMARY:16/17 E-Jun. KOL: SV Falke Sachsenbrunn E - SV 08 Steinach E
END:VEVENT
END:VCALENDAR
