BEGIN:VCALENDAR
VERSION:2.0
PRODID:-//85.13.129.106//NONSGML kigkonsult.se iCalcreator 2.10.23//
BEGIN:VEVENT
UID:20260421T170702CEST-3224oC3o4b@85.13.129.106
DTSTAMP:20260421T150702Z
DESCRIPTION:
DTSTART;TZID=Europe/Berlin:20161022T103000
DTEND;TZID=Europe/Berlin:20161022T121500
LOCATION:
SUMMARY:16/17 C-Jun. KOL: SG Lauscha/Neuhaus C - SG 1. FC Sonneberg 04 C
END:VEVENT
BEGIN:VEVENT
UID:20260421T170702CEST-32297nbTg4@85.13.129.106
DTSTAMP:20260421T150702Z
DESCRIPTION:Schalkau
DTSTART;TZID=Europe/Berlin:20161030T103000
DTEND;TZID=Europe/Berlin:20161030T121500
LOCATION:Katzberger Straße 6\n96528 Schalkau\, 96528 Schalkau
SUMMARY:16/17 C-Jun. KOL: SG Schalkau/Sbg.-W. C - SG Lauscha/Neuhaus C
END:VEVENT
BEGIN:VEVENT
UID:20260421T170702CEST-3233HbvjfV@85.13.129.106
DTSTAMP:20260421T150702Z
DESCRIPTION:Schalkau
DTSTART;TZID=Europe/Berlin:20170329T173000
DTEND;TZID=Europe/Berlin:20170329T191500
LOCATION:Katzberger Straße 6\n96528 Schalkau\, 96528 Schalkau
SUMMARY:16/17 C-Jun. KOL: SV Eintracht Oberland C - SG Lauscha/Neuhaus C
END:VEVENT
BEGIN:VEVENT
UID:20260421T170702CEST-3237WuIitS@85.13.129.106
DTSTAMP:20260421T150702Z
DESCRIPTION:Schalkau
DTSTART;TZID=Europe/Berlin:20170401T130000
DTEND;TZID=Europe/Berlin:20170401T144500
LOCATION:Katzberger Straße 6\n96528 Schalkau\, 96528 Schalkau
SUMMARY:16/17 C-Jun. KOL: SG Lauscha/Neuhaus C - SV 03 Eisfeld C
END:VEVENT
BEGIN:VEVENT
UID:20260421T170702CEST-3241RhRjIo@85.13.129.106
DTSTAMP:20260421T150702Z
DESCRIPTION:Schalkau
DTSTART;TZID=Europe/Berlin:20170601T180000
DTEND;TZID=Europe/Berlin:20170601T194500
LOCATION:Katzberger Straße 6\n96528 Schalkau\, 96528 Schalkau
SUMMARY:16/17 C-Jun. KOL: SG Römhild C - SG Lauscha/Neuhaus C
END:VEVENT
BEGIN:VEVENT
UID:20260421T170702CEST-3246LE2Bjx@85.13.129.106
DTSTAMP:20260421T150702Z
DESCRIPTION:Schalkau
DTSTART;TZID=Europe/Berlin:20170428T173000
DTEND;TZID=Europe/Berlin:20170428T191500
LOCATION:Katzberger Straße 6\n96528 Schalkau\, 96528 Schalkau
SUMMARY:16/17 C-Jun. KOL: SG 1. FC Sonneberg 04 C - SG Lauscha/Neuhaus C
END:VEVENT
BEGIN:VEVENT
UID:20260421T170702CEST-3250C5jWv9@85.13.129.106
DTSTAMP:20260421T150702Z
DESCRIPTION:Schalkau
DTSTART;TZID=Europe/Berlin:20170506T103000
DTEND;TZID=Europe/Berlin:20170506T121500
LOCATION:Katzberger Straße 6\n96528 Schalkau\, 96528 Schalkau
SUMMARY:16/17 C-Jun. KOL: SG Lauscha/Neuhaus C - SG Schalkau/Sbg.-W. C
END:VEVENT
BEGIN:VEVENT
UID:20260421T170702CEST-3254vDddRp@85.13.129.106
DTSTAMP:20260421T150702Z
DESCRIPTION:Schalkau
DTSTART;TZID=Europe/Berlin:20170512T180000
DTEND;TZID=Europe/Berlin:20170512T194500
LOCATION:Katzberger Straße 6\n96528 Schalkau\, 96528 Schalkau
SUMMARY:16/17 C-Jun. KOL: SG Lauscha/Neuhaus C - SV Eintracht Oberland C
END:VEVENT
BEGIN:VEVENT
UID:20260421T170702CEST-32580XkJzn@85.13.129.106
DTSTAMP:20260421T150702Z
DESCRIPTION:Schalkau
DTSTART;TZID=Europe/Berlin:20170519T173000
DTEND;TZID=Europe/Berlin:20170519T191500
LOCATION:Katzberger Straße 6\n96528 Schalkau\, 96528 Schalkau
SUMMARY:16/17 C-Jun. KOL: SV 03 Eisfeld C - SG Lauscha/Neuhaus C
END:VEVENT
BEGIN:VEVENT
UID:20260421T170702CEST-3263Jlsn0B@85.13.129.106
DTSTAMP:20260421T150702Z
DESCRIPTION:Schalkau
DTSTART;TZID=Europe/Berlin:20170521T103000
DTEND;TZID=Europe/Berlin:20170521T121500
LOCATION:Katzberger Straße 6\n96528 Schalkau\, 96528 Schalkau
SUMMARY:16/17 C-Jun. KOL: SG Lauscha/Neuhaus C - SG Römhild C
END:VEVENT
END:VCALENDAR
