BEGIN:VCALENDAR
VERSION:2.0
PRODID:-//85.13.129.106//NONSGML kigkonsult.se iCalcreator 2.10.23//
BEGIN:VEVENT
UID:20260422T200429CEST-8485uV3O7z@85.13.129.106
DTSTAMP:20260422T180429Z
DESCRIPTION:
DTSTART;TZID=Europe/Berlin:20160912T180000
DTEND;TZID=Europe/Berlin:20160912T184500
LOCATION:
SUMMARY:16/17 E-Jun. Kreispokal: Freilos - FSV 06 Eintr. Hildburghausen E
END:VEVENT
BEGIN:VEVENT
UID:20260422T200429CEST-8489GJ1hzK@85.13.129.106
DTSTAMP:20260422T180429Z
DESCRIPTION:
DTSTART;TZID=Europe/Berlin:20160912T180000
DTEND;TZID=Europe/Berlin:20160912T184500
LOCATION:
SUMMARY:16/17 E-Jun. Kreispokal: Freilos - SV EK Veilsdorf E
END:VEVENT
BEGIN:VEVENT
UID:20260422T200429CEST-8493X4ndnn@85.13.129.106
DTSTAMP:20260422T180429Z
DESCRIPTION:
DTSTART;TZID=Europe/Berlin:20160912T180000
DTEND;TZID=Europe/Berlin:20160912T184500
LOCATION:
SUMMARY:16/17 E-Jun. Kreispokal: Freilos - SG Rauenstein/ Meng. Hämm. E
END:VEVENT
BEGIN:VEVENT
UID:20260422T200429CEST-8497hl4e1z@85.13.129.106
DTSTAMP:20260422T180429Z
DESCRIPTION:
DTSTART;TZID=Europe/Berlin:20160912T180000
DTEND;TZID=Europe/Berlin:20160912T184500
LOCATION:
SUMMARY:16/17 E-Jun. Kreispokal: Freilos - SC 07 Schleusingen E
END:VEVENT
BEGIN:VEVENT
UID:20260422T200429CEST-8501GCwoiF@85.13.129.106
DTSTAMP:20260422T180429Z
DESCRIPTION:
DTSTART;TZID=Europe/Berlin:20160912T180000
DTEND;TZID=Europe/Berlin:20160912T184500
LOCATION:
SUMMARY:16/17 E-Jun. Kreispokal: Freilos - 1. FC Sonneberg 04 E
END:VEVENT
BEGIN:VEVENT
UID:20260422T200429CEST-85050ShxuA@85.13.129.106
DTSTAMP:20260422T180429Z
DESCRIPTION:
DTSTART;TZID=Europe/Berlin:20160912T180000
DTEND;TZID=Europe/Berlin:20160912T184500
LOCATION:
SUMMARY:16/17 E-Jun. Kreispokal: Freilos - SV Empor 90 Eishausen E
END:VEVENT
BEGIN:VEVENT
UID:20260422T200429CEST-8509xM7cr7@85.13.129.106
DTSTAMP:20260422T180429Z
DESCRIPTION:
DTSTART;TZID=Europe/Berlin:20160912T180000
DTEND;TZID=Europe/Berlin:20160912T184500
LOCATION:
SUMMARY:16/17 E-Jun. Kreispokal: Freilos - TSV 1911 Themar E
END:VEVENT
BEGIN:VEVENT
UID:20260422T200429CEST-8513SuzJVo@85.13.129.106
DTSTAMP:20260422T180429Z
DESCRIPTION:
DTSTART;TZID=Europe/Berlin:20160912T180000
DTEND;TZID=Europe/Berlin:20160912T184500
LOCATION:
SUMMARY:16/17 E-Jun. Kreispokal: Freilos - SC 06 Oberlind E
END:VEVENT
END:VCALENDAR
