BEGIN:VCALENDAR
VERSION:2.0
PRODID:-//85.13.129.106//NONSGML kigkonsult.se iCalcreator 2.10.23//
BEGIN:VEVENT
UID:20260419T234532CEST-1836EuwHe9@85.13.129.106
DTSTAMP:20260419T214532Z
DESCRIPTION:
DTSTART;TZID=Europe/Berlin:20160930T173000
DTEND;TZID=Europe/Berlin:20160930T191500
LOCATION:
SUMMARY:16/17 C-Jun. Kreispokal: SG Römhild C2 - SG FSV 06 Eintr. Hildburgh
 ausen/Veilsdorf C2 C
END:VEVENT
BEGIN:VEVENT
UID:20260419T234532CEST-18416OpTxR@85.13.129.106
DTSTAMP:20260419T214532Z
DESCRIPTION:
DTSTART;TZID=Europe/Berlin:20170325T150000
DTEND;TZID=Europe/Berlin:20170325T164500
LOCATION:
SUMMARY:16/17 C-Jun. Kreispokal: SC 06 Oberlind C - SG Römhild C2
END:VEVENT
BEGIN:VEVENT
UID:20260419T234532CEST-1845IR6O5v@85.13.129.106
DTSTAMP:20260419T214532Z
DESCRIPTION:
DTSTART;TZID=Europe/Berlin:20170510T180000
DTEND;TZID=Europe/Berlin:20170510T194500
LOCATION:
SUMMARY:16/17 C-Jun. Kreispokal: SG Römhild C2 - SV 03 Eisfeld C
END:VEVENT
END:VCALENDAR
