BEGIN:VCALENDAR
VERSION:2.0
PRODID:-//85.13.129.106//NONSGML kigkonsult.se iCalcreator 2.10.23//
BEGIN:VEVENT
UID:20260422T073243CEST-8721SNuB1u@85.13.129.106
DTSTAMP:20260422T053243Z
DESCRIPTION:
DTSTART;TZID=Europe/Berlin:20160819T173000
DTEND;TZID=Europe/Berlin:20160819T191500
LOCATION:
SUMMARY:16/17 C-Jun. Kreispokal: SG Lauscha/Neuhaus C - SG Mengersgereuth-H
 ämmern/Rauenstein C
END:VEVENT
BEGIN:VEVENT
UID:20260422T073243CEST-87252buoUu@85.13.129.106
DTSTAMP:20260422T053243Z
DESCRIPTION:
DTSTART;TZID=Europe/Berlin:20160921T180000
DTEND;TZID=Europe/Berlin:20160921T194500
LOCATION:
SUMMARY:16/17 C-Jun. Kreispokal: SG Lauscha/Neuhaus C - SG 1951 Sonneberg C
END:VEVENT
BEGIN:VEVENT
UID:20260422T073243CEST-8730fOaluR@85.13.129.106
DTSTAMP:20260422T053243Z
DESCRIPTION:
DTSTART;TZID=Europe/Berlin:20170405T173000
DTEND;TZID=Europe/Berlin:20170405T191500
LOCATION:
SUMMARY:16/17 C-Jun. Kreispokal: SG Lauscha/Neuhaus C - SV 03 Eisfeld C
END:VEVENT
END:VCALENDAR
