BEGIN:VCALENDAR
VERSION:2.0
PRODID:-//85.13.129.106//NONSGML kigkonsult.se iCalcreator 2.10.23//
BEGIN:VEVENT
UID:20260422T073233CEST-8505XcWhBE@85.13.129.106
DTSTAMP:20260422T053233Z
DESCRIPTION:
DTSTART;TZID=Europe/Berlin:20160812T173000
DTEND;TZID=Europe/Berlin:20160812T181500
LOCATION:
SUMMARY:16/17 D-Jun. Kreispokal: SV Nahetal Hinternah D - SG Gleichamberg D
END:VEVENT
BEGIN:VEVENT
UID:20260422T073233CEST-8509AxVFwB@85.13.129.106
DTSTAMP:20260422T053233Z
DESCRIPTION:
DTSTART;TZID=Europe/Berlin:20161001T103000
DTEND;TZID=Europe/Berlin:20161001T111500
LOCATION:
SUMMARY:16/17 D-Jun. Kreispokal: SV EK Veilsdorf D - SV Nahetal Hinternah D
END:VEVENT
END:VCALENDAR
