BEGIN:VCALENDAR
VERSION:2.0
PRODID:-//85.13.129.106//NONSGML kigkonsult.se iCalcreator 2.10.23//
BEGIN:VEVENT
UID:20260422T090027CEST-8668swxFNx@85.13.129.106
DTSTAMP:20260422T070027Z
DESCRIPTION:
DTSTART;TZID=Europe/Berlin:20160812T180000
DTEND;TZID=Europe/Berlin:20160812T184500
LOCATION:
SUMMARY:16/17 D-Jun. Kreispokal: SV Schleusegrund Schönbrunn D - TSV 1911 T
 hemar D
END:VEVENT
BEGIN:VEVENT
UID:20260422T090027CEST-8672egcmL7@85.13.129.106
DTSTAMP:20260422T070027Z
DESCRIPTION:
DTSTART;TZID=Europe/Berlin:20161002T103000
DTEND;TZID=Europe/Berlin:20161002T111500
LOCATION:
SUMMARY:16/17 D-Jun. Kreispokal: TSV 1911 Themar D - TSV Germ. Hellingen D
END:VEVENT
BEGIN:VEVENT
UID:20260422T090027CEST-8676N9uUdZ@85.13.129.106
DTSTAMP:20260422T070027Z
DESCRIPTION:
DTSTART;TZID=Europe/Berlin:20161031T103000
DTEND;TZID=Europe/Berlin:20161031T111500
LOCATION:
SUMMARY:16/17 D-Jun. Kreispokal: SV 08 Steinach D - TSV 1911 Themar D
END:VEVENT
END:VCALENDAR
