BEGIN:VCALENDAR
VERSION:2.0
PRODID:-//85.13.129.106//NONSGML kigkonsult.se iCalcreator 2.10.23//
BEGIN:VEVENT
UID:20260425T151336CEST-4571FnuXsC@85.13.129.106
DTSTAMP:20260425T131336Z
DESCRIPTION:
DTSTART;TZID=Europe/Berlin:20160820T103000
DTEND;TZID=Europe/Berlin:20160820T111500
LOCATION:
SUMMARY:16/17 D-Jun. Kreispokal: Freilos - SV EK Veilsdorf D
END:VEVENT
BEGIN:VEVENT
UID:20260425T151336CEST-4575azvCAm@85.13.129.106
DTSTAMP:20260425T131336Z
DESCRIPTION:
DTSTART;TZID=Europe/Berlin:20160820T103000
DTEND;TZID=Europe/Berlin:20160820T111500
LOCATION:
SUMMARY:16/17 D-Jun. Kreispokal: Freilos - SV Iso. Neuhaus Schierschnitz D
END:VEVENT
BEGIN:VEVENT
UID:20260425T151336CEST-4579aj1Zk2@85.13.129.106
DTSTAMP:20260425T131336Z
DESCRIPTION:
DTSTART;TZID=Europe/Berlin:20160820T103000
DTEND;TZID=Europe/Berlin:20160820T111500
LOCATION:
SUMMARY:16/17 D-Jun. Kreispokal: Freilos - SG Waldau/Schleusingen D
END:VEVENT
BEGIN:VEVENT
UID:20260425T151336CEST-4583CUU5A6@85.13.129.106
DTSTAMP:20260425T131336Z
DESCRIPTION:
DTSTART;TZID=Europe/Berlin:20160820T103000
DTEND;TZID=Europe/Berlin:20160820T111500
LOCATION:
SUMMARY:16/17 D-Jun. Kreispokal: Freilos - TSV Germ. Sonneberg West D
END:VEVENT
BEGIN:VEVENT
UID:20260425T151336CEST-4587Esmna4@85.13.129.106
DTSTAMP:20260425T131336Z
DESCRIPTION:
DTSTART;TZID=Europe/Berlin:20160820T103000
DTEND;TZID=Europe/Berlin:20160820T111500
LOCATION:
SUMMARY:16/17 D-Jun. Kreispokal: Freilos - FSV 06 Eintr. Hildburghausen D
END:VEVENT
END:VCALENDAR
