BEGIN:VCALENDAR
VERSION:2.0
PRODID:-//85.13.129.106//NONSGML kigkonsult.se iCalcreator 2.10.23//
BEGIN:VEVENT
UID:20260423T112559CEST-6961Mxt5xV@85.13.129.106
DTSTAMP:20260423T092559Z
DESCRIPTION:
DTSTART;TZID=Europe/Berlin:20141018T103000
DTEND;TZID=Europe/Berlin:20141018T111500
LOCATION:
SUMMARY:14/15 D2-Jun. KOL: SC 06 Oberlind D - FSV 06 Eintr. Hildburghausen 
 D
END:VEVENT
BEGIN:VEVENT
UID:20260423T112559CEST-6966UuB1cU@85.13.129.106
DTSTAMP:20260423T092559Z
DESCRIPTION:
DTSTART;TZID=Europe/Berlin:20141026T103000
DTEND;TZID=Europe/Berlin:20141026T111500
LOCATION:
SUMMARY:14/15 D2-Jun. KOL: SC 06 Oberlind D - Erlauer SV Grün-Weiß D
END:VEVENT
BEGIN:VEVENT
UID:20260423T112559CEST-6970v8nJ7v@85.13.129.106
DTSTAMP:20260423T092559Z
DESCRIPTION:
DTSTART;TZID=Europe/Berlin:20141101T103000
DTEND;TZID=Europe/Berlin:20141101T111500
LOCATION:
SUMMARY:14/15 D2-Jun. KOL: SC 06 Oberlind D - SG 1. FC Sonneberg 04 D2
END:VEVENT
BEGIN:VEVENT
UID:20260423T112559CEST-6974jVMM4f@85.13.129.106
DTSTAMP:20260423T092559Z
DESCRIPTION:
DTSTART;TZID=Europe/Berlin:20141109T103000
DTEND;TZID=Europe/Berlin:20141109T111500
LOCATION:
SUMMARY:14/15 D2-Jun. KOL: SV Eintracht Oberland D - SC 06 Oberlind D
END:VEVENT
BEGIN:VEVENT
UID:20260423T112559CEST-6979uDMnJF@85.13.129.106
DTSTAMP:20260423T092559Z
DESCRIPTION:
DTSTART;TZID=Europe/Berlin:20150329T103000
DTEND;TZID=Europe/Berlin:20150329T111500
LOCATION:
SUMMARY:14/15 D2-Jun. KOL: SC 06 Oberlind D - SG Römhild D
END:VEVENT
BEGIN:VEVENT
UID:20260423T112559CEST-6983ULZKML@85.13.129.106
DTSTAMP:20260423T092559Z
DESCRIPTION:
DTSTART;TZID=Europe/Berlin:20150417T170000
DTEND;TZID=Europe/Berlin:20150417T174500
LOCATION:
SUMMARY:14/15 D2-Jun. KOL: SC 06 Oberlind D - FC-BW Schalkau D2
END:VEVENT
BEGIN:VEVENT
UID:20260423T112559CEST-6987hSznBu@85.13.129.106
DTSTAMP:20260423T092559Z
DESCRIPTION:
DTSTART;TZID=Europe/Berlin:20150424T173000
DTEND;TZID=Europe/Berlin:20150424T181500
LOCATION:
SUMMARY:14/15 D2-Jun. KOL: FSV 07 Lauscha D - SC 06 Oberlind D
END:VEVENT
BEGIN:VEVENT
UID:20260423T112559CEST-6992n8nR8k@85.13.129.106
DTSTAMP:20260423T092559Z
DESCRIPTION:
DTSTART;TZID=Europe/Berlin:20150503T103000
DTEND;TZID=Europe/Berlin:20150503T111500
LOCATION:
SUMMARY:14/15 D2-Jun. KOL: FSV 06 Eintr. Hildburghausen D - SC 06 Oberlind 
 D
END:VEVENT
BEGIN:VEVENT
UID:20260423T112559CEST-69969Uf59J@85.13.129.106
DTSTAMP:20260423T092559Z
DESCRIPTION:
DTSTART;TZID=Europe/Berlin:20150510T103000
DTEND;TZID=Europe/Berlin:20150510T111500
LOCATION:
SUMMARY:14/15 D2-Jun. KOL: Erlauer SV Grün-Weiß D - SC 06 Oberlind D
END:VEVENT
BEGIN:VEVENT
UID:20260423T112559CEST-7000CVgvmb@85.13.129.106
DTSTAMP:20260423T092559Z
DESCRIPTION:
DTSTART;TZID=Europe/Berlin:20150515T170000
DTEND;TZID=Europe/Berlin:20150515T174500
LOCATION:
SUMMARY:14/15 D2-Jun. KOL: SG 1. FC Sonneberg 04 D2 - SC 06 Oberlind D
END:VEVENT
BEGIN:VEVENT
UID:20260423T112559CEST-7005VeKTS0@85.13.129.106
DTSTAMP:20260423T092559Z
DESCRIPTION:
DTSTART;TZID=Europe/Berlin:20150531T103000
DTEND;TZID=Europe/Berlin:20150531T111500
LOCATION:
SUMMARY:14/15 D2-Jun. KOL: SC 06 Oberlind D - SV Eintracht Oberland D
END:VEVENT
BEGIN:VEVENT
UID:20260423T112559CEST-7009OBuUsV@85.13.129.106
DTSTAMP:20260423T092559Z
DESCRIPTION:
DTSTART;TZID=Europe/Berlin:20150606T130000
DTEND;TZID=Europe/Berlin:20150606T134500
LOCATION:
SUMMARY:14/15 D2-Jun. KOL: SG Römhild D - SC 06 Oberlind D
END:VEVENT
BEGIN:VEVENT
UID:20260423T112559CEST-7013J0CNwU@85.13.129.106
DTSTAMP:20260423T092559Z
DESCRIPTION:Schalkau
DTSTART;TZID=Europe/Berlin:20150612T170000
DTEND;TZID=Europe/Berlin:20150612T174500
LOCATION:Katzberger Straße 6\n96528 Schalkau\, 96528 Schalkau
SUMMARY:14/15 D2-Jun. KOL: FC-BW Schalkau D2 - SC 06 Oberlind D
END:VEVENT
BEGIN:VEVENT
UID:20260423T112559CEST-7018fBtVDf@85.13.129.106
DTSTAMP:20260423T092559Z
DESCRIPTION:Schalkau
DTSTART;TZID=Europe/Berlin:20150619T180000
DTEND;TZID=Europe/Berlin:20150619T184500
LOCATION:Katzberger Straße 6\n96528 Schalkau\, 96528 Schalkau
SUMMARY:14/15 D2-Jun. KOL: SC 06 Oberlind D - FSV 07 Lauscha D
END:VEVENT
END:VCALENDAR
